BEGIN:VCALENDAR
VERSION:2.0
PRODID:-//Yennadon Elementary - ECPv6.15.17//NONSGML v1.0//EN
CALSCALE:GREGORIAN
METHOD:PUBLISH
X-WR-CALNAME:Yennadon Elementary
X-ORIGINAL-URL:https://elementary.sd42.ca/yennadon
X-WR-CALDESC:Events for Yennadon Elementary
REFRESH-INTERVAL;VALUE=DURATION:PT1H
X-Robots-Tag:noindex
X-PUBLISHED-TTL:PT1H
BEGIN:VTIMEZONE
TZID:America/Vancouver
BEGIN:DAYLIGHT
TZOFFSETFROM:-0800
TZOFFSETTO:-0700
TZNAME:PDT
DTSTART:20210314T100000
END:DAYLIGHT
BEGIN:STANDARD
TZOFFSETFROM:-0700
TZOFFSETTO:-0800
TZNAME:PST
DTSTART:20211107T090000
END:STANDARD
BEGIN:DAYLIGHT
TZOFFSETFROM:-0800
TZOFFSETTO:-0700
TZNAME:PDT
DTSTART:20220313T100000
END:DAYLIGHT
BEGIN:STANDARD
TZOFFSETFROM:-0700
TZOFFSETTO:-0800
TZNAME:PST
DTSTART:20221106T090000
END:STANDARD
BEGIN:DAYLIGHT
TZOFFSETFROM:-0800
TZOFFSETTO:-0700
TZNAME:PDT
DTSTART:20230312T100000
END:DAYLIGHT
BEGIN:STANDARD
TZOFFSETFROM:-0700
TZOFFSETTO:-0800
TZNAME:PST
DTSTART:20231105T090000
END:STANDARD
END:VTIMEZONE
BEGIN:VEVENT
DTSTART;TZID=America/Vancouver:20220201T190000
DTEND;TZID=America/Vancouver:20220201T200000
DTSTAMP:20260419T065235
CREATED:20220117T173816Z
LAST-MODIFIED:20220117T173816Z
UID:3664-1643742000-1643745600@elementary.sd42.ca
SUMMARY:PAC Meeting
DESCRIPTION:Via Zoom
URL:https://elementary.sd42.ca/yennadon/event/pac-meeting-23/
END:VEVENT
BEGIN:VEVENT
DTSTART;TZID=America/Vancouver:20220202T080000
DTEND;TZID=America/Vancouver:20220202T090000
DTSTAMP:20260419T065235
CREATED:20220117T174826Z
LAST-MODIFIED:20220117T174826Z
UID:3674-1643788800-1643792400@elementary.sd42.ca
SUMMARY:February Assembly
DESCRIPTION:
URL:https://elementary.sd42.ca/yennadon/event/february-assembly-5/
END:VEVENT
BEGIN:VEVENT
DTSTART;TZID=America/Vancouver:20220202T120000
DTEND;TZID=America/Vancouver:20220208T120000
DTSTAMP:20260419T065235
CREATED:20220117T173307Z
LAST-MODIFIED:20220117T173307Z
UID:3662-1643803200-1644321600@elementary.sd42.ca
SUMMARY:Kindergarten General Registration
DESCRIPTION:
URL:https://elementary.sd42.ca/yennadon/event/kindergarten-general-registration/
END:VEVENT
BEGIN:VEVENT
DTSTART;TZID=America/Vancouver:20220203T120000
DTEND;TZID=America/Vancouver:20220218T120000
DTSTAMP:20260419T065235
CREATED:20220117T174156Z
LAST-MODIFIED:20220117T174156Z
UID:3666-1643889600-1645185600@elementary.sd42.ca
SUMMARY:Grade 8 Registration
DESCRIPTION:https://www.sd42.ca/student-registration/grade-8-registration-info-2022-23/ \n 
URL:https://elementary.sd42.ca/yennadon/event/grade-8-registration-2/
END:VEVENT
BEGIN:VEVENT
DTSTART;VALUE=DATE:20220221
DTEND;VALUE=DATE:20220222
DTSTAMP:20260419T065235
CREATED:20210708T170329Z
LAST-MODIFIED:20220202T212907Z
UID:3252-1645401600-1645487999@elementary.sd42.ca
SUMMARY:Family Day
DESCRIPTION:Statutory holiday. School not in session.
URL:https://elementary.sd42.ca/yennadon/event/family-day-5/
CATEGORIES:district calendar
END:VEVENT
BEGIN:VEVENT
DTSTART;VALUE=DATE:20220222
DTEND;VALUE=DATE:20220223
DTSTAMP:20260419T065235
CREATED:20210708T170330Z
LAST-MODIFIED:20220202T212907Z
UID:3253-1645488000-1645574399@elementary.sd42.ca
SUMMARY:Non-instructional day (school-based)
DESCRIPTION:School not in session.
URL:https://elementary.sd42.ca/yennadon/event/non-instructional-day-school-based-8/
CATEGORIES:district calendar
END:VEVENT
BEGIN:VEVENT
DTSTART;VALUE=DATE:20220223
DTEND;VALUE=DATE:20220224
DTSTAMP:20260419T065235
CREATED:20220117T174615Z
LAST-MODIFIED:20220117T174615Z
UID:3668-1645574400-1645660799@elementary.sd42.ca
SUMMARY:Pink Shirt Day
DESCRIPTION:
URL:https://elementary.sd42.ca/yennadon/event/pink-shirt-day-5/
END:VEVENT
BEGIN:VEVENT
DTSTART;VALUE=DATE:20220223
DTEND;VALUE=DATE:20220226
DTSTAMP:20260419T065235
CREATED:20220223T155504Z
LAST-MODIFIED:20220223T155504Z
UID:3760-1645574400-1645833599@elementary.sd42.ca
SUMMARY:Jump Rope for Heart Activities
DESCRIPTION:Dance\, Movement and Body Breaks
URL:https://elementary.sd42.ca/yennadon/event/jump-rope-for-heart-activities/
END:VEVENT
END:VCALENDAR