BEGIN:VCALENDAR
VERSION:2.0
PRODID:-//Yennadon Elementary - ECPv6.15.17//NONSGML v1.0//EN
CALSCALE:GREGORIAN
METHOD:PUBLISH
X-WR-CALNAME:Yennadon Elementary
X-ORIGINAL-URL:https://elementary.sd42.ca/yennadon
X-WR-CALDESC:Events for Yennadon Elementary
REFRESH-INTERVAL;VALUE=DURATION:PT1H
X-Robots-Tag:noindex
X-PUBLISHED-TTL:PT1H
BEGIN:VTIMEZONE
TZID:America/Vancouver
BEGIN:DAYLIGHT
TZOFFSETFROM:-0800
TZOFFSETTO:-0700
TZNAME:PDT
DTSTART:20190310T100000
END:DAYLIGHT
BEGIN:STANDARD
TZOFFSETFROM:-0700
TZOFFSETTO:-0800
TZNAME:PST
DTSTART:20191103T090000
END:STANDARD
BEGIN:DAYLIGHT
TZOFFSETFROM:-0800
TZOFFSETTO:-0700
TZNAME:PDT
DTSTART:20200308T100000
END:DAYLIGHT
BEGIN:STANDARD
TZOFFSETFROM:-0700
TZOFFSETTO:-0800
TZNAME:PST
DTSTART:20201101T090000
END:STANDARD
BEGIN:DAYLIGHT
TZOFFSETFROM:-0800
TZOFFSETTO:-0700
TZNAME:PDT
DTSTART:20210314T100000
END:DAYLIGHT
BEGIN:STANDARD
TZOFFSETFROM:-0700
TZOFFSETTO:-0800
TZNAME:PST
DTSTART:20211107T090000
END:STANDARD
END:VTIMEZONE
BEGIN:VEVENT
DTSTART;VALUE=DATE:20200403
DTEND;VALUE=DATE:20200404
DTSTAMP:20260421T062422
CREATED:20200304T175927Z
LAST-MODIFIED:20200304T175927Z
UID:2321-1585872000-1585958399@elementary.sd42.ca
SUMMARY:Grade 4/5 Book Tasting
DESCRIPTION:On the Stage
URL:https://elementary.sd42.ca/yennadon/event/grade-4-5-book-tasting-2/
END:VEVENT
BEGIN:VEVENT
DTSTART;TZID=America/Vancouver:20200406T130000
DTEND;TZID=America/Vancouver:20200406T140000
DTSTAMP:20260421T062422
CREATED:20191119T205842Z
LAST-MODIFIED:20191119T205842Z
UID:2011-1586178000-1586181600@elementary.sd42.ca
SUMMARY:Multi Age Rotations
DESCRIPTION:
URL:https://elementary.sd42.ca/yennadon/event/multi-age-rotations-4/
END:VEVENT
BEGIN:VEVENT
DTSTART;VALUE=DATE:20200407
DTEND;VALUE=DATE:20200408
DTSTAMP:20260421T062422
CREATED:20200304T180024Z
LAST-MODIFIED:20200304T180024Z
UID:2323-1586217600-1586303999@elementary.sd42.ca
SUMMARY:Division 6 to SFU
DESCRIPTION:
URL:https://elementary.sd42.ca/yennadon/event/division-6-to-sfu/
END:VEVENT
BEGIN:VEVENT
DTSTART;TZID=America/Vancouver:20200408T090000
DTEND;TZID=America/Vancouver:20200408T100000
DTSTAMP:20260421T062422
CREATED:20191106T180823Z
LAST-MODIFIED:20191106T180823Z
UID:1875-1586336400-1586340000@elementary.sd42.ca
SUMMARY:April Assembly
DESCRIPTION:
URL:https://elementary.sd42.ca/yennadon/event/april-assembly-3/
END:VEVENT
BEGIN:VEVENT
DTSTART;VALUE=DATE:20200410
DTEND;VALUE=DATE:20200411
DTSTAMP:20260421T062422
CREATED:20180528T213830Z
LAST-MODIFIED:20180528T213830Z
UID:912-1586476800-1586563199@elementary.sd42.ca
SUMMARY:Good Friday
DESCRIPTION:Statutory holiday. School not in session.
URL:https://elementary.sd42.ca/yennadon/event/good-friday-3/
CATEGORIES:district calendar
END:VEVENT
BEGIN:VEVENT
DTSTART;VALUE=DATE:20200413
DTEND;VALUE=DATE:20200414
DTSTAMP:20260421T062422
CREATED:20180528T213832Z
LAST-MODIFIED:20180528T213832Z
UID:913-1586736000-1586822399@elementary.sd42.ca
SUMMARY:Easter Monday
DESCRIPTION:Statutory holiday. School not in session.
URL:https://elementary.sd42.ca/yennadon/event/easter-monday-3/
CATEGORIES:district calendar
END:VEVENT
BEGIN:VEVENT
DTSTART;TZID=America/Vancouver:20200414T120000
DTEND;TZID=America/Vancouver:20200414T140000
DTSTAMP:20260421T062422
CREATED:20200206T183247Z
LAST-MODIFIED:20200206T183247Z
UID:2262-1586865600-1586872800@elementary.sd42.ca
SUMMARY:Divisions 14 & 15 to The Act
DESCRIPTION:Annie Jr.
URL:https://elementary.sd42.ca/yennadon/event/divisions-14-15-to-the-act/
END:VEVENT
BEGIN:VEVENT
DTSTART;TZID=America/Vancouver:20200414T193000
DTEND;TZID=America/Vancouver:20200414T213000
DTSTAMP:20260421T062422
CREATED:20191106T180853Z
LAST-MODIFIED:20191106T180853Z
UID:1877-1586892600-1586899800@elementary.sd42.ca
SUMMARY:PAC Meeting
DESCRIPTION:In Library
URL:https://elementary.sd42.ca/yennadon/event/pac-meeting-16/
END:VEVENT
BEGIN:VEVENT
DTSTART;VALUE=DATE:20200415
DTEND;VALUE=DATE:20200416
DTSTAMP:20260421T062422
CREATED:20200206T183323Z
LAST-MODIFIED:20200206T183323Z
UID:2264-1586908800-1586995199@elementary.sd42.ca
SUMMARY:D.E.A.R. (School-Wide)
DESCRIPTION:
URL:https://elementary.sd42.ca/yennadon/event/d-e-a-r-school-wide-2/
END:VEVENT
BEGIN:VEVENT
DTSTART;VALUE=DATE:20200415
DTEND;VALUE=DATE:20200416
DTSTAMP:20260421T062422
CREATED:20200206T183340Z
LAST-MODIFIED:20200206T183340Z
UID:2266-1586908800-1586995199@elementary.sd42.ca
SUMMARY:Spirit Day!
DESCRIPTION:
URL:https://elementary.sd42.ca/yennadon/event/spirit-day/
END:VEVENT
BEGIN:VEVENT
DTSTART;TZID=America/Vancouver:20200417T120000
DTEND;TZID=America/Vancouver:20200417T130000
DTSTAMP:20260421T062422
CREATED:20191106T180935Z
LAST-MODIFIED:20191106T180935Z
UID:1879-1587124800-1587128400@elementary.sd42.ca
SUMMARY:Pizza Hot Lunch
DESCRIPTION:
URL:https://elementary.sd42.ca/yennadon/event/pizza-hot-lunch-17/
END:VEVENT
BEGIN:VEVENT
DTSTART;TZID=America/Vancouver:20200417T130000
DTEND;TZID=America/Vancouver:20200417T140000
DTSTAMP:20260421T062422
CREATED:20200121T153646Z
LAST-MODIFIED:20200121T153646Z
UID:2175-1587128400-1587132000@elementary.sd42.ca
SUMMARY:ArtStarts Performance
DESCRIPTION:Goh Ballet in the Gym.
URL:https://elementary.sd42.ca/yennadon/event/artstarts-performance/
END:VEVENT
BEGIN:VEVENT
DTSTART;TZID=America/Vancouver:20200421T143000
DTEND;TZID=America/Vancouver:20200421T163000
DTSTAMP:20260421T062422
CREATED:20191106T181034Z
LAST-MODIFIED:20200420T151016Z
UID:1881-1587479400-1587486600@elementary.sd42.ca
SUMMARY:CANCELLED:  Kindergarten Orientation
DESCRIPTION:
URL:https://elementary.sd42.ca/yennadon/event/kindergarten-orientation/
END:VEVENT
BEGIN:VEVENT
DTSTART;VALUE=DATE:20200422
DTEND;VALUE=DATE:20200423
DTSTAMP:20260421T062422
CREATED:20191106T181056Z
LAST-MODIFIED:20191106T181056Z
UID:1883-1587513600-1587599999@elementary.sd42.ca
SUMMARY:Earth Day
DESCRIPTION:
URL:https://elementary.sd42.ca/yennadon/event/earth-day/
END:VEVENT
END:VCALENDAR