BEGIN:VCALENDAR
VERSION:2.0
PRODID:-//Yennadon Elementary - ECPv6.15.17//NONSGML v1.0//EN
CALSCALE:GREGORIAN
METHOD:PUBLISH
X-WR-CALNAME:Yennadon Elementary
X-ORIGINAL-URL:https://elementary.sd42.ca/yennadon
X-WR-CALDESC:Events for Yennadon Elementary
REFRESH-INTERVAL;VALUE=DURATION:PT1H
X-Robots-Tag:noindex
X-PUBLISHED-TTL:PT1H
BEGIN:VTIMEZONE
TZID:America/Vancouver
BEGIN:DAYLIGHT
TZOFFSETFROM:-0800
TZOFFSETTO:-0700
TZNAME:PDT
DTSTART:20170312T100000
END:DAYLIGHT
BEGIN:STANDARD
TZOFFSETFROM:-0700
TZOFFSETTO:-0800
TZNAME:PST
DTSTART:20171105T090000
END:STANDARD
BEGIN:DAYLIGHT
TZOFFSETFROM:-0800
TZOFFSETTO:-0700
TZNAME:PDT
DTSTART:20180311T100000
END:DAYLIGHT
BEGIN:STANDARD
TZOFFSETFROM:-0700
TZOFFSETTO:-0800
TZNAME:PST
DTSTART:20181104T090000
END:STANDARD
BEGIN:DAYLIGHT
TZOFFSETFROM:-0800
TZOFFSETTO:-0700
TZNAME:PDT
DTSTART:20190310T100000
END:DAYLIGHT
BEGIN:STANDARD
TZOFFSETFROM:-0700
TZOFFSETTO:-0800
TZNAME:PST
DTSTART:20191103T090000
END:STANDARD
END:VTIMEZONE
BEGIN:VEVENT
DTSTART;TZID=America/Vancouver:20180110T090000
DTEND;TZID=America/Vancouver:20180110T093000
DTSTAMP:20260421T091513
CREATED:20170930T223850Z
LAST-MODIFIED:20170930T223850Z
UID:441-1515574800-1515576600@elementary.sd42.ca
SUMMARY:January Assembly
DESCRIPTION:
URL:https://elementary.sd42.ca/yennadon/event/january-assembly/
END:VEVENT
BEGIN:VEVENT
DTSTART;VALUE=DATE:20180116
DTEND;VALUE=DATE:20180117
DTSTAMP:20260421T091513
CREATED:20180115T045337Z
LAST-MODIFIED:20180115T045337Z
UID:606-1516060800-1516147199@elementary.sd42.ca
SUMMARY:Divisions 8 & 11 to Vancouver Aquarium
DESCRIPTION:
URL:https://elementary.sd42.ca/yennadon/event/divisions-8-11-to-vancouver-aquarium/
END:VEVENT
BEGIN:VEVENT
DTSTART;VALUE=DATE:20180118
DTEND;VALUE=DATE:20180119
DTSTAMP:20260421T091513
CREATED:20171210T213700Z
LAST-MODIFIED:20171210T213700Z
UID:595-1516233600-1516319999@elementary.sd42.ca
SUMMARY:Skating at Planet Ice for Divisions 1\, 11\, 15\, 24 - morning
DESCRIPTION:
URL:https://elementary.sd42.ca/yennadon/event/skating-at-planet-ice-for-divisions-1-11-15-24-morning/
END:VEVENT
BEGIN:VEVENT
DTSTART;TZID=America/Vancouver:20180118T183000
DTEND;TZID=America/Vancouver:20180118T203000
DTSTAMP:20260421T091513
CREATED:20180115T045507Z
LAST-MODIFIED:20180115T045507Z
UID:608-1516300200-1516307400@elementary.sd42.ca
SUMMARY:PAC Family Movie Night Fundraiser
DESCRIPTION:Hollywood 3 Cinemas – Pitt Meadows
URL:https://elementary.sd42.ca/yennadon/event/pac-family-movie-night-fundraiser/
END:VEVENT
BEGIN:VEVENT
DTSTART;VALUE=DATE:20180119
DTEND;VALUE=DATE:20180120
DTSTAMP:20260421T091513
CREATED:20170930T220248Z
LAST-MODIFIED:20170930T220248Z
UID:376-1516320000-1516406399@elementary.sd42.ca
SUMMARY:Pizza Hot Lunch Day
DESCRIPTION:Please Note:  $5 day of (no pre-orders)
URL:https://elementary.sd42.ca/yennadon/event/pizza-hot-lunch-day-5/
END:VEVENT
BEGIN:VEVENT
DTSTART;VALUE=DATE:20180125
DTEND;VALUE=DATE:20180126
DTSTAMP:20260421T091513
CREATED:20180115T045704Z
LAST-MODIFIED:20180115T045704Z
UID:610-1516838400-1516924799@elementary.sd42.ca
SUMMARY:Division 16 to Wayland Sports for Gymnastics - afternoon
DESCRIPTION:
URL:https://elementary.sd42.ca/yennadon/event/division-16-to-wayland-sports-for-gymnastics-afternoon/
END:VEVENT
BEGIN:VEVENT
DTSTART;TZID=America/Vancouver:20180130T193000
DTEND;TZID=America/Vancouver:20180130T203000
DTSTAMP:20260421T091513
CREATED:20170930T221721Z
LAST-MODIFIED:20170930T221721Z
UID:406-1517340600-1517344200@elementary.sd42.ca
SUMMARY:PAC Meeting
DESCRIPTION:
URL:https://elementary.sd42.ca/yennadon/event/pac-meeting-5/
END:VEVENT
END:VCALENDAR