BEGIN:VCALENDAR
VERSION:2.0
PRODID:-//Yennadon Elementary - ECPv6.15.17//NONSGML v1.0//EN
CALSCALE:GREGORIAN
METHOD:PUBLISH
X-WR-CALNAME:Yennadon Elementary
X-ORIGINAL-URL:https://elementary.sd42.ca/yennadon
X-WR-CALDESC:Events for Yennadon Elementary
REFRESH-INTERVAL;VALUE=DURATION:PT1H
X-Robots-Tag:noindex
X-PUBLISHED-TTL:PT1H
BEGIN:VTIMEZONE
TZID:America/Vancouver
BEGIN:DAYLIGHT
TZOFFSETFROM:-0800
TZOFFSETTO:-0700
TZNAME:PDT
DTSTART:20160313T100000
END:DAYLIGHT
BEGIN:STANDARD
TZOFFSETFROM:-0700
TZOFFSETTO:-0800
TZNAME:PST
DTSTART:20161106T090000
END:STANDARD
BEGIN:DAYLIGHT
TZOFFSETFROM:-0800
TZOFFSETTO:-0700
TZNAME:PDT
DTSTART:20170312T100000
END:DAYLIGHT
BEGIN:STANDARD
TZOFFSETFROM:-0700
TZOFFSETTO:-0800
TZNAME:PST
DTSTART:20171105T090000
END:STANDARD
BEGIN:DAYLIGHT
TZOFFSETFROM:-0800
TZOFFSETTO:-0700
TZNAME:PDT
DTSTART:20180311T100000
END:DAYLIGHT
BEGIN:STANDARD
TZOFFSETFROM:-0700
TZOFFSETTO:-0800
TZNAME:PST
DTSTART:20181104T090000
END:STANDARD
END:VTIMEZONE
BEGIN:VEVENT
DTSTART;TZID=America/Vancouver:20171101T090000
DTEND;TZID=America/Vancouver:20171101T093000
DTSTAMP:20260419T065131
CREATED:20170930T222825Z
LAST-MODIFIED:20170930T222825Z
UID:425-1509526800-1509528600@elementary.sd42.ca
SUMMARY:November Assembly
DESCRIPTION:
URL:https://elementary.sd42.ca/yennadon/event/november-assembly/
END:VEVENT
BEGIN:VEVENT
DTSTART;VALUE=DATE:20171103
DTEND;VALUE=DATE:20171104
DTSTAMP:20260419T065131
CREATED:20170930T220837Z
LAST-MODIFIED:20170930T220837Z
UID:388-1509667200-1509753599@elementary.sd42.ca
SUMMARY:Extra Hot Lunch Day
DESCRIPTION:Please Note:  Must pre-order online with Munch-a-Lunch
URL:https://elementary.sd42.ca/yennadon/event/extra-hot-lunch-day/
END:VEVENT
BEGIN:VEVENT
DTSTART;VALUE=DATE:20171106
DTEND;VALUE=DATE:20171107
DTSTAMP:20260419T065131
CREATED:20171027T194911Z
LAST-MODIFIED:20181025T214546Z
UID:506-1509926400-1510012799@elementary.sd42.ca
SUMMARY:Division 22 to Bird Sanctuary - all day
DESCRIPTION:
URL:https://elementary.sd42.ca/yennadon/event/division-22-to-bird-sanctuary-all-day/
END:VEVENT
BEGIN:VEVENT
DTSTART;TZID=America/Vancouver:20171108T084500
DTEND;TZID=America/Vancouver:20171108T101500
DTSTAMP:20260419T065131
CREATED:20171027T195054Z
LAST-MODIFIED:20171027T195054Z
UID:508-1510130700-1510136100@elementary.sd42.ca
SUMMARY:Skating at Planet Ice - Divisions 12 & 21
DESCRIPTION:
URL:https://elementary.sd42.ca/yennadon/event/skating-at-planet-ice-divisions-12-21/
END:VEVENT
BEGIN:VEVENT
DTSTART;VALUE=DATE:20171115
DTEND;VALUE=DATE:20171116
DTSTAMP:20260419T065131
CREATED:20171027T195309Z
LAST-MODIFIED:20171027T195309Z
UID:510-1510704000-1510790399@elementary.sd42.ca
SUMMARY:Purdy's Chocolate Orders Deadline
DESCRIPTION:
URL:https://elementary.sd42.ca/yennadon/event/purdys-chocolate-orders-deadline/
END:VEVENT
BEGIN:VEVENT
DTSTART;TZID=America/Vancouver:20171116T084500
DTEND;TZID=America/Vancouver:20171116T101500
DTSTAMP:20260419T065131
CREATED:20171027T195431Z
LAST-MODIFIED:20171027T195431Z
UID:512-1510821900-1510827300@elementary.sd42.ca
SUMMARY:Skating at Planet Ice - Divisions 8\, 9\, 14\, 22
DESCRIPTION:
URL:https://elementary.sd42.ca/yennadon/event/skating-at-planet-ice-divisions-8-9-14-22/
END:VEVENT
BEGIN:VEVENT
DTSTART;VALUE=DATE:20171117
DTEND;VALUE=DATE:20171118
DTSTAMP:20260419T065131
CREATED:20170930T220127Z
LAST-MODIFIED:20170930T220127Z
UID:372-1510876800-1510963199@elementary.sd42.ca
SUMMARY:Pizza Hot Lunch Day
DESCRIPTION:Please Note:  $5 day of (no pre-orders)
URL:https://elementary.sd42.ca/yennadon/event/pizza-hot-lunch-day-3/
END:VEVENT
BEGIN:VEVENT
DTSTART;VALUE=DATE:20171117
DTEND;VALUE=DATE:20171118
DTSTAMP:20260419T065131
CREATED:20171027T195522Z
LAST-MODIFIED:20171102T165936Z
UID:514-1510876800-1510963199@elementary.sd42.ca
SUMMARY:Divisions 1-6 to Golden Ears Park - all day
DESCRIPTION:
URL:https://elementary.sd42.ca/yennadon/event/divisions-1-2-3-4-5-6-to-golden-ears-park-all-day/
END:VEVENT
BEGIN:VEVENT
DTSTART;VALUE=DATE:20171121
DTEND;VALUE=DATE:20171122
DTSTAMP:20260419T065131
CREATED:20171027T195849Z
LAST-MODIFIED:20171027T195849Z
UID:516-1511222400-1511308799@elementary.sd42.ca
SUMMARY:Divisions 13 & 14 to Rev's Bowling Alley - afternoon
DESCRIPTION:
URL:https://elementary.sd42.ca/yennadon/event/divisions-13-14-to-revs-bowling-alley-afternoon/
END:VEVENT
BEGIN:VEVENT
DTSTART;VALUE=DATE:20171121
DTEND;VALUE=DATE:20171122
DTSTAMP:20260419T065131
CREATED:20171102T170109Z
LAST-MODIFIED:20171102T170109Z
UID:531-1511222400-1511308799@elementary.sd42.ca
SUMMARY:Divisions 23 and 26 to Fish Hatchery - morning
DESCRIPTION:
URL:https://elementary.sd42.ca/yennadon/event/divisions-23-and-26-to-fish-hatchery-morning/
END:VEVENT
BEGIN:VEVENT
DTSTART;TZID=America/Vancouver:20171122T122000
DTEND;TZID=America/Vancouver:20171122T124000
DTSTAMP:20260419T065131
CREATED:20171027T200110Z
LAST-MODIFIED:20171027T200110Z
UID:520-1511353200-1511354400@elementary.sd42.ca
SUMMARY:Hot Chocolate Day - bring a mug
DESCRIPTION:
URL:https://elementary.sd42.ca/yennadon/event/hot-chocolate-day-bring-a-mug/
END:VEVENT
BEGIN:VEVENT
DTSTART;VALUE=DATE:20171128
DTEND;VALUE=DATE:20171129
DTSTAMP:20260419T065131
CREATED:20171127T021723Z
LAST-MODIFIED:20171127T021723Z
UID:550-1511827200-1511913599@elementary.sd42.ca
SUMMARY:Divisions 24 & 25 to Bell Irving Hatchery - morning
DESCRIPTION:
URL:https://elementary.sd42.ca/yennadon/event/divisions-24-25-to-bell-irving-hatchery-morning/
END:VEVENT
BEGIN:VEVENT
DTSTART;VALUE=DATE:20171128
DTEND;VALUE=DATE:20171129
DTSTAMP:20260419T065131
CREATED:20171127T021758Z
LAST-MODIFIED:20171127T021934Z
UID:552-1511827200-1511913599@elementary.sd42.ca
SUMMARY:Divisions 15 & 16 to Rev's Bowling Alley - morning
DESCRIPTION:
URL:https://elementary.sd42.ca/yennadon/event/divisions-15-16-to-revs-bowling-morning/
END:VEVENT
BEGIN:VEVENT
DTSTART;TZID=America/Vancouver:20171128T193000
DTEND;TZID=America/Vancouver:20171128T203000
DTSTAMP:20260419T065131
CREATED:20170930T221603Z
LAST-MODIFIED:20171102T170224Z
UID:402-1511897400-1511901000@elementary.sd42.ca
SUMMARY:PAC Meeting (Annex Tour)
DESCRIPTION:Location:  Yennadon Annex
URL:https://elementary.sd42.ca/yennadon/event/pac-meeting-3/
END:VEVENT
BEGIN:VEVENT
DTSTART;TZID=America/Vancouver:20171130T190000
DTEND;TZID=America/Vancouver:20171130T200000
DTSTAMP:20260419T065131
CREATED:20170930T223246Z
LAST-MODIFIED:20171102T170333Z
UID:430-1512068400-1512072000@elementary.sd42.ca
SUMMARY:DPAC Meeting (Annex Tour)
DESCRIPTION:Location:  Yennadon Annex
URL:https://elementary.sd42.ca/yennadon/event/dpac-meeting-at-yennadon-annex/
END:VEVENT
END:VCALENDAR