BEGIN:VCALENDAR
VERSION:2.0
PRODID:-//Yennadon Elementary - ECPv6.15.17//NONSGML v1.0//EN
CALSCALE:GREGORIAN
METHOD:PUBLISH
X-WR-CALNAME:Yennadon Elementary
X-ORIGINAL-URL:https://elementary.sd42.ca/yennadon
X-WR-CALDESC:Events for Yennadon Elementary
REFRESH-INTERVAL;VALUE=DURATION:PT1H
X-Robots-Tag:noindex
X-PUBLISHED-TTL:PT1H
BEGIN:VTIMEZONE
TZID:America/Vancouver
BEGIN:DAYLIGHT
TZOFFSETFROM:-0800
TZOFFSETTO:-0700
TZNAME:PDT
DTSTART:20160313T100000
END:DAYLIGHT
BEGIN:STANDARD
TZOFFSETFROM:-0700
TZOFFSETTO:-0800
TZNAME:PST
DTSTART:20161106T090000
END:STANDARD
BEGIN:DAYLIGHT
TZOFFSETFROM:-0800
TZOFFSETTO:-0700
TZNAME:PDT
DTSTART:20170312T100000
END:DAYLIGHT
BEGIN:STANDARD
TZOFFSETFROM:-0700
TZOFFSETTO:-0800
TZNAME:PST
DTSTART:20171105T090000
END:STANDARD
BEGIN:DAYLIGHT
TZOFFSETFROM:-0800
TZOFFSETTO:-0700
TZNAME:PDT
DTSTART:20180311T100000
END:DAYLIGHT
BEGIN:STANDARD
TZOFFSETFROM:-0700
TZOFFSETTO:-0800
TZNAME:PST
DTSTART:20181104T090000
END:STANDARD
END:VTIMEZONE
BEGIN:VEVENT
DTSTART;VALUE=DATE:20171121
DTEND;VALUE=DATE:20171122
DTSTAMP:20260419T191149
CREATED:20171102T170109Z
LAST-MODIFIED:20171102T170109Z
UID:531-1511222400-1511308799@elementary.sd42.ca
SUMMARY:Divisions 23 and 26 to Fish Hatchery - morning
DESCRIPTION:
URL:https://elementary.sd42.ca/yennadon/event/divisions-23-and-26-to-fish-hatchery-morning/
END:VEVENT
BEGIN:VEVENT
DTSTART;VALUE=DATE:20171121
DTEND;VALUE=DATE:20171122
DTSTAMP:20260419T191149
CREATED:20171027T195849Z
LAST-MODIFIED:20171027T195849Z
UID:516-1511222400-1511308799@elementary.sd42.ca
SUMMARY:Divisions 13 & 14 to Rev's Bowling Alley - afternoon
DESCRIPTION:
URL:https://elementary.sd42.ca/yennadon/event/divisions-13-14-to-revs-bowling-alley-afternoon/
END:VEVENT
BEGIN:VEVENT
DTSTART;VALUE=DATE:20171117
DTEND;VALUE=DATE:20171118
DTSTAMP:20260419T191149
CREATED:20171027T195522Z
LAST-MODIFIED:20171102T165936Z
UID:514-1510876800-1510963199@elementary.sd42.ca
SUMMARY:Divisions 1-6 to Golden Ears Park - all day
DESCRIPTION:
URL:https://elementary.sd42.ca/yennadon/event/divisions-1-2-3-4-5-6-to-golden-ears-park-all-day/
END:VEVENT
BEGIN:VEVENT
DTSTART;VALUE=DATE:20171117
DTEND;VALUE=DATE:20171118
DTSTAMP:20260419T191149
CREATED:20170930T220127Z
LAST-MODIFIED:20170930T220127Z
UID:372-1510876800-1510963199@elementary.sd42.ca
SUMMARY:Pizza Hot Lunch Day
DESCRIPTION:Please Note:  $5 day of (no pre-orders)
URL:https://elementary.sd42.ca/yennadon/event/pizza-hot-lunch-day-3/
END:VEVENT
BEGIN:VEVENT
DTSTART;TZID=America/Vancouver:20171116T084500
DTEND;TZID=America/Vancouver:20171116T101500
DTSTAMP:20260419T191149
CREATED:20171027T195431Z
LAST-MODIFIED:20171027T195431Z
UID:512-1510821900-1510827300@elementary.sd42.ca
SUMMARY:Skating at Planet Ice - Divisions 8\, 9\, 14\, 22
DESCRIPTION:
URL:https://elementary.sd42.ca/yennadon/event/skating-at-planet-ice-divisions-8-9-14-22/
END:VEVENT
BEGIN:VEVENT
DTSTART;VALUE=DATE:20171115
DTEND;VALUE=DATE:20171116
DTSTAMP:20260419T191149
CREATED:20171027T195309Z
LAST-MODIFIED:20171027T195309Z
UID:510-1510704000-1510790399@elementary.sd42.ca
SUMMARY:Purdy's Chocolate Orders Deadline
DESCRIPTION:
URL:https://elementary.sd42.ca/yennadon/event/purdys-chocolate-orders-deadline/
END:VEVENT
BEGIN:VEVENT
DTSTART;TZID=America/Vancouver:20171108T084500
DTEND;TZID=America/Vancouver:20171108T101500
DTSTAMP:20260419T191149
CREATED:20171027T195054Z
LAST-MODIFIED:20171027T195054Z
UID:508-1510130700-1510136100@elementary.sd42.ca
SUMMARY:Skating at Planet Ice - Divisions 12 & 21
DESCRIPTION:
URL:https://elementary.sd42.ca/yennadon/event/skating-at-planet-ice-divisions-12-21/
END:VEVENT
BEGIN:VEVENT
DTSTART;VALUE=DATE:20171106
DTEND;VALUE=DATE:20171107
DTSTAMP:20260419T191149
CREATED:20171027T194911Z
LAST-MODIFIED:20181025T214546Z
UID:506-1509926400-1510012799@elementary.sd42.ca
SUMMARY:Division 22 to Bird Sanctuary - all day
DESCRIPTION:
URL:https://elementary.sd42.ca/yennadon/event/division-22-to-bird-sanctuary-all-day/
END:VEVENT
BEGIN:VEVENT
DTSTART;VALUE=DATE:20171103
DTEND;VALUE=DATE:20171104
DTSTAMP:20260419T191149
CREATED:20170930T220837Z
LAST-MODIFIED:20170930T220837Z
UID:388-1509667200-1509753599@elementary.sd42.ca
SUMMARY:Extra Hot Lunch Day
DESCRIPTION:Please Note:  Must pre-order online with Munch-a-Lunch
URL:https://elementary.sd42.ca/yennadon/event/extra-hot-lunch-day/
END:VEVENT
BEGIN:VEVENT
DTSTART;TZID=America/Vancouver:20171101T090000
DTEND;TZID=America/Vancouver:20171101T093000
DTSTAMP:20260419T191149
CREATED:20170930T222825Z
LAST-MODIFIED:20170930T222825Z
UID:425-1509526800-1509528600@elementary.sd42.ca
SUMMARY:November Assembly
DESCRIPTION:
URL:https://elementary.sd42.ca/yennadon/event/november-assembly/
END:VEVENT
BEGIN:VEVENT
DTSTART;VALUE=DATE:20171031
DTEND;VALUE=DATE:20171101
DTSTAMP:20260419T191149
CREATED:20171011T163627Z
LAST-MODIFIED:20171102T165000Z
UID:495-1509408000-1509494399@elementary.sd42.ca
SUMMARY:Divisions 1-6 to Extreme Air Park - morning
DESCRIPTION:
URL:https://elementary.sd42.ca/yennadon/event/grade-67s-to-extreme-air-park-morning/
END:VEVENT
BEGIN:VEVENT
DTSTART;VALUE=DATE:20171027
DTEND;VALUE=DATE:20171028
DTSTAMP:20260419T191149
CREATED:20170930T222739Z
LAST-MODIFIED:20170930T222739Z
UID:423-1509062400-1509148799@elementary.sd42.ca
SUMMARY:Grade 6 Immunizations - morning
DESCRIPTION:
URL:https://elementary.sd42.ca/yennadon/event/grade-6-immunizations-morning/
END:VEVENT
BEGIN:VEVENT
DTSTART;TZID=America/Vancouver:20171026T110000
DTEND;TZID=America/Vancouver:20171026T133000
DTSTAMP:20260419T191149
CREATED:20171011T162917Z
LAST-MODIFIED:20171011T162917Z
UID:489-1509015600-1509024600@elementary.sd42.ca
SUMMARY:Divisions 14\, 15\, 16 to Laity Pumpkin Patch
DESCRIPTION:
URL:https://elementary.sd42.ca/yennadon/event/divisions-14-15-16-to-laity-pumpkin-patch/
END:VEVENT
BEGIN:VEVENT
DTSTART;VALUE=DATE:20171026
DTEND;VALUE=DATE:20171027
DTSTAMP:20260419T191149
CREATED:20171011T163038Z
LAST-MODIFIED:20171011T163038Z
UID:491-1508976000-1509062399@elementary.sd42.ca
SUMMARY:Division 1 to Art's Nursery Scarecrow Festival
DESCRIPTION:
URL:https://elementary.sd42.ca/yennadon/event/division-1-to-arts-nursery-scarecrow-festival/
END:VEVENT
BEGIN:VEVENT
DTSTART;TZID=America/Vancouver:20171024T193000
DTEND;TZID=America/Vancouver:20171024T203000
DTSTAMP:20260419T191149
CREATED:20170930T221530Z
LAST-MODIFIED:20170930T221530Z
UID:400-1508873400-1508877000@elementary.sd42.ca
SUMMARY:PAC Meeting
DESCRIPTION:
URL:https://elementary.sd42.ca/yennadon/event/pac-meeting-2/
END:VEVENT
BEGIN:VEVENT
DTSTART;VALUE=DATE:20171023
DTEND;VALUE=DATE:20171024
DTSTAMP:20260419T191149
CREATED:20171011T162504Z
LAST-MODIFIED:20171011T162504Z
UID:485-1508716800-1508803199@elementary.sd42.ca
SUMMARY:Division 18 to Laity Pumpkin Patch - morning
DESCRIPTION:
URL:https://elementary.sd42.ca/yennadon/event/division-18-to-laity-pumpkin-patch-morning/
END:VEVENT
BEGIN:VEVENT
DTSTART;VALUE=DATE:20171019
DTEND;VALUE=DATE:20171020
DTSTAMP:20260419T191149
CREATED:20170930T225816Z
LAST-MODIFIED:20170930T225816Z
UID:472-1508371200-1508457599@elementary.sd42.ca
SUMMARY:Kindergartens to Laity Pumpkin Patch - morning
DESCRIPTION:
URL:https://elementary.sd42.ca/yennadon/event/kindergartens-to-laity-pumpkin-patch-morning/
END:VEVENT
BEGIN:VEVENT
DTSTART;TZID=America/Vancouver:20171018T100000
DTEND;TZID=America/Vancouver:20171018T120000
DTSTAMP:20260419T191149
CREATED:20171011T162211Z
LAST-MODIFIED:20171011T162211Z
UID:481-1508320800-1508328000@elementary.sd42.ca
SUMMARY:Division 15 to Maple Ridge Public Library
DESCRIPTION:
URL:https://elementary.sd42.ca/yennadon/event/division-15-to-maple-ridge-public-library/
END:VEVENT
BEGIN:VEVENT
DTSTART;VALUE=DATE:20171018
DTEND;VALUE=DATE:20171019
DTSTAMP:20260419T191149
CREATED:20171011T162254Z
LAST-MODIFIED:20171011T162254Z
UID:483-1508284800-1508371199@elementary.sd42.ca
SUMMARY:Division 18 to Maple Ridge Public Library - afternoon
DESCRIPTION:
URL:https://elementary.sd42.ca/yennadon/event/division-18-to-maple-ridge-public-library-afternoon/
END:VEVENT
BEGIN:VEVENT
DTSTART;TZID=America/Vancouver:20171017T100000
DTEND;TZID=America/Vancouver:20171017T140000
DTSTAMP:20260419T191149
CREATED:20170930T222439Z
LAST-MODIFIED:20170930T222439Z
UID:419-1508234400-1508248800@elementary.sd42.ca
SUMMARY:Division 20 to Tave's Family Farm
DESCRIPTION:
URL:https://elementary.sd42.ca/yennadon/event/division-20-to-taves-family-farm/
END:VEVENT
BEGIN:VEVENT
DTSTART;VALUE=DATE:20171017
DTEND;VALUE=DATE:20171018
DTSTAMP:20260419T191149
CREATED:20170930T222527Z
LAST-MODIFIED:20170930T222527Z
UID:421-1508198400-1508284799@elementary.sd42.ca
SUMMARY:Division 17 to Laity Pumpkin Patch - morning
DESCRIPTION:
URL:https://elementary.sd42.ca/yennadon/event/division-17-to-laity-pumpkin-patch-morning/
END:VEVENT
BEGIN:VEVENT
DTSTART;VALUE=DATE:20171016
DTEND;VALUE=DATE:20171017
DTSTAMP:20260419T191149
CREATED:20170930T222237Z
LAST-MODIFIED:20170930T222327Z
UID:416-1508112000-1508198399@elementary.sd42.ca
SUMMARY:Division 19 to Tave's Family Farm - morning
DESCRIPTION:
URL:https://elementary.sd42.ca/yennadon/event/division-19-field-trip-to-taves-family-farm-morning/
END:VEVENT
BEGIN:VEVENT
DTSTART;VALUE=DATE:20171013
DTEND;VALUE=DATE:20171014
DTSTAMP:20260419T191149
CREATED:20170930T215843Z
LAST-MODIFIED:20170930T220028Z
UID:370-1507852800-1507939199@elementary.sd42.ca
SUMMARY:Pizza Hot Lunch Day
DESCRIPTION:Please Note:  $5 day of (no pre-orders)
URL:https://elementary.sd42.ca/yennadon/event/pizza-hot-lunch-day-2/
END:VEVENT
BEGIN:VEVENT
DTSTART;VALUE=DATE:20171010
DTEND;VALUE=DATE:20171011
DTSTAMP:20260419T191149
CREATED:20170917T231220Z
LAST-MODIFIED:20170917T231220Z
UID:323-1507593600-1507679999@elementary.sd42.ca
SUMMARY:Division 22 to Willow Farms - morning
DESCRIPTION:
URL:https://elementary.sd42.ca/yennadon/event/division-22-to-willow-farms-morning/
END:VEVENT
BEGIN:VEVENT
DTSTART;VALUE=DATE:20170928
DTEND;VALUE=DATE:20170929
DTSTAMP:20260419T191149
CREATED:20170917T230218Z
LAST-MODIFIED:20170917T230218Z
UID:313-1506556800-1506643199@elementary.sd42.ca
SUMMARY:Division 22 to Pitt Polder - all day
DESCRIPTION:
URL:https://elementary.sd42.ca/yennadon/event/division-22-to-pitt-polder-all-day/
END:VEVENT
BEGIN:VEVENT
DTSTART;VALUE=DATE:20170926
DTEND;VALUE=DATE:20170927
DTSTAMP:20260419T191149
CREATED:20170917T230125Z
LAST-MODIFIED:20170917T230125Z
UID:311-1506384000-1506470399@elementary.sd42.ca
SUMMARY:Division 21 to Maple Ridge Art Gallery - afternoon
DESCRIPTION:
URL:https://elementary.sd42.ca/yennadon/event/division-21-to-maple-ridge-art-gallery-afternoon/
END:VEVENT
END:VCALENDAR