BEGIN:VCALENDAR
VERSION:2.0
PRODID:-//Yennadon Elementary - ECPv6.15.17//NONSGML v1.0//EN
CALSCALE:GREGORIAN
METHOD:PUBLISH
X-WR-CALNAME:Yennadon Elementary
X-ORIGINAL-URL:https://elementary.sd42.ca/yennadon
X-WR-CALDESC:Events for Yennadon Elementary
REFRESH-INTERVAL;VALUE=DURATION:PT1H
X-Robots-Tag:noindex
X-PUBLISHED-TTL:PT1H
BEGIN:VTIMEZONE
TZID:America/Vancouver
BEGIN:DAYLIGHT
TZOFFSETFROM:-0800
TZOFFSETTO:-0700
TZNAME:PDT
DTSTART:20200308T100000
END:DAYLIGHT
BEGIN:STANDARD
TZOFFSETFROM:-0700
TZOFFSETTO:-0800
TZNAME:PST
DTSTART:20201101T090000
END:STANDARD
BEGIN:DAYLIGHT
TZOFFSETFROM:-0800
TZOFFSETTO:-0700
TZNAME:PDT
DTSTART:20210314T100000
END:DAYLIGHT
BEGIN:STANDARD
TZOFFSETFROM:-0700
TZOFFSETTO:-0800
TZNAME:PST
DTSTART:20211107T090000
END:STANDARD
BEGIN:DAYLIGHT
TZOFFSETFROM:-0800
TZOFFSETTO:-0700
TZNAME:PDT
DTSTART:20220313T100000
END:DAYLIGHT
BEGIN:STANDARD
TZOFFSETFROM:-0700
TZOFFSETTO:-0800
TZNAME:PST
DTSTART:20221106T090000
END:STANDARD
BEGIN:DAYLIGHT
TZOFFSETFROM:-0800
TZOFFSETTO:-0700
TZNAME:PDT
DTSTART:20230312T100000
END:DAYLIGHT
BEGIN:STANDARD
TZOFFSETFROM:-0700
TZOFFSETTO:-0800
TZNAME:PST
DTSTART:20231105T090000
END:STANDARD
END:VTIMEZONE
BEGIN:VEVENT
DTSTART;VALUE=DATE:20220103
DTEND;VALUE=DATE:20220104
DTSTAMP:20260422T072444
CREATED:20220202T212851Z
LAST-MODIFIED:20220202T212851Z
UID:3731-1641168000-1641254399@elementary.sd42.ca
SUMMARY:School reopens after winter break
DESCRIPTION:School reopens after winter break.
URL:https://elementary.sd42.ca/yennadon/event/school-reopens-after-winter-break-5/
CATEGORIES:district calendar
END:VEVENT
BEGIN:VEVENT
DTSTART;VALUE=DATE:20211220
DTEND;VALUE=DATE:20220101
DTSTAMP:20260422T072444
CREATED:20210708T170244Z
LAST-MODIFIED:20220202T212851Z
UID:3249-1639958400-1640995199@elementary.sd42.ca
SUMMARY:Winter break
DESCRIPTION:School closed for winter break.
URL:https://elementary.sd42.ca/yennadon/event/winter-break-4/
CATEGORIES:district calendar
END:VEVENT
BEGIN:VEVENT
DTSTART;VALUE=DATE:20211217
DTEND;VALUE=DATE:20211218
DTSTAMP:20260422T072444
CREATED:20210708T170244Z
LAST-MODIFIED:20220202T212851Z
UID:3248-1639699200-1639785599@elementary.sd42.ca
SUMMARY:Last day of school before winter break
DESCRIPTION:Last day of school before winter break.
URL:https://elementary.sd42.ca/yennadon/event/last-day-of-school-before-winter-break-3/
CATEGORIES:district calendar
END:VEVENT
BEGIN:VEVENT
DTSTART;VALUE=DATE:20211112
DTEND;VALUE=DATE:20211113
DTSTAMP:20260422T072444
CREATED:20210708T170243Z
LAST-MODIFIED:20220202T212851Z
UID:3247-1636675200-1636761599@elementary.sd42.ca
SUMMARY:Non-instructional day (district-based)
DESCRIPTION:School not in session.
URL:https://elementary.sd42.ca/yennadon/event/non-instructional-day-district-based-3/
CATEGORIES:district calendar
END:VEVENT
BEGIN:VEVENT
DTSTART;VALUE=DATE:20211111
DTEND;VALUE=DATE:20211112
DTSTAMP:20260422T072444
CREATED:20210708T170241Z
LAST-MODIFIED:20220202T212848Z
UID:3246-1636588800-1636675199@elementary.sd42.ca
SUMMARY:Remembrance Day
DESCRIPTION:Statutory holiday. School not in session.
URL:https://elementary.sd42.ca/yennadon/event/remembrance-day-5/
CATEGORIES:district calendar
END:VEVENT
BEGIN:VEVENT
DTSTART;VALUE=DATE:20211022
DTEND;VALUE=DATE:20211023
DTSTAMP:20260422T072444
CREATED:20210708T170240Z
LAST-MODIFIED:20220202T212847Z
UID:3245-1634860800-1634947199@elementary.sd42.ca
SUMMARY:Non-instructional day (province-wide)
DESCRIPTION:School not in session.
URL:https://elementary.sd42.ca/yennadon/event/non-instructional-day-province-wide-5/
CATEGORIES:district calendar
END:VEVENT
BEGIN:VEVENT
DTSTART;VALUE=DATE:20211011
DTEND;VALUE=DATE:20211012
DTSTAMP:20260422T072444
CREATED:20210708T170240Z
LAST-MODIFIED:20220202T212847Z
UID:3244-1633910400-1633996799@elementary.sd42.ca
SUMMARY:Thanksgiving Day
DESCRIPTION:Statutory holiday. School not in session.
URL:https://elementary.sd42.ca/yennadon/event/thanksgiving-day-4/
CATEGORIES:district calendar
END:VEVENT
BEGIN:VEVENT
DTSTART;VALUE=DATE:20211001
DTEND;VALUE=DATE:20211002
DTSTAMP:20260422T072444
CREATED:20210708T170239Z
LAST-MODIFIED:20210827T223322Z
UID:3243-1633046400-1633132799@elementary.sd42.ca
SUMMARY:Non-instructional day (school growth planning day)
DESCRIPTION:School not in session.
URL:https://elementary.sd42.ca/yennadon/event/non-instructional-day-school-growth-planning-day-2/
CATEGORIES:district calendar
END:VEVENT
BEGIN:VEVENT
DTSTART;VALUE=DATE:20210928
DTEND;VALUE=DATE:20210929
DTSTAMP:20260422T072444
CREATED:20220202T212847Z
LAST-MODIFIED:20220202T212847Z
UID:3724-1632787200-1632873599@elementary.sd42.ca
SUMMARY:Non-instructional day (school growth planning day)
DESCRIPTION:School not in session.
URL:https://elementary.sd42.ca/yennadon/event/non-instructional-day-school-growth-planning-day-3/
CATEGORIES:district calendar
END:VEVENT
BEGIN:VEVENT
DTSTART;TZID=America/Vancouver:20210907T123000
DTEND;TZID=America/Vancouver:20210907T142500
DTSTAMP:20260422T072444
CREATED:20210708T170239Z
LAST-MODIFIED:20210829T002726Z
UID:3242-1631017800-1631024700@elementary.sd42.ca
SUMMARY:School opens following summer holidays
DESCRIPTION:School opens following summer holidays.
URL:https://elementary.sd42.ca/yennadon/event/school-opens-following-summer-holidays-4/
CATEGORIES:district calendar
END:VEVENT
BEGIN:VEVENT
DTSTART;VALUE=DATE:20210907
DTEND;VALUE=DATE:20210908
DTSTAMP:20260422T072444
CREATED:20220202T212847Z
LAST-MODIFIED:20220202T212847Z
UID:3723-1630972800-1631059199@elementary.sd42.ca
SUMMARY:School opens following summer holidays
DESCRIPTION:School opens following summer holidays.
URL:https://elementary.sd42.ca/yennadon/event/school-opens-following-summer-holidays-5/
CATEGORIES:district calendar
END:VEVENT
BEGIN:VEVENT
DTSTART;VALUE=DATE:20210701
DTEND;VALUE=DATE:20210702
DTSTAMP:20260422T072444
CREATED:20200629T230414Z
LAST-MODIFIED:20200629T230414Z
UID:2534-1625097600-1625183999@elementary.sd42.ca
SUMMARY:School closes for summer holidays
DESCRIPTION:School closes for summer holidays
URL:https://elementary.sd42.ca/yennadon/event/school-closes-for-summer-holidays-3/
CATEGORIES:district calendar
END:VEVENT
BEGIN:VEVENT
DTSTART;VALUE=DATE:20210630
DTEND;VALUE=DATE:20210701
DTSTAMP:20260422T072444
CREATED:20200629T230413Z
LAST-MODIFIED:20200629T230413Z
UID:2533-1625011200-1625097599@elementary.sd42.ca
SUMMARY:Year-end administrative day
DESCRIPTION:Year-end administrative day.
URL:https://elementary.sd42.ca/yennadon/event/year-end-administrative-day-4/
CATEGORIES:district calendar
END:VEVENT
BEGIN:VEVENT
DTSTART;VALUE=DATE:20210625
DTEND;VALUE=DATE:20210626
DTSTAMP:20260422T072444
CREATED:20210510T212013Z
LAST-MODIFIED:20210514T231820Z
UID:2532-1624579200-1624665599@elementary.sd42.ca
SUMMARY:Last day for students
DESCRIPTION:Last day of regular student attendance. 2:20 p.m. dismissal.
URL:https://elementary.sd42.ca/yennadon/event/last-day-for-students-4/
CATEGORIES:district calendar
END:VEVENT
BEGIN:VEVENT
DTSTART;VALUE=DATE:20210524
DTEND;VALUE=DATE:20210525
DTSTAMP:20260422T072444
CREATED:20200629T230412Z
LAST-MODIFIED:20200629T230412Z
UID:2531-1621814400-1621900799@elementary.sd42.ca
SUMMARY:Victoria Day
DESCRIPTION:Statutory holiday. School not in session.
URL:https://elementary.sd42.ca/yennadon/event/victoria-day-4/
CATEGORIES:district calendar
END:VEVENT
BEGIN:VEVENT
DTSTART;VALUE=DATE:20210512
DTEND;VALUE=DATE:20210513
DTSTAMP:20260422T072444
CREATED:20200629T230411Z
LAST-MODIFIED:20200629T230411Z
UID:2530-1620777600-1620863999@elementary.sd42.ca
SUMMARY:Non-instructional day (district-based)
DESCRIPTION:School not in session.
URL:https://elementary.sd42.ca/yennadon/event/non-instructional-day-district-based-2/
CATEGORIES:district calendar
END:VEVENT
BEGIN:VEVENT
DTSTART;VALUE=DATE:20210405
DTEND;VALUE=DATE:20210406
DTSTAMP:20260422T072444
CREATED:20200629T230411Z
LAST-MODIFIED:20200629T230411Z
UID:2529-1617580800-1617667199@elementary.sd42.ca
SUMMARY:Easter Monday
DESCRIPTION:School not in session.
URL:https://elementary.sd42.ca/yennadon/event/easter-monday-4/
CATEGORIES:district calendar
END:VEVENT
BEGIN:VEVENT
DTSTART;VALUE=DATE:20210402
DTEND;VALUE=DATE:20210403
DTSTAMP:20260422T072444
CREATED:20200629T230410Z
LAST-MODIFIED:20200629T230410Z
UID:2528-1617321600-1617407999@elementary.sd42.ca
SUMMARY:Good Friday
DESCRIPTION:Statutory holiday. School not in session.
URL:https://elementary.sd42.ca/yennadon/event/good-friday-4/
CATEGORIES:district calendar
END:VEVENT
BEGIN:VEVENT
DTSTART;VALUE=DATE:20210329
DTEND;VALUE=DATE:20210330
DTSTAMP:20260422T072444
CREATED:20200629T230410Z
LAST-MODIFIED:20200629T230410Z
UID:2527-1616976000-1617062399@elementary.sd42.ca
SUMMARY:School reopens after break
DESCRIPTION:School reopens after break.
URL:https://elementary.sd42.ca/yennadon/event/school-reopens-after-break-3/
CATEGORIES:district calendar
END:VEVENT
BEGIN:VEVENT
DTSTART;VALUE=DATE:20210322
DTEND;VALUE=DATE:20210327
DTSTAMP:20260422T072444
CREATED:20200629T230408Z
LAST-MODIFIED:20200629T230408Z
UID:2526-1616371200-1616803199@elementary.sd42.ca
SUMMARY:School not in session
DESCRIPTION:School not in session.
URL:https://elementary.sd42.ca/yennadon/event/school-not-in-session-7/
CATEGORIES:district calendar
END:VEVENT
BEGIN:VEVENT
DTSTART;VALUE=DATE:20210315
DTEND;VALUE=DATE:20210320
DTSTAMP:20260422T072444
CREATED:20200629T230408Z
LAST-MODIFIED:20200629T230408Z
UID:2525-1615766400-1616198399@elementary.sd42.ca
SUMMARY:Spring break
DESCRIPTION:School closed for spring break.
URL:https://elementary.sd42.ca/yennadon/event/spring-break-4/
CATEGORIES:district calendar
END:VEVENT
BEGIN:VEVENT
DTSTART;VALUE=DATE:20210312
DTEND;VALUE=DATE:20210313
DTSTAMP:20260422T072444
CREATED:20200629T230408Z
LAST-MODIFIED:20200629T230408Z
UID:2524-1615507200-1615593599@elementary.sd42.ca
SUMMARY:Last day of school before spring break
DESCRIPTION:Last day of school before spring break.
URL:https://elementary.sd42.ca/yennadon/event/last-day-of-school-before-spring-break-2/
CATEGORIES:district calendar
END:VEVENT
BEGIN:VEVENT
DTSTART;VALUE=DATE:20210224
DTEND;VALUE=DATE:20210225
DTSTAMP:20260422T072444
CREATED:20201130T182417Z
LAST-MODIFIED:20201214T030534Z
UID:2769-1614124800-1614211199@elementary.sd42.ca
SUMMARY:Pink Shirt Day
DESCRIPTION:
URL:https://elementary.sd42.ca/yennadon/event/pink-shirt-day-4/
CATEGORIES:district calendar
END:VEVENT
BEGIN:VEVENT
DTSTART;VALUE=DATE:20210216
DTEND;VALUE=DATE:20210217
DTSTAMP:20260422T072444
CREATED:20200629T230407Z
LAST-MODIFIED:20200629T230407Z
UID:2523-1613433600-1613519999@elementary.sd42.ca
SUMMARY:Non-instructional day (school-based)
DESCRIPTION:School not in session.
URL:https://elementary.sd42.ca/yennadon/event/non-instructional-day-school-based-6/
CATEGORIES:district calendar
END:VEVENT
BEGIN:VEVENT
DTSTART;VALUE=DATE:20210215
DTEND;VALUE=DATE:20210216
DTSTAMP:20260422T072444
CREATED:20200629T230407Z
LAST-MODIFIED:20200629T230407Z
UID:2522-1613347200-1613433599@elementary.sd42.ca
SUMMARY:Family Day
DESCRIPTION:Statutory holiday. School not in session.
URL:https://elementary.sd42.ca/yennadon/event/family-day-4/
CATEGORIES:district calendar
END:VEVENT
BEGIN:VEVENT
DTSTART;TZID=America/Vancouver:20210204T190000
DTEND;TZID=America/Vancouver:20210204T200000
DTSTAMP:20260422T072444
CREATED:20201130T181735Z
LAST-MODIFIED:20201214T030628Z
UID:2763-1612465200-1612468800@elementary.sd42.ca
SUMMARY:February PAC Meeting
DESCRIPTION:Via Zoom
URL:https://elementary.sd42.ca/yennadon/event/february-pac-meeting/
CATEGORIES:district calendar
END:VEVENT
BEGIN:VEVENT
DTSTART;VALUE=DATE:20210204
DTEND;VALUE=DATE:20210220
DTSTAMP:20260422T072444
CREATED:20201130T182346Z
LAST-MODIFIED:20201214T030646Z
UID:2767-1612396800-1613779199@elementary.sd42.ca
SUMMARY:Grade 8 Registration
DESCRIPTION:Registration Opens @ 12pm.
URL:https://elementary.sd42.ca/yennadon/event/grade-8-registration/
CATEGORIES:district calendar
END:VEVENT
BEGIN:VEVENT
DTSTART;TZID=America/Vancouver:20210203T090000
DTEND;TZID=America/Vancouver:20210203T100000
DTSTAMP:20260422T072444
CREATED:20201130T181658Z
LAST-MODIFIED:20201214T030709Z
UID:2761-1612342800-1612346400@elementary.sd42.ca
SUMMARY:February Assembly
DESCRIPTION:Via Zoom
URL:https://elementary.sd42.ca/yennadon/event/february-assembly-4/
CATEGORIES:district calendar
END:VEVENT
BEGIN:VEVENT
DTSTART;VALUE=DATE:20210203
DTEND;VALUE=DATE:20210211
DTSTAMP:20260422T072444
CREATED:20201130T182113Z
LAST-MODIFIED:20201214T030725Z
UID:2765-1612310400-1613001599@elementary.sd42.ca
SUMMARY:Kindergarten Registration - General Phase
DESCRIPTION:Registration Opens @ 12pm.
URL:https://elementary.sd42.ca/yennadon/event/kindergarten-registration-general-phase/
CATEGORIES:district calendar
END:VEVENT
BEGIN:VEVENT
DTSTART;VALUE=DATE:20210125
DTEND;VALUE=DATE:20210126
DTSTAMP:20260422T072444
CREATED:20200629T230405Z
LAST-MODIFIED:20200629T230405Z
UID:2521-1611532800-1611619199@elementary.sd42.ca
SUMMARY:Non-instructional day (district-based)
DESCRIPTION:School not in session.
URL:https://elementary.sd42.ca/yennadon/event/non-instructional-day-district-based/
CATEGORIES:district calendar
END:VEVENT
END:VCALENDAR