BEGIN:VCALENDAR
VERSION:2.0
PRODID:-//Yennadon Elementary - ECPv6.15.17//NONSGML v1.0//EN
CALSCALE:GREGORIAN
METHOD:PUBLISH
X-WR-CALNAME:Yennadon Elementary
X-ORIGINAL-URL:https://elementary.sd42.ca/yennadon
X-WR-CALDESC:Events for Yennadon Elementary
REFRESH-INTERVAL;VALUE=DURATION:PT1H
X-Robots-Tag:noindex
X-PUBLISHED-TTL:PT1H
BEGIN:VTIMEZONE
TZID:America/Vancouver
BEGIN:DAYLIGHT
TZOFFSETFROM:-0800
TZOFFSETTO:-0700
TZNAME:PDT
DTSTART:20240310T100000
END:DAYLIGHT
BEGIN:STANDARD
TZOFFSETFROM:-0700
TZOFFSETTO:-0800
TZNAME:PST
DTSTART:20241103T090000
END:STANDARD
BEGIN:DAYLIGHT
TZOFFSETFROM:-0800
TZOFFSETTO:-0700
TZNAME:PDT
DTSTART:20250309T100000
END:DAYLIGHT
BEGIN:STANDARD
TZOFFSETFROM:-0700
TZOFFSETTO:-0800
TZNAME:PST
DTSTART:20251102T090000
END:STANDARD
BEGIN:DAYLIGHT
TZOFFSETFROM:-0800
TZOFFSETTO:-0700
TZNAME:PDT
DTSTART:20260308T100000
END:DAYLIGHT
BEGIN:STANDARD
TZOFFSETFROM:-0700
TZOFFSETTO:-0800
TZNAME:PST
DTSTART:20261101T090000
END:STANDARD
END:VTIMEZONE
BEGIN:VEVENT
DTSTART;TZID=America/Vancouver:20250304T083000
DTEND;TZID=America/Vancouver:20250304T103000
DTSTAMP:20260421T170447
CREATED:20250204T164232Z
LAST-MODIFIED:20250204T164232Z
UID:5773-1741077000-1741084200@elementary.sd42.ca
SUMMARY:Divisions 15\, 19 & 20 Skating @ Planet Ice
DESCRIPTION:
URL:https://elementary.sd42.ca/yennadon/event/divisions-15-19-20-skating-planet-ice/
END:VEVENT
BEGIN:VEVENT
DTSTART;TZID=America/Vancouver:20250304T113000
DTEND;TZID=America/Vancouver:20250304T140000
DTSTAMP:20260421T170447
CREATED:20250219T213305Z
LAST-MODIFIED:20250219T213305Z
UID:5790-1741087800-1741096800@elementary.sd42.ca
SUMMARY:Div 7 Art Discovery @ The Act (Pt 2)
DESCRIPTION:
URL:https://elementary.sd42.ca/yennadon/event/div-7-art-discovery-the-act-pt-2/
END:VEVENT
BEGIN:VEVENT
DTSTART;TZID=America/Vancouver:20250304T123000
DTEND;TZID=America/Vancouver:20250304T140000
DTSTAMP:20260421T170447
CREATED:20250304T171258Z
LAST-MODIFIED:20250304T171258Z
UID:5809-1741091400-1741096800@elementary.sd42.ca
SUMMARY:Reading Link Challenge
DESCRIPTION:
URL:https://elementary.sd42.ca/yennadon/event/reading-link-challenge-3/
END:VEVENT
END:VCALENDAR