BEGIN:VCALENDAR
VERSION:2.0
PRODID:-//Yennadon Elementary - ECPv6.15.17//NONSGML v1.0//EN
CALSCALE:GREGORIAN
METHOD:PUBLISH
X-WR-CALNAME:Yennadon Elementary
X-ORIGINAL-URL:https://elementary.sd42.ca/yennadon
X-WR-CALDESC:Events for Yennadon Elementary
REFRESH-INTERVAL;VALUE=DURATION:PT1H
X-Robots-Tag:noindex
X-PUBLISHED-TTL:PT1H
BEGIN:VTIMEZONE
TZID:America/Vancouver
BEGIN:DAYLIGHT
TZOFFSETFROM:-0800
TZOFFSETTO:-0700
TZNAME:PDT
DTSTART:20240310T100000
END:DAYLIGHT
BEGIN:STANDARD
TZOFFSETFROM:-0700
TZOFFSETTO:-0800
TZNAME:PST
DTSTART:20241103T090000
END:STANDARD
BEGIN:DAYLIGHT
TZOFFSETFROM:-0800
TZOFFSETTO:-0700
TZNAME:PDT
DTSTART:20250309T100000
END:DAYLIGHT
BEGIN:STANDARD
TZOFFSETFROM:-0700
TZOFFSETTO:-0800
TZNAME:PST
DTSTART:20251102T090000
END:STANDARD
BEGIN:DAYLIGHT
TZOFFSETFROM:-0800
TZOFFSETTO:-0700
TZNAME:PDT
DTSTART:20260308T100000
END:DAYLIGHT
BEGIN:STANDARD
TZOFFSETFROM:-0700
TZOFFSETTO:-0800
TZNAME:PST
DTSTART:20261101T090000
END:STANDARD
END:VTIMEZONE
BEGIN:VEVENT
DTSTART;TZID=America/Vancouver:20250225T093000
DTEND;TZID=America/Vancouver:20250225T113000
DTSTAMP:20260421T170447
CREATED:20250219T212025Z
LAST-MODIFIED:20250219T212025Z
UID:5783-1740475800-1740483000@elementary.sd42.ca
SUMMARY:Division 23 Art Gallery Tour @ The Act
DESCRIPTION:
URL:https://elementary.sd42.ca/yennadon/event/division-23-art-gallery-tour-the-act/
END:VEVENT
BEGIN:VEVENT
DTSTART;TZID=America/Vancouver:20250225T113000
DTEND;TZID=America/Vancouver:20250225T140000
DTSTAMP:20260421T170447
CREATED:20250219T212154Z
LAST-MODIFIED:20250219T212154Z
UID:5786-1740483000-1740492000@elementary.sd42.ca
SUMMARY:Div 7 Art Discovery @ The Act (Pt 1)
DESCRIPTION:
URL:https://elementary.sd42.ca/yennadon/event/div-7-art-discovery-the-act-pt-1/
END:VEVENT
BEGIN:VEVENT
DTSTART;TZID=America/Vancouver:20250225T150000
DTEND;TZID=America/Vancouver:20250225T160000
DTSTAMP:20260421T170447
CREATED:20250114T162923Z
LAST-MODIFIED:20250114T162923Z
UID:5733-1740495600-1740499200@elementary.sd42.ca
SUMMARY:Girl's Rec Basketball AWAY Game vs Albion Elem
DESCRIPTION:
URL:https://elementary.sd42.ca/yennadon/event/girls-rec-basketball-away-game-vs-albion-elem/
END:VEVENT
BEGIN:VEVENT
DTSTART;TZID=America/Vancouver:20250225T150000
DTEND;TZID=America/Vancouver:20250225T160000
DTSTAMP:20260421T170447
CREATED:20250207T205857Z
LAST-MODIFIED:20250207T205857Z
UID:5779-1740495600-1740499200@elementary.sd42.ca
SUMMARY:Girl's Competitive Basketball Away Game @ Kanaka
DESCRIPTION:
URL:https://elementary.sd42.ca/yennadon/event/girls-competitive-basketball-away-game-kanaka/
END:VEVENT
BEGIN:VEVENT
DTSTART;TZID=America/Vancouver:20250225T190000
DTEND;TZID=America/Vancouver:20250225T200000
DTSTAMP:20260421T170447
CREATED:20241030T173920Z
LAST-MODIFIED:20241030T173920Z
UID:5593-1740510000-1740513600@elementary.sd42.ca
SUMMARY:PAC Meeting
DESCRIPTION:
URL:https://elementary.sd42.ca/yennadon/event/pac-meeting-35/
END:VEVENT
END:VCALENDAR