BEGIN:VCALENDAR
VERSION:2.0
PRODID:-//Yennadon Elementary - ECPv6.15.17//NONSGML v1.0//EN
CALSCALE:GREGORIAN
METHOD:PUBLISH
X-WR-CALNAME:Yennadon Elementary
X-ORIGINAL-URL:https://elementary.sd42.ca/yennadon
X-WR-CALDESC:Events for Yennadon Elementary
REFRESH-INTERVAL;VALUE=DURATION:PT1H
X-Robots-Tag:noindex
X-PUBLISHED-TTL:PT1H
BEGIN:VTIMEZONE
TZID:America/Vancouver
BEGIN:DAYLIGHT
TZOFFSETFROM:-0800
TZOFFSETTO:-0700
TZNAME:PDT
DTSTART:20240310T100000
END:DAYLIGHT
BEGIN:STANDARD
TZOFFSETFROM:-0700
TZOFFSETTO:-0800
TZNAME:PST
DTSTART:20241103T090000
END:STANDARD
BEGIN:DAYLIGHT
TZOFFSETFROM:-0800
TZOFFSETTO:-0700
TZNAME:PDT
DTSTART:20250309T100000
END:DAYLIGHT
BEGIN:STANDARD
TZOFFSETFROM:-0700
TZOFFSETTO:-0800
TZNAME:PST
DTSTART:20251102T090000
END:STANDARD
BEGIN:DAYLIGHT
TZOFFSETFROM:-0800
TZOFFSETTO:-0700
TZNAME:PDT
DTSTART:20260308T100000
END:DAYLIGHT
BEGIN:STANDARD
TZOFFSETFROM:-0700
TZOFFSETTO:-0800
TZNAME:PST
DTSTART:20261101T090000
END:STANDARD
END:VTIMEZONE
BEGIN:VEVENT
DTSTART;VALUE=DATE:20250220
DTEND;VALUE=DATE:20250222
DTSTAMP:20260422T185113
CREATED:20241030T173816Z
LAST-MODIFIED:20241030T173816Z
UID:5591-1740009600-1740182399@elementary.sd42.ca
SUMMARY:Jump Rope for Heart
DESCRIPTION:
URL:https://elementary.sd42.ca/yennadon/event/jump-rope-for-heart-5/
END:VEVENT
BEGIN:VEVENT
DTSTART;TZID=America/Vancouver:20250220T150000
DTEND;TZID=America/Vancouver:20250220T160000
DTSTAMP:20260422T185113
CREATED:20250114T163432Z
LAST-MODIFIED:20250114T163432Z
UID:5745-1740063600-1740067200@elementary.sd42.ca
SUMMARY:Girl's Comp Basketball HOME Game vs Cesquenela
DESCRIPTION:
URL:https://elementary.sd42.ca/yennadon/event/girls-comp-basketball-home-game-vs-cesquenela/
END:VEVENT
BEGIN:VEVENT
DTSTART;TZID=America/Vancouver:20250220T150000
DTEND;TZID=America/Vancouver:20250220T160000
DTSTAMP:20260422T185113
CREATED:20250220T153736Z
LAST-MODIFIED:20250220T153803Z
UID:5796-1740063600-1740067200@elementary.sd42.ca
SUMMARY:Boy's Comp Basketball Away Game @ Glenwood
DESCRIPTION:
URL:https://elementary.sd42.ca/yennadon/event/boys-comp-away-game-glenwood/
END:VEVENT
END:VCALENDAR