BEGIN:VCALENDAR
VERSION:2.0
PRODID:-//Yennadon Elementary - ECPv6.15.17//NONSGML v1.0//EN
CALSCALE:GREGORIAN
METHOD:PUBLISH
X-ORIGINAL-URL:https://elementary.sd42.ca/yennadon
X-WR-CALDESC:Events for Yennadon Elementary
REFRESH-INTERVAL;VALUE=DURATION:PT1H
X-Robots-Tag:noindex
X-PUBLISHED-TTL:PT1H
BEGIN:VTIMEZONE
TZID:America/Vancouver
BEGIN:DAYLIGHT
TZOFFSETFROM:-0800
TZOFFSETTO:-0700
TZNAME:PDT
DTSTART:20230312T100000
END:DAYLIGHT
BEGIN:STANDARD
TZOFFSETFROM:-0700
TZOFFSETTO:-0800
TZNAME:PST
DTSTART:20231105T090000
END:STANDARD
BEGIN:DAYLIGHT
TZOFFSETFROM:-0800
TZOFFSETTO:-0700
TZNAME:PDT
DTSTART:20240310T100000
END:DAYLIGHT
BEGIN:STANDARD
TZOFFSETFROM:-0700
TZOFFSETTO:-0800
TZNAME:PST
DTSTART:20241103T090000
END:STANDARD
BEGIN:DAYLIGHT
TZOFFSETFROM:-0800
TZOFFSETTO:-0700
TZNAME:PDT
DTSTART:20250309T100000
END:DAYLIGHT
BEGIN:STANDARD
TZOFFSETFROM:-0700
TZOFFSETTO:-0800
TZNAME:PST
DTSTART:20251102T090000
END:STANDARD
END:VTIMEZONE
BEGIN:VEVENT
DTSTART;VALUE=DATE:20241024
DTEND;VALUE=DATE:20241107
DTSTAMP:20260423T112014
CREATED:20240925T174800Z
LAST-MODIFIED:20241030T170119Z
UID:5529-1729728000-1730937599@elementary.sd42.ca
SUMMARY:Food Drive!
DESCRIPTION:
URL:https://elementary.sd42.ca/yennadon/event/food-drive-2/
END:VEVENT
BEGIN:VEVENT
DTSTART;TZID=America/Vancouver:20241105T143000
DTEND;TZID=America/Vancouver:20241105T153000
DTSTAMP:20260423T112014
CREATED:20241030T170659Z
LAST-MODIFIED:20241030T170659Z
UID:5565-1730817000-1730820600@elementary.sd42.ca
SUMMARY:Girl's Volleyball:  Yennadon @ Meadowridge
DESCRIPTION:
URL:https://elementary.sd42.ca/yennadon/event/girls-volleyball-yennadon-meadowridge/
END:VEVENT
END:VCALENDAR