BEGIN:VCALENDAR
VERSION:2.0
PRODID:-//Yennadon Elementary - ECPv6.15.17//NONSGML v1.0//EN
CALSCALE:GREGORIAN
METHOD:PUBLISH
X-ORIGINAL-URL:https://elementary.sd42.ca/yennadon
X-WR-CALDESC:Events for Yennadon Elementary
REFRESH-INTERVAL;VALUE=DURATION:PT1H
X-Robots-Tag:noindex
X-PUBLISHED-TTL:PT1H
BEGIN:VTIMEZONE
TZID:America/Vancouver
BEGIN:DAYLIGHT
TZOFFSETFROM:-0800
TZOFFSETTO:-0700
TZNAME:PDT
DTSTART:20230312T100000
END:DAYLIGHT
BEGIN:STANDARD
TZOFFSETFROM:-0700
TZOFFSETTO:-0800
TZNAME:PST
DTSTART:20231105T090000
END:STANDARD
BEGIN:DAYLIGHT
TZOFFSETFROM:-0800
TZOFFSETTO:-0700
TZNAME:PDT
DTSTART:20240310T100000
END:DAYLIGHT
BEGIN:STANDARD
TZOFFSETFROM:-0700
TZOFFSETTO:-0800
TZNAME:PST
DTSTART:20241103T090000
END:STANDARD
BEGIN:DAYLIGHT
TZOFFSETFROM:-0800
TZOFFSETTO:-0700
TZNAME:PDT
DTSTART:20250309T100000
END:DAYLIGHT
BEGIN:STANDARD
TZOFFSETFROM:-0700
TZOFFSETTO:-0800
TZNAME:PST
DTSTART:20251102T090000
END:STANDARD
END:VTIMEZONE
BEGIN:VEVENT
DTSTART;VALUE=DATE:20241021
DTEND;VALUE=DATE:20241024
DTSTAMP:20260425T081807
CREATED:20240912T184447Z
LAST-MODIFIED:20240912T184447Z
UID:5397-1729468800-1729727999@elementary.sd42.ca
SUMMARY:Scholastic Book Fair
DESCRIPTION:
URL:https://elementary.sd42.ca/yennadon/event/scholastic-book-fair-12/
END:VEVENT
BEGIN:VEVENT
DTSTART;TZID=America/Vancouver:20241022T090000
DTEND;TZID=America/Vancouver:20241022T120000
DTSTAMP:20260425T081807
CREATED:20240925T174617Z
LAST-MODIFIED:20240925T174623Z
UID:5524-1729587600-1729598400@elementary.sd42.ca
SUMMARY:Divisions 28 & 29 to Laity Pumpkin Patch
DESCRIPTION:
URL:https://elementary.sd42.ca/yennadon/event/divisions-28-29to-laity-pumpkin-patch/
END:VEVENT
END:VCALENDAR