BEGIN:VCALENDAR
VERSION:2.0
PRODID:-//Yennadon Elementary - ECPv6.15.17//NONSGML v1.0//EN
CALSCALE:GREGORIAN
METHOD:PUBLISH
X-WR-CALNAME:Yennadon Elementary
X-ORIGINAL-URL:https://elementary.sd42.ca/yennadon
X-WR-CALDESC:Events for Yennadon Elementary
REFRESH-INTERVAL;VALUE=DURATION:PT1H
X-Robots-Tag:noindex
X-PUBLISHED-TTL:PT1H
BEGIN:VTIMEZONE
TZID:America/Vancouver
BEGIN:DAYLIGHT
TZOFFSETFROM:-0800
TZOFFSETTO:-0700
TZNAME:PDT
DTSTART:20220313T100000
END:DAYLIGHT
BEGIN:STANDARD
TZOFFSETFROM:-0700
TZOFFSETTO:-0800
TZNAME:PST
DTSTART:20221106T090000
END:STANDARD
BEGIN:DAYLIGHT
TZOFFSETFROM:-0800
TZOFFSETTO:-0700
TZNAME:PDT
DTSTART:20230312T100000
END:DAYLIGHT
BEGIN:STANDARD
TZOFFSETFROM:-0700
TZOFFSETTO:-0800
TZNAME:PST
DTSTART:20231105T090000
END:STANDARD
BEGIN:DAYLIGHT
TZOFFSETFROM:-0800
TZOFFSETTO:-0700
TZNAME:PDT
DTSTART:20240310T100000
END:DAYLIGHT
BEGIN:STANDARD
TZOFFSETFROM:-0700
TZOFFSETTO:-0800
TZNAME:PST
DTSTART:20241103T090000
END:STANDARD
END:VTIMEZONE
BEGIN:VEVENT
DTSTART;VALUE=DATE:20231114
DTEND;VALUE=DATE:20231122
DTSTAMP:20260420T172354
CREATED:20231025T193942Z
LAST-MODIFIED:20231025T193942Z
UID:4956-1699920000-1700611199@elementary.sd42.ca
SUMMARY:Tweens & Teens Gift Drive
DESCRIPTION:For Maple Ridge Christmas Hamper Society.
URL:https://elementary.sd42.ca/yennadon/event/tweens-teens-gift-drive/
END:VEVENT
BEGIN:VEVENT
DTSTART;VALUE=DATE:20231114
DTEND;VALUE=DATE:20231118
DTSTAMP:20260420T172354
CREATED:20231108T183023Z
LAST-MODIFIED:20231108T183023Z
UID:4980-1699920000-1700265599@elementary.sd42.ca
SUMMARY:Book Swap Collection
DESCRIPTION:
URL:https://elementary.sd42.ca/yennadon/event/book-swap-collection/
END:VEVENT
BEGIN:VEVENT
DTSTART;VALUE=DATE:20231116
DTEND;VALUE=DATE:20231117
DTSTAMP:20260420T172354
CREATED:20231025T194302Z
LAST-MODIFIED:20231025T194302Z
UID:4960-1700092800-1700179199@elementary.sd42.ca
SUMMARY:Divisions 15\, 17\, 18 & 19 Composting Workshop
DESCRIPTION:
URL:https://elementary.sd42.ca/yennadon/event/divisions-15-17-18-19-composting-workshop/
END:VEVENT
BEGIN:VEVENT
DTSTART;TZID=America/Vancouver:20231116T150000
DTEND;TZID=America/Vancouver:20231116T160000
DTSTAMP:20260420T172354
CREATED:20231010T205427Z
LAST-MODIFIED:20231010T205427Z
UID:4914-1700146800-1700150400@elementary.sd42.ca
SUMMARY:Girl's Tripleball Game @ Eric Langton
DESCRIPTION:
URL:https://elementary.sd42.ca/yennadon/event/girls-tripleball-game-eric-langton/
END:VEVENT
END:VCALENDAR