BEGIN:VCALENDAR
VERSION:2.0
PRODID:-//Yennadon Elementary - ECPv6.15.17//NONSGML v1.0//EN
CALSCALE:GREGORIAN
METHOD:PUBLISH
X-ORIGINAL-URL:https://elementary.sd42.ca/yennadon
X-WR-CALDESC:Events for Yennadon Elementary
REFRESH-INTERVAL;VALUE=DURATION:PT1H
X-Robots-Tag:noindex
X-PUBLISHED-TTL:PT1H
BEGIN:VTIMEZONE
TZID:America/Vancouver
BEGIN:DAYLIGHT
TZOFFSETFROM:-0800
TZOFFSETTO:-0700
TZNAME:PDT
DTSTART:20210314T100000
END:DAYLIGHT
BEGIN:STANDARD
TZOFFSETFROM:-0700
TZOFFSETTO:-0800
TZNAME:PST
DTSTART:20211107T090000
END:STANDARD
BEGIN:DAYLIGHT
TZOFFSETFROM:-0800
TZOFFSETTO:-0700
TZNAME:PDT
DTSTART:20220313T100000
END:DAYLIGHT
BEGIN:STANDARD
TZOFFSETFROM:-0700
TZOFFSETTO:-0800
TZNAME:PST
DTSTART:20221106T090000
END:STANDARD
BEGIN:DAYLIGHT
TZOFFSETFROM:-0800
TZOFFSETTO:-0700
TZNAME:PDT
DTSTART:20230312T100000
END:DAYLIGHT
BEGIN:STANDARD
TZOFFSETFROM:-0700
TZOFFSETTO:-0800
TZNAME:PST
DTSTART:20231105T090000
END:STANDARD
END:VTIMEZONE
BEGIN:VEVENT
DTSTART;VALUE=DATE:20221123
DTEND;VALUE=DATE:20221209
DTSTAMP:20260419T180941
CREATED:20221121T202124Z
LAST-MODIFIED:20221121T202124Z
UID:4248-1669161600-1670543999@elementary.sd42.ca
SUMMARY:Christmas Hamper Gift Drive
DESCRIPTION:If possible\, please donate gift cards from these preferred stores:  Walmart\, Superstore\, FreshCo\, Save-on-Foods\, Winners\, Cineplex\, Tim Hortons\, McDonald’s\, London Drugs\, and Shoppers Drug Mart.
URL:https://elementary.sd42.ca/yennadon/event/christmas-hamper-gift-drive/
END:VEVENT
BEGIN:VEVENT
DTSTART;TZID=America/Vancouver:20221201T110000
DTEND;TZID=America/Vancouver:20221201T130000
DTSTAMP:20260419T180941
CREATED:20221121T205711Z
LAST-MODIFIED:20221121T205711Z
UID:4260-1669892400-1669899600@elementary.sd42.ca
SUMMARY:Purdy's Chocolates Pick Up
DESCRIPTION:Outside @ Round-A-Bout
URL:https://elementary.sd42.ca/yennadon/event/purdys-chocolates-pick-up/
END:VEVENT
BEGIN:VEVENT
DTSTART;TZID=America/Vancouver:20221201T113000
DTEND;TZID=America/Vancouver:20221201T150000
DTSTAMP:20260419T180941
CREATED:20221115T212909Z
LAST-MODIFIED:20221115T212909Z
UID:4205-1669894200-1669906800@elementary.sd42.ca
SUMMARY:3 Way Conferences:  11:30am Dismissal
DESCRIPTION:
URL:https://elementary.sd42.ca/yennadon/event/3-way-conferences-1130am-dismissal/
END:VEVENT
END:VCALENDAR