BEGIN:VCALENDAR
VERSION:2.0
PRODID:-//Yennadon Elementary - ECPv6.15.17//NONSGML v1.0//EN
CALSCALE:GREGORIAN
METHOD:PUBLISH
X-ORIGINAL-URL:https://elementary.sd42.ca/yennadon
X-WR-CALDESC:Events for Yennadon Elementary
REFRESH-INTERVAL;VALUE=DURATION:PT1H
X-Robots-Tag:noindex
X-PUBLISHED-TTL:PT1H
BEGIN:VTIMEZONE
TZID:America/Vancouver
BEGIN:DAYLIGHT
TZOFFSETFROM:-0800
TZOFFSETTO:-0700
TZNAME:PDT
DTSTART:20210314T100000
END:DAYLIGHT
BEGIN:STANDARD
TZOFFSETFROM:-0700
TZOFFSETTO:-0800
TZNAME:PST
DTSTART:20211107T090000
END:STANDARD
BEGIN:DAYLIGHT
TZOFFSETFROM:-0800
TZOFFSETTO:-0700
TZNAME:PDT
DTSTART:20220313T100000
END:DAYLIGHT
BEGIN:STANDARD
TZOFFSETFROM:-0700
TZOFFSETTO:-0800
TZNAME:PST
DTSTART:20221106T090000
END:STANDARD
BEGIN:DAYLIGHT
TZOFFSETFROM:-0800
TZOFFSETTO:-0700
TZNAME:PDT
DTSTART:20230312T100000
END:DAYLIGHT
BEGIN:STANDARD
TZOFFSETFROM:-0700
TZOFFSETTO:-0800
TZNAME:PST
DTSTART:20231105T090000
END:STANDARD
END:VTIMEZONE
BEGIN:VEVENT
DTSTART;TZID=America/Vancouver:20220425T093000
DTEND;TZID=America/Vancouver:20220425T100000
DTSTAMP:20260423T112025
CREATED:20220425T170048Z
LAST-MODIFIED:20220425T170048Z
UID:3837-1650879000-1650880800@elementary.sd42.ca
SUMMARY:Div 29 FVRL Visit (Virtual)
DESCRIPTION:
URL:https://elementary.sd42.ca/yennadon/event/div-29-fvrl-visit-virtual/
END:VEVENT
BEGIN:VEVENT
DTSTART;TZID=America/Vancouver:20220425T143000
DTEND;TZID=America/Vancouver:20220425T153000
DTSTAMP:20260423T112025
CREATED:20220425T172736Z
LAST-MODIFIED:20220425T172736Z
UID:3851-1650897000-1650900600@elementary.sd42.ca
SUMMARY:Ultimate Practice
DESCRIPTION:
URL:https://elementary.sd42.ca/yennadon/event/ultimate-practice/
END:VEVENT
END:VCALENDAR