BEGIN:VCALENDAR
VERSION:2.0
PRODID:-//Yennadon Elementary - ECPv6.15.17//NONSGML v1.0//EN
CALSCALE:GREGORIAN
METHOD:PUBLISH
X-WR-CALNAME:Yennadon Elementary
X-ORIGINAL-URL:https://elementary.sd42.ca/yennadon
X-WR-CALDESC:Events for Yennadon Elementary
REFRESH-INTERVAL;VALUE=DURATION:PT1H
X-Robots-Tag:noindex
X-PUBLISHED-TTL:PT1H
BEGIN:VTIMEZONE
TZID:America/Vancouver
BEGIN:DAYLIGHT
TZOFFSETFROM:-0800
TZOFFSETTO:-0700
TZNAME:PDT
DTSTART:20190310T100000
END:DAYLIGHT
BEGIN:STANDARD
TZOFFSETFROM:-0700
TZOFFSETTO:-0800
TZNAME:PST
DTSTART:20191103T090000
END:STANDARD
BEGIN:DAYLIGHT
TZOFFSETFROM:-0800
TZOFFSETTO:-0700
TZNAME:PDT
DTSTART:20200308T100000
END:DAYLIGHT
BEGIN:STANDARD
TZOFFSETFROM:-0700
TZOFFSETTO:-0800
TZNAME:PST
DTSTART:20201101T090000
END:STANDARD
BEGIN:DAYLIGHT
TZOFFSETFROM:-0800
TZOFFSETTO:-0700
TZNAME:PDT
DTSTART:20210314T100000
END:DAYLIGHT
BEGIN:STANDARD
TZOFFSETFROM:-0700
TZOFFSETTO:-0800
TZNAME:PST
DTSTART:20211107T090000
END:STANDARD
END:VTIMEZONE
BEGIN:VEVENT
DTSTART;VALUE=DATE:20200131
DTEND;VALUE=DATE:20200201
DTSTAMP:20260425T040546
CREATED:20200129T194619Z
LAST-MODIFIED:20200129T194619Z
UID:2236-1580428800-1580515199@elementary.sd42.ca
SUMMARY:National Hot Chocolate Day!
DESCRIPTION:Bring your cup for FREE Tim Horton’s Hot Chocolate!
URL:https://elementary.sd42.ca/yennadon/event/national-hot-chocolate-day/
END:VEVENT
BEGIN:VEVENT
DTSTART;TZID=America/Vancouver:20200131T083000
DTEND;TZID=America/Vancouver:20200131T113000
DTSTAMP:20260425T040546
CREATED:20191106T174840Z
LAST-MODIFIED:20191212T190757Z
UID:1843-1580459400-1580470200@elementary.sd42.ca
SUMMARY:Div 35 Cyber School Workshop
DESCRIPTION:
URL:https://elementary.sd42.ca/yennadon/event/div-35-act-sessions-3/
END:VEVENT
BEGIN:VEVENT
DTSTART;TZID=America/Vancouver:20200131T173000
DTEND;TZID=America/Vancouver:20200131T203000
DTSTAMP:20260425T040546
CREATED:20191106T174000Z
LAST-MODIFIED:20200116T224126Z
UID:1837-1580491800-1580502600@elementary.sd42.ca
SUMMARY:PAC Movie Night - Date Change!
DESCRIPTION:“Storks”
URL:https://elementary.sd42.ca/yennadon/event/pac-movie-night-5/
END:VEVENT
END:VCALENDAR