BEGIN:VCALENDAR
VERSION:2.0
PRODID:-//Yennadon Elementary - ECPv6.15.17//NONSGML v1.0//EN
CALSCALE:GREGORIAN
METHOD:PUBLISH
X-ORIGINAL-URL:https://elementary.sd42.ca/yennadon
X-WR-CALDESC:Events for Yennadon Elementary
REFRESH-INTERVAL;VALUE=DURATION:PT1H
X-Robots-Tag:noindex
X-PUBLISHED-TTL:PT1H
BEGIN:VTIMEZONE
TZID:America/Vancouver
BEGIN:DAYLIGHT
TZOFFSETFROM:-0800
TZOFFSETTO:-0700
TZNAME:PDT
DTSTART:20180311T100000
END:DAYLIGHT
BEGIN:STANDARD
TZOFFSETFROM:-0700
TZOFFSETTO:-0800
TZNAME:PST
DTSTART:20181104T090000
END:STANDARD
BEGIN:DAYLIGHT
TZOFFSETFROM:-0800
TZOFFSETTO:-0700
TZNAME:PDT
DTSTART:20190310T100000
END:DAYLIGHT
BEGIN:STANDARD
TZOFFSETFROM:-0700
TZOFFSETTO:-0800
TZNAME:PST
DTSTART:20191103T090000
END:STANDARD
BEGIN:DAYLIGHT
TZOFFSETFROM:-0800
TZOFFSETTO:-0700
TZNAME:PDT
DTSTART:20200308T100000
END:DAYLIGHT
BEGIN:STANDARD
TZOFFSETFROM:-0700
TZOFFSETTO:-0800
TZNAME:PST
DTSTART:20201101T090000
END:STANDARD
END:VTIMEZONE
BEGIN:VEVENT
DTSTART;VALUE=DATE:20190612
DTEND;VALUE=DATE:20190613
DTSTAMP:20260423T014100
CREATED:20181029T194050Z
LAST-MODIFIED:20181029T194050Z
UID:1117-1560297600-1560383999@elementary.sd42.ca
SUMMARY:Volunteer Appreciation Tea
DESCRIPTION:
URL:https://elementary.sd42.ca/yennadon/event/volunteer-appreciation-tea/
END:VEVENT
BEGIN:VEVENT
DTSTART;TZID=America/Vancouver:20190612T090000
DTEND;TZID=America/Vancouver:20190612T130000
DTSTAMP:20260423T014100
CREATED:20190228T193819Z
LAST-MODIFIED:20190228T193819Z
UID:1388-1560330000-1560344400@elementary.sd42.ca
SUMMARY:Divisions 8\, 9 & 10 to Stave Falls
DESCRIPTION:
URL:https://elementary.sd42.ca/yennadon/event/divisions-8-9-10-to-stave-falls/
END:VEVENT
END:VCALENDAR