BEGIN:VCALENDAR
VERSION:2.0
PRODID:-//Yennadon Elementary - ECPv6.15.17//NONSGML v1.0//EN
CALSCALE:GREGORIAN
METHOD:PUBLISH
X-ORIGINAL-URL:https://elementary.sd42.ca/yennadon
X-WR-CALDESC:Events for Yennadon Elementary
REFRESH-INTERVAL;VALUE=DURATION:PT1H
X-Robots-Tag:noindex
X-PUBLISHED-TTL:PT1H
BEGIN:VTIMEZONE
TZID:America/Vancouver
BEGIN:DAYLIGHT
TZOFFSETFROM:-0800
TZOFFSETTO:-0700
TZNAME:PDT
DTSTART:20180311T100000
END:DAYLIGHT
BEGIN:STANDARD
TZOFFSETFROM:-0700
TZOFFSETTO:-0800
TZNAME:PST
DTSTART:20181104T090000
END:STANDARD
BEGIN:DAYLIGHT
TZOFFSETFROM:-0800
TZOFFSETTO:-0700
TZNAME:PDT
DTSTART:20190310T100000
END:DAYLIGHT
BEGIN:STANDARD
TZOFFSETFROM:-0700
TZOFFSETTO:-0800
TZNAME:PST
DTSTART:20191103T090000
END:STANDARD
BEGIN:DAYLIGHT
TZOFFSETFROM:-0800
TZOFFSETTO:-0700
TZNAME:PDT
DTSTART:20200308T100000
END:DAYLIGHT
BEGIN:STANDARD
TZOFFSETFROM:-0700
TZOFFSETTO:-0800
TZNAME:PST
DTSTART:20201101T090000
END:STANDARD
END:VTIMEZONE
BEGIN:VEVENT
DTSTART;TZID=America/Vancouver:20190605T090000
DTEND;TZID=America/Vancouver:20190605T100000
DTSTAMP:20260423T014102
CREATED:20181029T193901Z
LAST-MODIFIED:20181029T193901Z
UID:1111-1559725200-1559728800@elementary.sd42.ca
SUMMARY:June Assembly
DESCRIPTION:
URL:https://elementary.sd42.ca/yennadon/event/june-assembly-2/
END:VEVENT
BEGIN:VEVENT
DTSTART;TZID=America/Vancouver:20190605T100000
DTEND;TZID=America/Vancouver:20190605T143000
DTSTAMP:20260423T014102
CREATED:20190516T165314Z
LAST-MODIFIED:20190516T165314Z
UID:1533-1559728800-1559745000@elementary.sd42.ca
SUMMARY:Division 10 Young Entrepreneur Fair
DESCRIPTION:Gym
URL:https://elementary.sd42.ca/yennadon/event/division-10-young-entrepreneur-fair/
END:VEVENT
END:VCALENDAR