BEGIN:VCALENDAR
VERSION:2.0
PRODID:-//Yennadon Elementary - ECPv6.15.17//NONSGML v1.0//EN
CALSCALE:GREGORIAN
METHOD:PUBLISH
X-ORIGINAL-URL:https://elementary.sd42.ca/yennadon
X-WR-CALDESC:Events for Yennadon Elementary
REFRESH-INTERVAL;VALUE=DURATION:PT1H
X-Robots-Tag:noindex
X-PUBLISHED-TTL:PT1H
BEGIN:VTIMEZONE
TZID:America/Vancouver
BEGIN:DAYLIGHT
TZOFFSETFROM:-0800
TZOFFSETTO:-0700
TZNAME:PDT
DTSTART:20180311T100000
END:DAYLIGHT
BEGIN:STANDARD
TZOFFSETFROM:-0700
TZOFFSETTO:-0800
TZNAME:PST
DTSTART:20181104T090000
END:STANDARD
BEGIN:DAYLIGHT
TZOFFSETFROM:-0800
TZOFFSETTO:-0700
TZNAME:PDT
DTSTART:20190310T100000
END:DAYLIGHT
BEGIN:STANDARD
TZOFFSETFROM:-0700
TZOFFSETTO:-0800
TZNAME:PST
DTSTART:20191103T090000
END:STANDARD
BEGIN:DAYLIGHT
TZOFFSETFROM:-0800
TZOFFSETTO:-0700
TZNAME:PDT
DTSTART:20200308T100000
END:DAYLIGHT
BEGIN:STANDARD
TZOFFSETFROM:-0700
TZOFFSETTO:-0800
TZNAME:PST
DTSTART:20201101T090000
END:STANDARD
END:VTIMEZONE
BEGIN:VEVENT
DTSTART;VALUE=DATE:20190416
DTEND;VALUE=DATE:20190418
DTSTAMP:20260419T205643
CREATED:20190109T214221Z
LAST-MODIFIED:20190109T214221Z
UID:1274-1555372800-1555545599@elementary.sd42.ca
SUMMARY:Grade 5/6 Fire Safety Presentation
DESCRIPTION:
URL:https://elementary.sd42.ca/yennadon/event/grade-5-6-fire-safety-presentation/
END:VEVENT
BEGIN:VEVENT
DTSTART;VALUE=DATE:20190417
DTEND;VALUE=DATE:20190418
DTSTAMP:20260419T205643
CREATED:20190228T192257Z
LAST-MODIFIED:20190228T192257Z
UID:1376-1555459200-1555545599@elementary.sd42.ca
SUMMARY:Kindergartens to The Act
DESCRIPTION:Little Mermaid Performance
URL:https://elementary.sd42.ca/yennadon/event/kindergartens-to-the-act/
END:VEVENT
BEGIN:VEVENT
DTSTART;VALUE=DATE:20190417
DTEND;VALUE=DATE:20190418
DTSTAMP:20260419T205643
CREATED:20190305T174650Z
LAST-MODIFIED:20190305T174650Z
UID:1409-1555459200-1555545599@elementary.sd42.ca
SUMMARY:Divisions 1 & 6 Safe & Caring Schools Presentation
DESCRIPTION:
URL:https://elementary.sd42.ca/yennadon/event/divisions-1-6-safe-caring-schools-presentation/
END:VEVENT
BEGIN:VEVENT
DTSTART;TZID=America/Vancouver:20190417T113000
DTEND;TZID=America/Vancouver:20190417T140000
DTSTAMP:20260419T205643
CREATED:20190411T174305Z
LAST-MODIFIED:20190411T174305Z
UID:1447-1555500600-1555509600@elementary.sd42.ca
SUMMARY:Divisions 17-19 to The Act
DESCRIPTION:Little Mermaid Performance
URL:https://elementary.sd42.ca/yennadon/event/divisions-17-19-to-the-act/
END:VEVENT
END:VCALENDAR