BEGIN:VCALENDAR
VERSION:2.0
PRODID:-//Yennadon Elementary - ECPv6.15.17//NONSGML v1.0//EN
CALSCALE:GREGORIAN
METHOD:PUBLISH
X-ORIGINAL-URL:https://elementary.sd42.ca/yennadon
X-WR-CALDESC:Events for Yennadon Elementary
REFRESH-INTERVAL;VALUE=DURATION:PT1H
X-Robots-Tag:noindex
X-PUBLISHED-TTL:PT1H
BEGIN:VTIMEZONE
TZID:America/Vancouver
BEGIN:DAYLIGHT
TZOFFSETFROM:-0800
TZOFFSETTO:-0700
TZNAME:PDT
DTSTART:20180311T100000
END:DAYLIGHT
BEGIN:STANDARD
TZOFFSETFROM:-0700
TZOFFSETTO:-0800
TZNAME:PST
DTSTART:20181104T090000
END:STANDARD
BEGIN:DAYLIGHT
TZOFFSETFROM:-0800
TZOFFSETTO:-0700
TZNAME:PDT
DTSTART:20190310T100000
END:DAYLIGHT
BEGIN:STANDARD
TZOFFSETFROM:-0700
TZOFFSETTO:-0800
TZNAME:PST
DTSTART:20191103T090000
END:STANDARD
BEGIN:DAYLIGHT
TZOFFSETFROM:-0800
TZOFFSETTO:-0700
TZNAME:PDT
DTSTART:20200308T100000
END:DAYLIGHT
BEGIN:STANDARD
TZOFFSETFROM:-0700
TZOFFSETTO:-0800
TZNAME:PST
DTSTART:20201101T090000
END:STANDARD
END:VTIMEZONE
BEGIN:VEVENT
DTSTART;VALUE=DATE:20190412
DTEND;VALUE=DATE:20190413
DTSTAMP:20260419T190605
CREATED:20181026T202814Z
LAST-MODIFIED:20181026T202814Z
UID:1082-1555027200-1555113599@elementary.sd42.ca
SUMMARY:Pizza Hot Lunch
DESCRIPTION:
URL:https://elementary.sd42.ca/yennadon/event/pizza-hot-lunch-8/
END:VEVENT
BEGIN:VEVENT
DTSTART;TZID=America/Vancouver:20190412T130000
DTEND;TZID=America/Vancouver:20190412T140000
DTSTAMP:20260419T190605
CREATED:20190305T174554Z
LAST-MODIFIED:20190305T174554Z
UID:1407-1555074000-1555077600@elementary.sd42.ca
SUMMARY:Garibaldi Band Performance - Gym
DESCRIPTION:
URL:https://elementary.sd42.ca/yennadon/event/garibaldi-band-performance-gym/
END:VEVENT
END:VCALENDAR