BEGIN:VCALENDAR
VERSION:2.0
PRODID:-//Yennadon Elementary - ECPv6.15.17//NONSGML v1.0//EN
CALSCALE:GREGORIAN
METHOD:PUBLISH
X-ORIGINAL-URL:https://elementary.sd42.ca/yennadon
X-WR-CALDESC:Events for Yennadon Elementary
REFRESH-INTERVAL;VALUE=DURATION:PT1H
X-Robots-Tag:noindex
X-PUBLISHED-TTL:PT1H
BEGIN:VTIMEZONE
TZID:America/Vancouver
BEGIN:DAYLIGHT
TZOFFSETFROM:-0800
TZOFFSETTO:-0700
TZNAME:PDT
DTSTART:20180311T100000
END:DAYLIGHT
BEGIN:STANDARD
TZOFFSETFROM:-0700
TZOFFSETTO:-0800
TZNAME:PST
DTSTART:20181104T090000
END:STANDARD
BEGIN:DAYLIGHT
TZOFFSETFROM:-0800
TZOFFSETTO:-0700
TZNAME:PDT
DTSTART:20190310T100000
END:DAYLIGHT
BEGIN:STANDARD
TZOFFSETFROM:-0700
TZOFFSETTO:-0800
TZNAME:PST
DTSTART:20191103T090000
END:STANDARD
BEGIN:DAYLIGHT
TZOFFSETFROM:-0800
TZOFFSETTO:-0700
TZNAME:PDT
DTSTART:20200308T100000
END:DAYLIGHT
BEGIN:STANDARD
TZOFFSETFROM:-0700
TZOFFSETTO:-0800
TZNAME:PST
DTSTART:20201101T090000
END:STANDARD
END:VTIMEZONE
BEGIN:VEVENT
DTSTART;TZID=America/Vancouver:20190220T100000
DTEND;TZID=America/Vancouver:20190220T223000
DTSTAMP:20260420T214513
CREATED:20190129T220632Z
LAST-MODIFIED:20190129T220632Z
UID:1316-1550656800-1550701800@elementary.sd42.ca
SUMMARY:WE Team Donut Day!
DESCRIPTION:$2.00 – Sold at Recess
URL:https://elementary.sd42.ca/yennadon/event/we-team-donut-day/
END:VEVENT
BEGIN:VEVENT
DTSTART;TZID=America/Vancouver:20190220T150000
DTEND;TZID=America/Vancouver:20190220T170000
DTSTAMP:20260420T214513
CREATED:20190129T220530Z
LAST-MODIFIED:20190129T220530Z
UID:1314-1550674800-1550682000@elementary.sd42.ca
SUMMARY:Boys Competitive Basketball HOME Game
DESCRIPTION:
URL:https://elementary.sd42.ca/yennadon/event/boys-competitive-basketball-home-game-2/
END:VEVENT
END:VCALENDAR