BEGIN:VCALENDAR
VERSION:2.0
PRODID:-//Yennadon Elementary - ECPv6.15.17//NONSGML v1.0//EN
CALSCALE:GREGORIAN
METHOD:PUBLISH
X-ORIGINAL-URL:https://elementary.sd42.ca/yennadon
X-WR-CALDESC:Events for Yennadon Elementary
REFRESH-INTERVAL;VALUE=DURATION:PT1H
X-Robots-Tag:noindex
X-PUBLISHED-TTL:PT1H
BEGIN:VTIMEZONE
TZID:America/Vancouver
BEGIN:DAYLIGHT
TZOFFSETFROM:-0800
TZOFFSETTO:-0700
TZNAME:PDT
DTSTART:20180311T100000
END:DAYLIGHT
BEGIN:STANDARD
TZOFFSETFROM:-0700
TZOFFSETTO:-0800
TZNAME:PST
DTSTART:20181104T090000
END:STANDARD
BEGIN:DAYLIGHT
TZOFFSETFROM:-0800
TZOFFSETTO:-0700
TZNAME:PDT
DTSTART:20190310T100000
END:DAYLIGHT
BEGIN:STANDARD
TZOFFSETFROM:-0700
TZOFFSETTO:-0800
TZNAME:PST
DTSTART:20191103T090000
END:STANDARD
BEGIN:DAYLIGHT
TZOFFSETFROM:-0800
TZOFFSETTO:-0700
TZNAME:PDT
DTSTART:20200308T100000
END:DAYLIGHT
BEGIN:STANDARD
TZOFFSETFROM:-0700
TZOFFSETTO:-0800
TZNAME:PST
DTSTART:20201101T090000
END:STANDARD
END:VTIMEZONE
BEGIN:VEVENT
DTSTART;VALUE=DATE:20190211
DTEND;VALUE=DATE:20190212
DTSTAMP:20260420T214506
CREATED:20190109T192441Z
LAST-MODIFIED:20190109T192441Z
UID:1248-1549843200-1549929599@elementary.sd42.ca
SUMMARY:Boys REC Basketball HOME game vs Kanaka Creek
DESCRIPTION:
URL:https://elementary.sd42.ca/yennadon/event/boys-rec-basketball-home-game-vs-kanaka-creek/
END:VEVENT
BEGIN:VEVENT
DTSTART;VALUE=DATE:20190211
DTEND;VALUE=DATE:20190212
DTSTAMP:20260420T214506
CREATED:20190129T220230Z
LAST-MODIFIED:20190129T220230Z
UID:1310-1549843200-1549929599@elementary.sd42.ca
SUMMARY:Divisions 1\, 2\, 4 and 6 to Vancouver Planetarium
DESCRIPTION:
URL:https://elementary.sd42.ca/yennadon/event/divisions-1-2-4-and-6-to-vancouver-planetarium/
END:VEVENT
BEGIN:VEVENT
DTSTART;TZID=America/Vancouver:20190211T150000
DTEND;TZID=America/Vancouver:20190211T170000
DTSTAMP:20260420T214506
CREATED:20190129T220027Z
LAST-MODIFIED:20190129T220027Z
UID:1308-1549897200-1549904400@elementary.sd42.ca
SUMMARY:Girls Competitive Basketball Game @ Davie Jones
DESCRIPTION:
URL:https://elementary.sd42.ca/yennadon/event/girls-competitive-basketball-game-davie-jones/
END:VEVENT
END:VCALENDAR