BEGIN:VCALENDAR
VERSION:2.0
PRODID:-//Yennadon Elementary - ECPv6.15.17//NONSGML v1.0//EN
CALSCALE:GREGORIAN
METHOD:PUBLISH
X-ORIGINAL-URL:https://elementary.sd42.ca/yennadon
X-WR-CALDESC:Events for Yennadon Elementary
REFRESH-INTERVAL;VALUE=DURATION:PT1H
X-Robots-Tag:noindex
X-PUBLISHED-TTL:PT1H
BEGIN:VTIMEZONE
TZID:America/Vancouver
BEGIN:DAYLIGHT
TZOFFSETFROM:-0800
TZOFFSETTO:-0700
TZNAME:PDT
DTSTART:20180311T100000
END:DAYLIGHT
BEGIN:STANDARD
TZOFFSETFROM:-0700
TZOFFSETTO:-0800
TZNAME:PST
DTSTART:20181104T090000
END:STANDARD
BEGIN:DAYLIGHT
TZOFFSETFROM:-0800
TZOFFSETTO:-0700
TZNAME:PDT
DTSTART:20190310T100000
END:DAYLIGHT
BEGIN:STANDARD
TZOFFSETFROM:-0700
TZOFFSETTO:-0800
TZNAME:PST
DTSTART:20191103T090000
END:STANDARD
BEGIN:DAYLIGHT
TZOFFSETFROM:-0800
TZOFFSETTO:-0700
TZNAME:PDT
DTSTART:20200308T100000
END:DAYLIGHT
BEGIN:STANDARD
TZOFFSETFROM:-0700
TZOFFSETTO:-0800
TZNAME:PST
DTSTART:20201101T090000
END:STANDARD
END:VTIMEZONE
BEGIN:VEVENT
DTSTART;VALUE=DATE:20190118
DTEND;VALUE=DATE:20190119
DTSTAMP:20260419T203522
CREATED:20181026T195318Z
LAST-MODIFIED:20181026T195318Z
UID:1049-1547769600-1547855999@elementary.sd42.ca
SUMMARY:Pizza Hot Lunch
DESCRIPTION:
URL:https://elementary.sd42.ca/yennadon/event/pizza-hot-lunch-5/
END:VEVENT
BEGIN:VEVENT
DTSTART;TZID=America/Vancouver:20190118T093000
DTEND;TZID=America/Vancouver:20190118T133000
DTSTAMP:20260419T203522
CREATED:20181026T195450Z
LAST-MODIFIED:20181026T195450Z
UID:1051-1547803800-1547818200@elementary.sd42.ca
SUMMARY:Division 3 & 5 to Wave Pool
DESCRIPTION:
URL:https://elementary.sd42.ca/yennadon/event/division-3-5-to-wave-pool/
END:VEVENT
END:VCALENDAR