BEGIN:VCALENDAR
VERSION:2.0
PRODID:-//Yennadon Elementary - ECPv6.15.17//NONSGML v1.0//EN
CALSCALE:GREGORIAN
METHOD:PUBLISH
X-ORIGINAL-URL:https://elementary.sd42.ca/yennadon
X-WR-CALDESC:Events for Yennadon Elementary
REFRESH-INTERVAL;VALUE=DURATION:PT1H
X-Robots-Tag:noindex
X-PUBLISHED-TTL:PT1H
BEGIN:VTIMEZONE
TZID:America/Vancouver
BEGIN:DAYLIGHT
TZOFFSETFROM:-0800
TZOFFSETTO:-0700
TZNAME:PDT
DTSTART:20170312T100000
END:DAYLIGHT
BEGIN:STANDARD
TZOFFSETFROM:-0700
TZOFFSETTO:-0800
TZNAME:PST
DTSTART:20171105T090000
END:STANDARD
BEGIN:DAYLIGHT
TZOFFSETFROM:-0800
TZOFFSETTO:-0700
TZNAME:PDT
DTSTART:20180311T100000
END:DAYLIGHT
BEGIN:STANDARD
TZOFFSETFROM:-0700
TZOFFSETTO:-0800
TZNAME:PST
DTSTART:20181104T090000
END:STANDARD
BEGIN:DAYLIGHT
TZOFFSETFROM:-0800
TZOFFSETTO:-0700
TZNAME:PDT
DTSTART:20190310T100000
END:DAYLIGHT
BEGIN:STANDARD
TZOFFSETFROM:-0700
TZOFFSETTO:-0800
TZNAME:PST
DTSTART:20191103T090000
END:STANDARD
END:VTIMEZONE
BEGIN:VEVENT
DTSTART;VALUE=DATE:20181219
DTEND;VALUE=DATE:20181220
DTSTAMP:20260420T140200
CREATED:20171127T024144Z
LAST-MODIFIED:20181115T200656Z
UID:576-1545177600-1545263999@elementary.sd42.ca
SUMMARY:Christmas Concerts - 1:00pm and 6:30pm
DESCRIPTION:The Wednesday program includes:  \nDivision 1- Ms. Bouey \nDivision 2 – Ms. Loutet \nDivision 4 – Mr. Miller \nDivision 6 – Ms. Kossaber-Graham \nDivision 7 – Ms. Francis \nDivision 11 – Mrs. Jakeway \nDivision 12 – Ms. Thorburn \nDivision 19 – Ms. Fitkall \nDivision 20 – Mrs. Butterworth \nDivision 21 – Ms. Ross \nDivision 22 – Mrs. Robertson \nDivision 23 – Mrs. Ludeman \nDivision 26 – Mrs. Kocurek / Mrs. Hirsig
URL:https://elementary.sd42.ca/yennadon/event/christmas-concerts-100pm-and-630pm-2/
END:VEVENT
BEGIN:VEVENT
DTSTART;TZID=America/Vancouver:20181219T120000
DTEND;TZID=America/Vancouver:20181219T140000
DTSTAMP:20260420T140200
CREATED:20181123T205226Z
LAST-MODIFIED:20181123T205226Z
UID:1169-1545220800-1545228000@elementary.sd42.ca
SUMMARY:Divisions 9 & 13 to THSS for A Charlie Brown Christmas Play
DESCRIPTION:
URL:https://elementary.sd42.ca/yennadon/event/divisions-9-13-to-thss-for-a-charlie-brown-christmas-play/
END:VEVENT
END:VCALENDAR