BEGIN:VCALENDAR
VERSION:2.0
PRODID:-//Yennadon Elementary - ECPv6.15.17//NONSGML v1.0//EN
CALSCALE:GREGORIAN
METHOD:PUBLISH
X-WR-CALNAME:Yennadon Elementary
X-ORIGINAL-URL:https://elementary.sd42.ca/yennadon
X-WR-CALDESC:Events for Yennadon Elementary
REFRESH-INTERVAL;VALUE=DURATION:PT1H
X-Robots-Tag:noindex
X-PUBLISHED-TTL:PT1H
BEGIN:VTIMEZONE
TZID:America/Vancouver
BEGIN:DAYLIGHT
TZOFFSETFROM:-0800
TZOFFSETTO:-0700
TZNAME:PDT
DTSTART:20170312T100000
END:DAYLIGHT
BEGIN:STANDARD
TZOFFSETFROM:-0700
TZOFFSETTO:-0800
TZNAME:PST
DTSTART:20171105T090000
END:STANDARD
BEGIN:DAYLIGHT
TZOFFSETFROM:-0800
TZOFFSETTO:-0700
TZNAME:PDT
DTSTART:20180311T100000
END:DAYLIGHT
BEGIN:STANDARD
TZOFFSETFROM:-0700
TZOFFSETTO:-0800
TZNAME:PST
DTSTART:20181104T090000
END:STANDARD
BEGIN:DAYLIGHT
TZOFFSETFROM:-0800
TZOFFSETTO:-0700
TZNAME:PDT
DTSTART:20190310T100000
END:DAYLIGHT
BEGIN:STANDARD
TZOFFSETFROM:-0700
TZOFFSETTO:-0800
TZNAME:PST
DTSTART:20191103T090000
END:STANDARD
END:VTIMEZONE
BEGIN:VEVENT
DTSTART;VALUE=DATE:20180305
DTEND;VALUE=DATE:20180306
DTSTAMP:20260424T203219
CREATED:20180115T050712Z
LAST-MODIFIED:20180115T050712Z
UID:620-1520208000-1520294399@elementary.sd42.ca
SUMMARY:Divisions 1\, 2\, 7 to Mt. Seymour for Tubing
DESCRIPTION:
URL:https://elementary.sd42.ca/yennadon/event/divisions-1-2-7-to-mt-seymour-for-tubing/
END:VEVENT
BEGIN:VEVENT
DTSTART;VALUE=DATE:20180305
DTEND;VALUE=DATE:20180306
DTSTAMP:20260424T203219
CREATED:20180218T050135Z
LAST-MODIFIED:20180218T050135Z
UID:681-1520208000-1520294399@elementary.sd42.ca
SUMMARY:Division 13 to Golden Ears Curling Club
DESCRIPTION:
URL:https://elementary.sd42.ca/yennadon/event/division-13-to-golden-ears-curling-club/
END:VEVENT
BEGIN:VEVENT
DTSTART;VALUE=DATE:20180305
DTEND;VALUE=DATE:20180306
DTSTAMP:20260424T203219
CREATED:20180225T031356Z
LAST-MODIFIED:20180225T031356Z
UID:717-1520208000-1520294399@elementary.sd42.ca
SUMMARY:Spirit Day - Backwards/Inside Out
DESCRIPTION:
URL:https://elementary.sd42.ca/yennadon/event/spirit-day-backwards-inside-out/
END:VEVENT
BEGIN:VEVENT
DTSTART;TZID=America/Vancouver:20180305T183000
DTEND;TZID=America/Vancouver:20180305T193000
DTSTAMP:20260424T203219
CREATED:20180218T050048Z
LAST-MODIFIED:20180218T050048Z
UID:679-1520274600-1520278200@elementary.sd42.ca
SUMMARY:Yennadon Cyberschool Information Meeting
DESCRIPTION:Location: B-Pod
URL:https://elementary.sd42.ca/yennadon/event/yennadon-cyberschool-information-meeting/
END:VEVENT
END:VCALENDAR