BEGIN:VCALENDAR
VERSION:2.0
PRODID:-//Yennadon Elementary - ECPv6.15.17//NONSGML v1.0//EN
CALSCALE:GREGORIAN
METHOD:PUBLISH
X-ORIGINAL-URL:https://elementary.sd42.ca/yennadon
X-WR-CALDESC:Events for Yennadon Elementary
REFRESH-INTERVAL;VALUE=DURATION:PT1H
X-Robots-Tag:noindex
X-PUBLISHED-TTL:PT1H
BEGIN:VTIMEZONE
TZID:America/Vancouver
BEGIN:DAYLIGHT
TZOFFSETFROM:-0800
TZOFFSETTO:-0700
TZNAME:PDT
DTSTART:20170312T100000
END:DAYLIGHT
BEGIN:STANDARD
TZOFFSETFROM:-0700
TZOFFSETTO:-0800
TZNAME:PST
DTSTART:20171105T090000
END:STANDARD
BEGIN:DAYLIGHT
TZOFFSETFROM:-0800
TZOFFSETTO:-0700
TZNAME:PDT
DTSTART:20180311T100000
END:DAYLIGHT
BEGIN:STANDARD
TZOFFSETFROM:-0700
TZOFFSETTO:-0800
TZNAME:PST
DTSTART:20181104T090000
END:STANDARD
BEGIN:DAYLIGHT
TZOFFSETFROM:-0800
TZOFFSETTO:-0700
TZNAME:PDT
DTSTART:20190310T100000
END:DAYLIGHT
BEGIN:STANDARD
TZOFFSETFROM:-0700
TZOFFSETTO:-0800
TZNAME:PST
DTSTART:20191103T090000
END:STANDARD
END:VTIMEZONE
BEGIN:VEVENT
DTSTART;VALUE=DATE:20180227
DTEND;VALUE=DATE:20180228
DTSTAMP:20260420T022053
CREATED:20180115T050510Z
LAST-MODIFIED:20180115T050510Z
UID:618-1519689600-1519775999@elementary.sd42.ca
SUMMARY:Divisions 3\, 4\, 5\, 6 to Mt. Seymour for Tubing
DESCRIPTION:
URL:https://elementary.sd42.ca/yennadon/event/divisions-3-4-5-6-to-mt-seymour-for-tubing/
END:VEVENT
BEGIN:VEVENT
DTSTART;VALUE=DATE:20180227
DTEND;VALUE=DATE:20180228
DTSTAMP:20260420T022053
CREATED:20180218T045541Z
LAST-MODIFIED:20180218T045541Z
UID:673-1519689600-1519775999@elementary.sd42.ca
SUMMARY:Divisions 17\, 19\, and 20 to The ACT Theatre
DESCRIPTION:
URL:https://elementary.sd42.ca/yennadon/event/divisions-17-19-and-20-to-the-act-theatre/
END:VEVENT
BEGIN:VEVENT
DTSTART;VALUE=DATE:20180227
DTEND;VALUE=DATE:20180228
DTSTAMP:20260420T022053
CREATED:20180218T045633Z
LAST-MODIFIED:20180218T045633Z
UID:675-1519689600-1519775999@elementary.sd42.ca
SUMMARY:Divisions 12 & 16 to Rev's Bowling Alley - afternoon
DESCRIPTION:
URL:https://elementary.sd42.ca/yennadon/event/divisions-12-16-to-revs-bowling-alley-afternoon/
END:VEVENT
BEGIN:VEVENT
DTSTART;VALUE=DATE:20180227
DTEND;VALUE=DATE:20180228
DTSTAMP:20260420T022053
CREATED:20180218T045715Z
LAST-MODIFIED:20180218T045715Z
UID:677-1519689600-1519775999@elementary.sd42.ca
SUMMARY:Divisions 10 & 11 to Extreme Air Park - morning
DESCRIPTION:
URL:https://elementary.sd42.ca/yennadon/event/divisions-10-11-to-extreme-air-park-morning/
END:VEVENT
BEGIN:VEVENT
DTSTART;TZID=America/Vancouver:20180227T193000
DTEND;TZID=America/Vancouver:20180227T203000
DTSTAMP:20260420T022053
CREATED:20170930T221757Z
LAST-MODIFIED:20170930T221757Z
UID:408-1519759800-1519763400@elementary.sd42.ca
SUMMARY:PAC Meeting
DESCRIPTION:
URL:https://elementary.sd42.ca/yennadon/event/pac-meeting-6/
END:VEVENT
END:VCALENDAR