BEGIN:VCALENDAR
VERSION:2.0
PRODID:-//Yennadon Elementary - ECPv6.15.17//NONSGML v1.0//EN
CALSCALE:GREGORIAN
METHOD:PUBLISH
X-ORIGINAL-URL:https://elementary.sd42.ca/yennadon
X-WR-CALDESC:Events for Yennadon Elementary
REFRESH-INTERVAL;VALUE=DURATION:PT1H
X-Robots-Tag:noindex
X-PUBLISHED-TTL:PT1H
BEGIN:VTIMEZONE
TZID:America/Vancouver
BEGIN:DAYLIGHT
TZOFFSETFROM:-0800
TZOFFSETTO:-0700
TZNAME:PDT
DTSTART:20160313T100000
END:DAYLIGHT
BEGIN:STANDARD
TZOFFSETFROM:-0700
TZOFFSETTO:-0800
TZNAME:PST
DTSTART:20161106T090000
END:STANDARD
BEGIN:DAYLIGHT
TZOFFSETFROM:-0800
TZOFFSETTO:-0700
TZNAME:PDT
DTSTART:20170312T100000
END:DAYLIGHT
BEGIN:STANDARD
TZOFFSETFROM:-0700
TZOFFSETTO:-0800
TZNAME:PST
DTSTART:20171105T090000
END:STANDARD
BEGIN:DAYLIGHT
TZOFFSETFROM:-0800
TZOFFSETTO:-0700
TZNAME:PDT
DTSTART:20180311T100000
END:DAYLIGHT
BEGIN:STANDARD
TZOFFSETFROM:-0700
TZOFFSETTO:-0800
TZNAME:PST
DTSTART:20181104T090000
END:STANDARD
END:VTIMEZONE
BEGIN:VEVENT
DTSTART;VALUE=DATE:20171201
DTEND;VALUE=DATE:20171202
DTSTAMP:20260419T151822
CREATED:20170930T220912Z
LAST-MODIFIED:20170930T220912Z
UID:390-1512086400-1512172799@elementary.sd42.ca
SUMMARY:Extra Hot Lunch Day
DESCRIPTION:Please Note:  Must pre-order online with Munch-a-Lunch
URL:https://elementary.sd42.ca/yennadon/event/extra-hot-lunch-day-2/
END:VEVENT
BEGIN:VEVENT
DTSTART;VALUE=DATE:20171201
DTEND;VALUE=DATE:20171202
DTSTAMP:20260419T151822
CREATED:20170930T223405Z
LAST-MODIFIED:20171127T022003Z
UID:433-1512086400-1512172799@elementary.sd42.ca
SUMMARY:Divisions 1 - 7 to The ACT - afternoon
DESCRIPTION:
URL:https://elementary.sd42.ca/yennadon/event/divisions-1-6-to-the-act-afternoon/
END:VEVENT
BEGIN:VEVENT
DTSTART;VALUE=DATE:20171201
DTEND;VALUE=DATE:20171202
DTSTAMP:20260419T151822
CREATED:20171127T022440Z
LAST-MODIFIED:20171127T022440Z
UID:556-1512086400-1512172799@elementary.sd42.ca
SUMMARY:Spirit Day - Ugly/Crazy Sweater or Shirt!
DESCRIPTION:
URL:https://elementary.sd42.ca/yennadon/event/spirit-day-uglycrazy-sweater-or-shirt/
END:VEVENT
BEGIN:VEVENT
DTSTART;VALUE=DATE:20171201
DTEND;VALUE=DATE:20171221
DTSTAMP:20260419T151822
CREATED:20171127T025336Z
LAST-MODIFIED:20171127T025419Z
UID:580-1512086400-1513814399@elementary.sd42.ca
SUMMARY:Christmas Toy Drive
DESCRIPTION:The WE Team and Yennadon are giving back to our community with Yennadon’s Annual Christmas Toy Drive!  It will be from December 1st – 20th. If you are able\, please donate a new\, unwrapped toy to our Toy Drive that will benefit Maple Ridge Christmas Hamper Society.
URL:https://elementary.sd42.ca/yennadon/event/christmas-toy-drive/
END:VEVENT
END:VCALENDAR