BEGIN:VCALENDAR
VERSION:2.0
PRODID:-//Webster&#039;s Corners Elementary - ECPv6.15.14//NONSGML v1.0//EN
CALSCALE:GREGORIAN
METHOD:PUBLISH
X-WR-CALNAME:Webster&#039;s Corners Elementary
X-ORIGINAL-URL:https://elementary.sd42.ca/websterscorners
X-WR-CALDESC:Events for Webster&#039;s Corners Elementary
REFRESH-INTERVAL;VALUE=DURATION:PT1H
X-Robots-Tag:noindex
X-PUBLISHED-TTL:PT1H
BEGIN:VTIMEZONE
TZID:America/Vancouver
BEGIN:DAYLIGHT
TZOFFSETFROM:-0800
TZOFFSETTO:-0700
TZNAME:PDT
DTSTART:20200308T100000
END:DAYLIGHT
BEGIN:STANDARD
TZOFFSETFROM:-0700
TZOFFSETTO:-0800
TZNAME:PST
DTSTART:20201101T090000
END:STANDARD
BEGIN:DAYLIGHT
TZOFFSETFROM:-0800
TZOFFSETTO:-0700
TZNAME:PDT
DTSTART:20210314T100000
END:DAYLIGHT
BEGIN:STANDARD
TZOFFSETFROM:-0700
TZOFFSETTO:-0800
TZNAME:PST
DTSTART:20211107T090000
END:STANDARD
BEGIN:DAYLIGHT
TZOFFSETFROM:-0800
TZOFFSETTO:-0700
TZNAME:PDT
DTSTART:20220313T100000
END:DAYLIGHT
BEGIN:STANDARD
TZOFFSETFROM:-0700
TZOFFSETTO:-0800
TZNAME:PST
DTSTART:20221106T090000
END:STANDARD
END:VTIMEZONE
BEGIN:VEVENT
DTSTART;VALUE=DATE:20210203
DTEND;VALUE=DATE:20210211
DTSTAMP:20260421T073430
CREATED:20201116T221356Z
LAST-MODIFIED:20201116T221356Z
UID:1527-1612310400-1613001599@elementary.sd42.ca
SUMMARY:Kindergarten Registration general phase
DESCRIPTION:
URL:https://elementary.sd42.ca/websterscorners/event/kindergarten-registration-general-phase/
END:VEVENT
BEGIN:VEVENT
DTSTART;TZID=America/Vancouver:20210208T090000
DTEND;TZID=America/Vancouver:20210208T100000
DTSTAMP:20260421T073430
CREATED:20210127T215459Z
LAST-MODIFIED:20210127T215459Z
UID:1669-1612774800-1612778400@elementary.sd42.ca
SUMMARY:PAC meeting
DESCRIPTION:
URL:https://elementary.sd42.ca/websterscorners/event/pac-meeting-6/
END:VEVENT
BEGIN:VEVENT
DTSTART;VALUE=DATE:20210215
DTEND;VALUE=DATE:20210216
DTSTAMP:20260421T073430
CREATED:20200629T225708Z
LAST-MODIFIED:20200629T225708Z
UID:1369-1613347200-1613433599@elementary.sd42.ca
SUMMARY:Family Day
DESCRIPTION:Statutory holiday. School not in session.
URL:https://elementary.sd42.ca/websterscorners/event/family-day-4/
CATEGORIES:district calendar
END:VEVENT
BEGIN:VEVENT
DTSTART;VALUE=DATE:20210216
DTEND;VALUE=DATE:20210217
DTSTAMP:20260421T073430
CREATED:20200629T225708Z
LAST-MODIFIED:20200629T225708Z
UID:1370-1613433600-1613519999@elementary.sd42.ca
SUMMARY:Non-instructional day (school-based)
DESCRIPTION:School not in session.
URL:https://elementary.sd42.ca/websterscorners/event/non-instructional-day-school-based-6/
CATEGORIES:district calendar
END:VEVENT
BEGIN:VEVENT
DTSTART;TZID=America/Vancouver:20210218T133000
DTEND;TZID=America/Vancouver:20210218T143000
DTSTAMP:20260421T073430
CREATED:20201117T220934Z
LAST-MODIFIED:20210127T215021Z
UID:1540-1613655000-1613658600@elementary.sd42.ca
SUMMARY:ROAR Assembly
DESCRIPTION:
URL:https://elementary.sd42.ca/websterscorners/event/roar-assembly-7/
END:VEVENT
BEGIN:VEVENT
DTSTART;VALUE=DATE:20210224
DTEND;VALUE=DATE:20210225
DTSTAMP:20260421T073430
CREATED:20201117T221048Z
LAST-MODIFIED:20201117T221118Z
UID:1542-1614124800-1614211199@elementary.sd42.ca
SUMMARY:Kindergarten registration late phase begins
DESCRIPTION:
URL:https://elementary.sd42.ca/websterscorners/event/kindergarten-registration-late-phase-begins/
END:VEVENT
BEGIN:VEVENT
DTSTART;VALUE=DATE:20210224
DTEND;VALUE=DATE:20210225
DTSTAMP:20260421T073430
CREATED:20210127T215240Z
LAST-MODIFIED:20210127T215240Z
UID:1663-1614124800-1614211199@elementary.sd42.ca
SUMMARY:Pink Shirt Day
DESCRIPTION:
URL:https://elementary.sd42.ca/websterscorners/event/pink-shirt-day-2/
END:VEVENT
END:VCALENDAR