BEGIN:VCALENDAR
VERSION:2.0
PRODID:-//Webster&#039;s Corners Elementary - ECPv6.15.14//NONSGML v1.0//EN
CALSCALE:GREGORIAN
METHOD:PUBLISH
X-WR-CALNAME:Webster&#039;s Corners Elementary
X-ORIGINAL-URL:https://elementary.sd42.ca/websterscorners
X-WR-CALDESC:Events for Webster&#039;s Corners Elementary
REFRESH-INTERVAL;VALUE=DURATION:PT1H
X-Robots-Tag:noindex
X-PUBLISHED-TTL:PT1H
BEGIN:VTIMEZONE
TZID:America/Toronto
BEGIN:DAYLIGHT
TZOFFSETFROM:-0500
TZOFFSETTO:-0400
TZNAME:EDT
DTSTART:20170312T070000
END:DAYLIGHT
BEGIN:STANDARD
TZOFFSETFROM:-0400
TZOFFSETTO:-0500
TZNAME:EST
DTSTART:20171105T060000
END:STANDARD
BEGIN:DAYLIGHT
TZOFFSETFROM:-0500
TZOFFSETTO:-0400
TZNAME:EDT
DTSTART:20180311T070000
END:DAYLIGHT
BEGIN:STANDARD
TZOFFSETFROM:-0400
TZOFFSETTO:-0500
TZNAME:EST
DTSTART:20181104T060000
END:STANDARD
BEGIN:DAYLIGHT
TZOFFSETFROM:-0500
TZOFFSETTO:-0400
TZNAME:EDT
DTSTART:20190310T070000
END:DAYLIGHT
BEGIN:STANDARD
TZOFFSETFROM:-0400
TZOFFSETTO:-0500
TZNAME:EST
DTSTART:20191103T060000
END:STANDARD
END:VTIMEZONE
BEGIN:VEVENT
DTSTART;TZID=America/Toronto:20180517T103000
DTEND;TZID=America/Toronto:20180517T123000
DTSTAMP:20260424T065206
CREATED:20180507T024640Z
LAST-MODIFIED:20180507T024640Z
UID:369-1526553000-1526560200@elementary.sd42.ca
SUMMARY:Caricature Artist for the Grade 7s
DESCRIPTION:The caricature artist will be here to sketch our grade 7s from 10:30-12:30.
URL:https://elementary.sd42.ca/websterscorners/event/caricature-artist-for-the-grade-7s/
END:VEVENT
END:VCALENDAR