BEGIN:VCALENDAR
VERSION:2.0
PRODID:-//École Pitt Meadows Elementary - ECPv6.15.14//NONSGML v1.0//EN
CALSCALE:GREGORIAN
METHOD:PUBLISH
X-WR-CALNAME:École Pitt Meadows Elementary
X-ORIGINAL-URL:https://elementary.sd42.ca/pittmeadows
X-WR-CALDESC:Events for École Pitt Meadows Elementary
REFRESH-INTERVAL;VALUE=DURATION:PT1H
X-Robots-Tag:noindex
X-PUBLISHED-TTL:PT1H
BEGIN:VTIMEZONE
TZID:America/Vancouver
BEGIN:DAYLIGHT
TZOFFSETFROM:-0800
TZOFFSETTO:-0700
TZNAME:PDT
DTSTART:20240310T100000
END:DAYLIGHT
BEGIN:STANDARD
TZOFFSETFROM:-0700
TZOFFSETTO:-0800
TZNAME:PST
DTSTART:20241103T090000
END:STANDARD
BEGIN:DAYLIGHT
TZOFFSETFROM:-0800
TZOFFSETTO:-0700
TZNAME:PDT
DTSTART:20250309T100000
END:DAYLIGHT
BEGIN:STANDARD
TZOFFSETFROM:-0700
TZOFFSETTO:-0800
TZNAME:PST
DTSTART:20251102T090000
END:STANDARD
BEGIN:DAYLIGHT
TZOFFSETFROM:-0800
TZOFFSETTO:-0700
TZNAME:PDT
DTSTART:20260308T100000
END:DAYLIGHT
BEGIN:STANDARD
TZOFFSETFROM:-0700
TZOFFSETTO:-0800
TZNAME:PST
DTSTART:20261101T090000
END:STANDARD
END:VTIMEZONE
BEGIN:VEVENT
DTSTART;VALUE=DATE:20250122
DTEND;VALUE=DATE:20250123
DTSTAMP:20260420T215337
CREATED:20250109T164557Z
LAST-MODIFIED:20250109T164557Z
UID:5902-1737504000-1737590399@elementary.sd42.ca
SUMMARY:Hot Lunch: Masala Boys
DESCRIPTION:
URL:https://elementary.sd42.ca/pittmeadows/event/hot-lunch-masala-boys/
CATEGORIES:pme calendar
END:VEVENT
BEGIN:VEVENT
DTSTART;TZID=America/Vancouver:20250122T150000
DTEND;TZID=America/Vancouver:20250122T170000
DTSTAMP:20260420T215337
CREATED:20250113T200649Z
LAST-MODIFIED:20250113T200649Z
UID:5964-1737558000-1737565200@elementary.sd42.ca
SUMMARY:T1B vs Edith McDermott
DESCRIPTION:
URL:https://elementary.sd42.ca/pittmeadows/event/t1b-vs-edith-mcdermott/
CATEGORIES:pme calendar
ATTACH;FMTTYPE=image/jpeg:https://wordpress1.blob.core.windows.net/pittmeadowselem/2022/12/basketball.jpg
END:VEVENT
END:VCALENDAR