BEGIN:VCALENDAR
VERSION:2.0
PRODID:-//École Pitt Meadows Elementary - ECPv6.15.14//NONSGML v1.0//EN
CALSCALE:GREGORIAN
METHOD:PUBLISH
X-WR-CALNAME:École Pitt Meadows Elementary
X-ORIGINAL-URL:https://elementary.sd42.ca/pittmeadows
X-WR-CALDESC:Events for École Pitt Meadows Elementary
REFRESH-INTERVAL;VALUE=DURATION:PT1H
X-Robots-Tag:noindex
X-PUBLISHED-TTL:PT1H
BEGIN:VTIMEZONE
TZID:America/Vancouver
BEGIN:DAYLIGHT
TZOFFSETFROM:-0800
TZOFFSETTO:-0700
TZNAME:PDT
DTSTART:20240310T100000
END:DAYLIGHT
BEGIN:STANDARD
TZOFFSETFROM:-0700
TZOFFSETTO:-0800
TZNAME:PST
DTSTART:20241103T090000
END:STANDARD
BEGIN:DAYLIGHT
TZOFFSETFROM:-0800
TZOFFSETTO:-0700
TZNAME:PDT
DTSTART:20250309T100000
END:DAYLIGHT
BEGIN:STANDARD
TZOFFSETFROM:-0700
TZOFFSETTO:-0800
TZNAME:PST
DTSTART:20251102T090000
END:STANDARD
BEGIN:DAYLIGHT
TZOFFSETFROM:-0800
TZOFFSETTO:-0700
TZNAME:PDT
DTSTART:20260308T100000
END:DAYLIGHT
BEGIN:STANDARD
TZOFFSETFROM:-0700
TZOFFSETTO:-0800
TZNAME:PST
DTSTART:20261101T090000
END:STANDARD
END:VTIMEZONE
BEGIN:VEVENT
DTSTART;VALUE=DATE:20250115
DTEND;VALUE=DATE:20250116
DTSTAMP:20260420T135827
CREATED:20250109T164408Z
LAST-MODIFIED:20250109T164408Z
UID:5900-1736899200-1736985599@elementary.sd42.ca
SUMMARY:Hot Lunch: FUEL
DESCRIPTION:
URL:https://elementary.sd42.ca/pittmeadows/event/hot-lunch-fuel/
CATEGORIES:pme calendar
END:VEVENT
BEGIN:VEVENT
DTSTART;TZID=America/Vancouver:20250211T150000
DTEND;TZID=America/Vancouver:20250211T170000
DTSTAMP:20260420T135827
CREATED:20250115T175408Z
LAST-MODIFIED:20250115T183932Z
UID:5984-1739286000-1739293200@elementary.sd42.ca
SUMMARY:T2G vs Fairview
DESCRIPTION:
URL:https://elementary.sd42.ca/pittmeadows/event/t2g-vs-fairview/
CATEGORIES:pme calendar
END:VEVENT
BEGIN:VEVENT
DTSTART;TZID=America/Vancouver:20250115T104500
DTEND;TZID=America/Vancouver:20250115T104500
DTSTAMP:20260420T135827
CREATED:20250106T020915Z
LAST-MODIFIED:20250106T021203Z
UID:5824-1736937900-1736937900@elementary.sd42.ca
SUMMARY:OWLS Div. 7\, 8\, 9\, 20\, 21\, 22\, 23
DESCRIPTION:10:45 – 11:45 and 12:45 – 1:45
URL:https://elementary.sd42.ca/pittmeadows/event/owls-div-7-8-9-20-21-22-23/
CATEGORIES:pme calendar
END:VEVENT
BEGIN:VEVENT
DTSTART;TZID=America/Vancouver:20250115T150000
DTEND;TZID=America/Vancouver:20250115T170000
DTSTAMP:20260420T135827
CREATED:20250113T200612Z
LAST-MODIFIED:20250113T201256Z
UID:5962-1736953200-1736960400@elementary.sd42.ca
SUMMARY:T1B vs Highland
DESCRIPTION:Basketball Tier 1 Boys
URL:https://elementary.sd42.ca/pittmeadows/event/t1b-vs-highland/
CATEGORIES:pme calendar
ATTACH;FMTTYPE=image/jpeg:https://wordpress1.blob.core.windows.net/pittmeadowselem/2022/12/basketball.jpg
END:VEVENT
END:VCALENDAR