BEGIN:VCALENDAR
VERSION:2.0
PRODID:-//Maple Ridge Elementary - ECPv6.15.14//NONSGML v1.0//EN
CALSCALE:GREGORIAN
METHOD:PUBLISH
X-WR-CALNAME:Maple Ridge Elementary
X-ORIGINAL-URL:https://elementary.sd42.ca/mapleridge
X-WR-CALDESC:Events for Maple Ridge Elementary
REFRESH-INTERVAL;VALUE=DURATION:PT1H
X-Robots-Tag:noindex
X-PUBLISHED-TTL:PT1H
BEGIN:VTIMEZONE
TZID:America/Vancouver
BEGIN:DAYLIGHT
TZOFFSETFROM:-0800
TZOFFSETTO:-0700
TZNAME:PDT
DTSTART:20210314T100000
END:DAYLIGHT
BEGIN:STANDARD
TZOFFSETFROM:-0700
TZOFFSETTO:-0800
TZNAME:PST
DTSTART:20211107T090000
END:STANDARD
BEGIN:DAYLIGHT
TZOFFSETFROM:-0800
TZOFFSETTO:-0700
TZNAME:PDT
DTSTART:20220313T100000
END:DAYLIGHT
BEGIN:STANDARD
TZOFFSETFROM:-0700
TZOFFSETTO:-0800
TZNAME:PST
DTSTART:20221106T090000
END:STANDARD
BEGIN:DAYLIGHT
TZOFFSETFROM:-0800
TZOFFSETTO:-0700
TZNAME:PDT
DTSTART:20230312T100000
END:DAYLIGHT
BEGIN:STANDARD
TZOFFSETFROM:-0700
TZOFFSETTO:-0800
TZNAME:PST
DTSTART:20231105T090000
END:STANDARD
END:VTIMEZONE
BEGIN:VEVENT
DTSTART;VALUE=DATE:20220906
DTEND;VALUE=DATE:20220907
DTSTAMP:20260419T151740
CREATED:20220527T160956Z
LAST-MODIFIED:20220527T160956Z
UID:3004-1662422400-1662508799@elementary.sd42.ca
SUMMARY:School opens following summer holidays
DESCRIPTION:School opens following summer holidays.
URL:https://elementary.sd42.ca/mapleridge/event/school-opens-following-summer-holidays-6/
CATEGORIES:district calendar
END:VEVENT
BEGIN:VEVENT
DTSTART;TZID=America/Vancouver:20220906T123000
DTEND;TZID=America/Vancouver:20220906T142000
DTSTAMP:20260419T151740
CREATED:20220829T162709Z
LAST-MODIFIED:20220829T162709Z
UID:3173-1662467400-1662474000@elementary.sd42.ca
SUMMARY:First Day of School
DESCRIPTION:12:30-2:20 pm students attend \nReturning students go back to last year’s teacher \nNew students meet in the library
URL:https://elementary.sd42.ca/mapleridge/event/first-day-of-school/
CATEGORIES:school-based
END:VEVENT
BEGIN:VEVENT
DTSTART;TZID=America/Vancouver:20220912T180000
DTEND;TZID=America/Vancouver:20220912T190000
DTSTAMP:20260419T151740
CREATED:20220908T172415Z
LAST-MODIFIED:20220908T172415Z
UID:3319-1663005600-1663009200@elementary.sd42.ca
SUMMARY:PAC Budget Meeting
DESCRIPTION:Prior to regular PAC meeting \nLocation: MRE library
URL:https://elementary.sd42.ca/mapleridge/event/pac-budget-meeting-2/
CATEGORIES:school-based
END:VEVENT
BEGIN:VEVENT
DTSTART;TZID=America/Vancouver:20220912T190000
DTEND;TZID=America/Vancouver:20220912T210000
DTSTAMP:20260419T151740
CREATED:20220829T170941Z
LAST-MODIFIED:20220829T170941Z
UID:3194-1663009200-1663016400@elementary.sd42.ca
SUMMARY:PAC Meeting
DESCRIPTION:
URL:https://elementary.sd42.ca/mapleridge/event/pac-meeting-10/
CATEGORIES:school-based
END:VEVENT
BEGIN:VEVENT
DTSTART;TZID=America/Vancouver:20220919T080000
DTEND;TZID=America/Vancouver:20220919T170000
DTSTAMP:20260419T151740
CREATED:20220914T181612Z
LAST-MODIFIED:20220914T181612Z
UID:3324-1663574400-1663606800@elementary.sd42.ca
SUMMARY:National day of mourning
DESCRIPTION:School not in session.
URL:https://elementary.sd42.ca/mapleridge/event/national-day-of-mourning/
CATEGORIES:district calendar
END:VEVENT
BEGIN:VEVENT
DTSTART;VALUE=DATE:20220921
DTEND;VALUE=DATE:20220922
DTSTAMP:20260419T151740
CREATED:20220829T163055Z
LAST-MODIFIED:20220829T163055Z
UID:3177-1663718400-1663804799@elementary.sd42.ca
SUMMARY:Individual Student Photo Day
DESCRIPTION:
URL:https://elementary.sd42.ca/mapleridge/event/individual-student-photo-day/
CATEGORIES:school-based
END:VEVENT
BEGIN:VEVENT
DTSTART;VALUE=DATE:20220926
DTEND;VALUE=DATE:20220930
DTSTAMP:20260419T151740
CREATED:20220829T170331Z
LAST-MODIFIED:20220829T170331Z
UID:3181-1664150400-1664495999@elementary.sd42.ca
SUMMARY:Orange Shirt Week
DESCRIPTION:
URL:https://elementary.sd42.ca/mapleridge/event/orange-shirt-week/
CATEGORIES:school-based
END:VEVENT
BEGIN:VEVENT
DTSTART;VALUE=DATE:20220930
DTEND;VALUE=DATE:20221001
DTSTAMP:20260419T151740
CREATED:20220527T160957Z
LAST-MODIFIED:20220527T160957Z
UID:3005-1664496000-1664582399@elementary.sd42.ca
SUMMARY:National Day for Truth and Reconciliation
DESCRIPTION:Statutory holiday. School not in session.
URL:https://elementary.sd42.ca/mapleridge/event/national-day-for-truth-and-reconciliation-2/
CATEGORIES:district calendar
END:VEVENT
END:VCALENDAR