BEGIN:VCALENDAR
VERSION:2.0
PRODID:-//Maple Ridge Elementary - ECPv6.15.14//NONSGML v1.0//EN
CALSCALE:GREGORIAN
METHOD:PUBLISH
X-ORIGINAL-URL:https://elementary.sd42.ca/mapleridge
X-WR-CALDESC:Events for Maple Ridge Elementary
REFRESH-INTERVAL;VALUE=DURATION:PT1H
X-Robots-Tag:noindex
X-PUBLISHED-TTL:PT1H
BEGIN:VTIMEZONE
TZID:America/Toronto
BEGIN:DAYLIGHT
TZOFFSETFROM:-0500
TZOFFSETTO:-0400
TZNAME:EDT
DTSTART:20170312T070000
END:DAYLIGHT
BEGIN:STANDARD
TZOFFSETFROM:-0400
TZOFFSETTO:-0500
TZNAME:EST
DTSTART:20171105T060000
END:STANDARD
BEGIN:DAYLIGHT
TZOFFSETFROM:-0500
TZOFFSETTO:-0400
TZNAME:EDT
DTSTART:20180311T070000
END:DAYLIGHT
BEGIN:STANDARD
TZOFFSETFROM:-0400
TZOFFSETTO:-0500
TZNAME:EST
DTSTART:20181104T060000
END:STANDARD
BEGIN:DAYLIGHT
TZOFFSETFROM:-0500
TZOFFSETTO:-0400
TZNAME:EDT
DTSTART:20190310T070000
END:DAYLIGHT
BEGIN:STANDARD
TZOFFSETFROM:-0400
TZOFFSETTO:-0500
TZNAME:EST
DTSTART:20191103T060000
END:STANDARD
END:VTIMEZONE
BEGIN:VTIMEZONE
TZID:America/Vancouver
BEGIN:DAYLIGHT
TZOFFSETFROM:-0800
TZOFFSETTO:-0700
TZNAME:PDT
DTSTART:20170312T100000
END:DAYLIGHT
BEGIN:STANDARD
TZOFFSETFROM:-0700
TZOFFSETTO:-0800
TZNAME:PST
DTSTART:20171105T090000
END:STANDARD
BEGIN:DAYLIGHT
TZOFFSETFROM:-0800
TZOFFSETTO:-0700
TZNAME:PDT
DTSTART:20180311T100000
END:DAYLIGHT
BEGIN:STANDARD
TZOFFSETFROM:-0700
TZOFFSETTO:-0800
TZNAME:PST
DTSTART:20181104T090000
END:STANDARD
BEGIN:DAYLIGHT
TZOFFSETFROM:-0800
TZOFFSETTO:-0700
TZNAME:PDT
DTSTART:20190310T100000
END:DAYLIGHT
BEGIN:STANDARD
TZOFFSETFROM:-0700
TZOFFSETTO:-0800
TZNAME:PST
DTSTART:20191103T090000
END:STANDARD
END:VTIMEZONE
BEGIN:VEVENT
DTSTART;TZID=America/Toronto:20181108T103000
DTEND;TZID=America/Toronto:20181108T103000
DTSTAMP:20260419T161758
CREATED:20180706T183409Z
LAST-MODIFIED:20180706T183409Z
UID:658-1541673000-1541673000@elementary.sd42.ca
SUMMARY:Remembrance Day Ceremony 10:30am
DESCRIPTION:
URL:https://elementary.sd42.ca/mapleridge/event/remembrance-day-ceremony-1030am/
END:VEVENT
BEGIN:VEVENT
DTSTART;VALUE=DATE:20181109
DTEND;VALUE=DATE:20181110
DTSTAMP:20260419T161758
CREATED:20180526T010603Z
LAST-MODIFIED:20180526T010603Z
UID:566-1541721600-1541807999@elementary.sd42.ca
SUMMARY:Non-instructional day (district)
DESCRIPTION:School not in session.
URL:https://elementary.sd42.ca/mapleridge/event/non-instructional-day-district-2/
CATEGORIES:district calendar
END:VEVENT
BEGIN:VEVENT
DTSTART;VALUE=DATE:20181112
DTEND;VALUE=DATE:20181113
DTSTAMP:20260419T161758
CREATED:20180526T010607Z
LAST-MODIFIED:20180526T010607Z
UID:567-1541980800-1542067199@elementary.sd42.ca
SUMMARY:Remembrance Day
DESCRIPTION:Statutory holiday. School not in session.
URL:https://elementary.sd42.ca/mapleridge/event/remembrance-day-2/
CATEGORIES:district calendar
END:VEVENT
BEGIN:VEVENT
DTSTART;TZID=America/Vancouver:20181116T170000
DTEND;TZID=America/Vancouver:20181116T210000
DTSTAMP:20260419T161758
CREATED:20181029T025226Z
LAST-MODIFIED:20181029T025226Z
UID:811-1542387600-1542402000@elementary.sd42.ca
SUMMARY:Fall Shopping Night at M.R.E.
DESCRIPTION:
URL:https://elementary.sd42.ca/mapleridge/event/fall-shopping-night-at-m-r-e/
CATEGORIES:school-based
END:VEVENT
BEGIN:VEVENT
DTSTART;TZID=America/Toronto:20181122T113000
DTEND;TZID=America/Toronto:20181122T113000
DTSTAMP:20260419T161758
CREATED:20180706T183530Z
LAST-MODIFIED:20180706T183530Z
UID:662-1542886200-1542886200@elementary.sd42.ca
SUMMARY:Early Dismissal 11:30am
DESCRIPTION:
URL:https://elementary.sd42.ca/mapleridge/event/early-dismissal-1130am/
END:VEVENT
BEGIN:VEVENT
DTSTART;TZID=America/Toronto:20181122T130000
DTEND;TZID=America/Toronto:20181122T130000
DTSTAMP:20260419T161758
CREATED:20180706T183500Z
LAST-MODIFIED:20180706T183749Z
UID:660-1542891600-1542891600@elementary.sd42.ca
SUMMARY:Student-Led Conferences (P.M.)
DESCRIPTION:
URL:https://elementary.sd42.ca/mapleridge/event/student-led-conferences/
END:VEVENT
BEGIN:VEVENT
DTSTART;VALUE=DATE:20181123
DTEND;VALUE=DATE:20181124
DTSTAMP:20260419T161758
CREATED:20180706T183554Z
LAST-MODIFIED:20180706T183554Z
UID:664-1542931200-1543017599@elementary.sd42.ca
SUMMARY:Student-Led Conferences (all day)
DESCRIPTION:
URL:https://elementary.sd42.ca/mapleridge/event/student-led-conferences-all-day/
END:VEVENT
BEGIN:VEVENT
DTSTART;TZID=America/Toronto:20181127T130000
DTEND;TZID=America/Toronto:20181127T140000
DTSTAMP:20260419T161758
CREATED:20180706T183627Z
LAST-MODIFIED:20180706T183627Z
UID:666-1543323600-1543327200@elementary.sd42.ca
SUMMARY:Assembly 1:00pm
DESCRIPTION:
URL:https://elementary.sd42.ca/mapleridge/event/assembly-100pm/
END:VEVENT
BEGIN:VEVENT
DTSTART;VALUE=DATE:20181128
DTEND;VALUE=DATE:20181129
DTSTAMP:20260419T161758
CREATED:20180706T183647Z
LAST-MODIFIED:20180706T183647Z
UID:668-1543363200-1543449599@elementary.sd42.ca
SUMMARY:Bookfest
DESCRIPTION:
URL:https://elementary.sd42.ca/mapleridge/event/bookfest/
END:VEVENT
END:VCALENDAR