BEGIN:VCALENDAR
VERSION:2.0
PRODID:-//Maple Ridge Elementary - ECPv6.15.14//NONSGML v1.0//EN
CALSCALE:GREGORIAN
METHOD:PUBLISH
X-WR-CALNAME:Maple Ridge Elementary
X-ORIGINAL-URL:https://elementary.sd42.ca/mapleridge
X-WR-CALDESC:Events for Maple Ridge Elementary
REFRESH-INTERVAL;VALUE=DURATION:PT1H
X-Robots-Tag:noindex
X-PUBLISHED-TTL:PT1H
BEGIN:VTIMEZONE
TZID:America/Toronto
BEGIN:DAYLIGHT
TZOFFSETFROM:-0500
TZOFFSETTO:-0400
TZNAME:EDT
DTSTART:20170312T070000
END:DAYLIGHT
BEGIN:STANDARD
TZOFFSETFROM:-0400
TZOFFSETTO:-0500
TZNAME:EST
DTSTART:20171105T060000
END:STANDARD
BEGIN:DAYLIGHT
TZOFFSETFROM:-0500
TZOFFSETTO:-0400
TZNAME:EDT
DTSTART:20180311T070000
END:DAYLIGHT
BEGIN:STANDARD
TZOFFSETFROM:-0400
TZOFFSETTO:-0500
TZNAME:EST
DTSTART:20181104T060000
END:STANDARD
BEGIN:DAYLIGHT
TZOFFSETFROM:-0500
TZOFFSETTO:-0400
TZNAME:EDT
DTSTART:20190310T070000
END:DAYLIGHT
BEGIN:STANDARD
TZOFFSETFROM:-0400
TZOFFSETTO:-0500
TZNAME:EST
DTSTART:20191103T060000
END:STANDARD
END:VTIMEZONE
BEGIN:VTIMEZONE
TZID:America/Vancouver
BEGIN:DAYLIGHT
TZOFFSETFROM:-0800
TZOFFSETTO:-0700
TZNAME:PDT
DTSTART:20170312T100000
END:DAYLIGHT
BEGIN:STANDARD
TZOFFSETFROM:-0700
TZOFFSETTO:-0800
TZNAME:PST
DTSTART:20171105T090000
END:STANDARD
BEGIN:DAYLIGHT
TZOFFSETFROM:-0800
TZOFFSETTO:-0700
TZNAME:PDT
DTSTART:20180311T100000
END:DAYLIGHT
BEGIN:STANDARD
TZOFFSETFROM:-0700
TZOFFSETTO:-0800
TZNAME:PST
DTSTART:20181104T090000
END:STANDARD
BEGIN:DAYLIGHT
TZOFFSETFROM:-0800
TZOFFSETTO:-0700
TZNAME:PDT
DTSTART:20190310T100000
END:DAYLIGHT
BEGIN:STANDARD
TZOFFSETFROM:-0700
TZOFFSETTO:-0800
TZNAME:PST
DTSTART:20191103T090000
END:STANDARD
END:VTIMEZONE
BEGIN:VEVENT
DTSTART;TZID=America/Toronto:20181002T084500
DTEND;TZID=America/Toronto:20181002T084500
DTSTAMP:20260420T035518
CREATED:20180706T183028Z
LAST-MODIFIED:20180706T183028Z
UID:648-1538469900-1538469900@elementary.sd42.ca
SUMMARY:Assembly 8:45am
DESCRIPTION:
URL:https://elementary.sd42.ca/mapleridge/event/assembly-845am/
END:VEVENT
BEGIN:VEVENT
DTSTART;VALUE=DATE:20181008
DTEND;VALUE=DATE:20181009
DTSTAMP:20260420T035518
CREATED:20180526T010600Z
LAST-MODIFIED:20180526T010600Z
UID:564-1538956800-1539043199@elementary.sd42.ca
SUMMARY:Thanksgiving Day
DESCRIPTION:Statutory holiday. School not in session.
URL:https://elementary.sd42.ca/mapleridge/event/thanksgiving-day-2/
CATEGORIES:district calendar
END:VEVENT
BEGIN:VEVENT
DTSTART;TZID=America/Vancouver:20181009T190000
DTEND;TZID=America/Vancouver:20181009T200000
DTSTAMP:20260420T035518
CREATED:20180923T182350Z
LAST-MODIFIED:20180923T182350Z
UID:768-1539111600-1539115200@elementary.sd42.ca
SUMMARY:P.A.C. Meeting
DESCRIPTION:Our next P.A.C. Meeting will be held on Tuesday\, October 9 at 7:00pm in the Library.
URL:https://elementary.sd42.ca/mapleridge/event/p-a-c-meeting-3/
CATEGORIES:school-based
END:VEVENT
BEGIN:VEVENT
DTSTART;VALUE=DATE:20181018
DTEND;VALUE=DATE:20181019
DTSTAMP:20260420T035518
CREATED:20180923T182108Z
LAST-MODIFIED:20180923T182211Z
UID:766-1539820800-1539907199@elementary.sd42.ca
SUMMARY:Spirit Wear Orders and Money Due Today
DESCRIPTION:
URL:https://elementary.sd42.ca/mapleridge/event/spirit-wear-orders-and-money-due-today/
CATEGORIES:school-based
END:VEVENT
BEGIN:VEVENT
DTSTART;TZID=America/Toronto:20181018T083000
DTEND;TZID=America/Toronto:20181018T083000
DTSTAMP:20260420T035518
CREATED:20180706T183101Z
LAST-MODIFIED:20180706T183101Z
UID:650-1539851400-1539851400@elementary.sd42.ca
SUMMARY:Photo Retakes (A.M.)
DESCRIPTION:
URL:https://elementary.sd42.ca/mapleridge/event/photo-retakes-a-m/
END:VEVENT
BEGIN:VEVENT
DTSTART;VALUE=DATE:20181019
DTEND;VALUE=DATE:20181020
DTSTAMP:20260420T035518
CREATED:20180526T010602Z
LAST-MODIFIED:20180526T010602Z
UID:565-1539907200-1539993599@elementary.sd42.ca
SUMMARY:Non-instructional day (province-wide)
DESCRIPTION:School not in session.
URL:https://elementary.sd42.ca/mapleridge/event/non-instructional-day-province-wide-2/
CATEGORIES:district calendar
END:VEVENT
BEGIN:VEVENT
DTSTART;TZID=America/Toronto:20181023T143000
DTEND;TZID=America/Toronto:20181023T143000
DTSTAMP:20260420T035518
CREATED:20180706T183138Z
LAST-MODIFIED:20180706T183138Z
UID:652-1540305000-1540305000@elementary.sd42.ca
SUMMARY:Intermediate Cross Country
DESCRIPTION:
URL:https://elementary.sd42.ca/mapleridge/event/intermediate-cross-country/
END:VEVENT
BEGIN:VEVENT
DTSTART;TZID=America/Toronto:20181024T143000
DTEND;TZID=America/Toronto:20181024T143000
DTSTAMP:20260420T035518
CREATED:20180706T183208Z
LAST-MODIFIED:20180706T183208Z
UID:654-1540391400-1540391400@elementary.sd42.ca
SUMMARY:Primary Cross Country
DESCRIPTION:
URL:https://elementary.sd42.ca/mapleridge/event/primary-cross-country/
END:VEVENT
BEGIN:VEVENT
DTSTART;TZID=America/Vancouver:20181031T110000
DTEND;TZID=America/Vancouver:20181031T120000
DTSTAMP:20260420T035518
CREATED:20181029T025036Z
LAST-MODIFIED:20181029T025036Z
UID:809-1540983600-1540987200@elementary.sd42.ca
SUMMARY:Grade 6/7 Halloween Dance
DESCRIPTION:
URL:https://elementary.sd42.ca/mapleridge/event/grade-6-7-halloween-dance/
CATEGORIES:school-based
END:VEVENT
BEGIN:VEVENT
DTSTART;TZID=America/Toronto:20181031T130000
DTEND;TZID=America/Toronto:20181031T143000
DTSTAMP:20260420T035518
CREATED:20180706T183250Z
LAST-MODIFIED:20180706T183250Z
UID:656-1540990800-1540996200@elementary.sd42.ca
SUMMARY:Halloween Monster Mash
DESCRIPTION:
URL:https://elementary.sd42.ca/mapleridge/event/halloween-monster-mash/
END:VEVENT
END:VCALENDAR