BEGIN:VCALENDAR
VERSION:2.0
PRODID:-//Maple Ridge Elementary - ECPv6.15.14//NONSGML v1.0//EN
CALSCALE:GREGORIAN
METHOD:PUBLISH
X-ORIGINAL-URL:https://elementary.sd42.ca/mapleridge
X-WR-CALDESC:Events for Maple Ridge Elementary
REFRESH-INTERVAL;VALUE=DURATION:PT1H
X-Robots-Tag:noindex
X-PUBLISHED-TTL:PT1H
BEGIN:VTIMEZONE
TZID:America/Vancouver
BEGIN:DAYLIGHT
TZOFFSETFROM:-0800
TZOFFSETTO:-0700
TZNAME:PDT
DTSTART:20170312T100000
END:DAYLIGHT
BEGIN:STANDARD
TZOFFSETFROM:-0700
TZOFFSETTO:-0800
TZNAME:PST
DTSTART:20171105T090000
END:STANDARD
BEGIN:DAYLIGHT
TZOFFSETFROM:-0800
TZOFFSETTO:-0700
TZNAME:PDT
DTSTART:20180311T100000
END:DAYLIGHT
BEGIN:STANDARD
TZOFFSETFROM:-0700
TZOFFSETTO:-0800
TZNAME:PST
DTSTART:20181104T090000
END:STANDARD
BEGIN:DAYLIGHT
TZOFFSETFROM:-0800
TZOFFSETTO:-0700
TZNAME:PDT
DTSTART:20190310T100000
END:DAYLIGHT
BEGIN:STANDARD
TZOFFSETFROM:-0700
TZOFFSETTO:-0800
TZNAME:PST
DTSTART:20191103T090000
END:STANDARD
END:VTIMEZONE
BEGIN:VTIMEZONE
TZID:America/Toronto
BEGIN:DAYLIGHT
TZOFFSETFROM:-0500
TZOFFSETTO:-0400
TZNAME:EDT
DTSTART:20170312T070000
END:DAYLIGHT
BEGIN:STANDARD
TZOFFSETFROM:-0400
TZOFFSETTO:-0500
TZNAME:EST
DTSTART:20171105T060000
END:STANDARD
BEGIN:DAYLIGHT
TZOFFSETFROM:-0500
TZOFFSETTO:-0400
TZNAME:EDT
DTSTART:20180311T070000
END:DAYLIGHT
BEGIN:STANDARD
TZOFFSETFROM:-0400
TZOFFSETTO:-0500
TZNAME:EST
DTSTART:20181104T060000
END:STANDARD
BEGIN:DAYLIGHT
TZOFFSETFROM:-0500
TZOFFSETTO:-0400
TZNAME:EDT
DTSTART:20190310T070000
END:DAYLIGHT
BEGIN:STANDARD
TZOFFSETFROM:-0400
TZOFFSETTO:-0500
TZNAME:EST
DTSTART:20191103T060000
END:STANDARD
END:VTIMEZONE
BEGIN:VEVENT
DTSTART;VALUE=DATE:20180904
DTEND;VALUE=DATE:20180905
DTSTAMP:20260420T035635
CREATED:20180526T010558Z
LAST-MODIFIED:20180526T010558Z
UID:562-1536019200-1536105599@elementary.sd42.ca
SUMMARY:School opens following summer holidays
DESCRIPTION:School opens following summer holidays.
URL:https://elementary.sd42.ca/mapleridge/event/school-opens-following-summer-holidays/
CATEGORIES:district calendar
END:VEVENT
BEGIN:VEVENT
DTSTART;TZID=America/Toronto:20180904T102500
DTEND;TZID=America/Toronto:20180904T102500
DTSTAMP:20260420T035635
CREATED:20180706T182624Z
LAST-MODIFIED:20180706T182624Z
UID:638-1536056700-1536056700@elementary.sd42.ca
SUMMARY:Assembly 10:25am
DESCRIPTION:
URL:https://elementary.sd42.ca/mapleridge/event/assembly-1025am/
END:VEVENT
BEGIN:VEVENT
DTSTART;TZID=America/Toronto:20180904T110000
DTEND;TZID=America/Toronto:20180904T110000
DTSTAMP:20260420T035635
CREATED:20180706T182528Z
LAST-MODIFIED:20180706T182528Z
UID:636-1536058800-1536058800@elementary.sd42.ca
SUMMARY:Early Dismissal 11:00am
DESCRIPTION:
URL:https://elementary.sd42.ca/mapleridge/event/early-dismissal-1100am/
END:VEVENT
BEGIN:VEVENT
DTSTART;TZID=America/Toronto:20180907T083000
DTEND;TZID=America/Toronto:20180907T120000
DTSTAMP:20260420T035635
CREATED:20180706T182716Z
LAST-MODIFIED:20180706T182716Z
UID:640-1536309000-1536321600@elementary.sd42.ca
SUMMARY:Pancake Breakfast
DESCRIPTION:
URL:https://elementary.sd42.ca/mapleridge/event/pancake-breakfast/
CATEGORIES:school-based
END:VEVENT
BEGIN:VEVENT
DTSTART;TZID=America/Vancouver:20180911T190000
DTEND;TZID=America/Vancouver:20180911T200000
DTSTAMP:20260420T035635
CREATED:20180903T212008Z
LAST-MODIFIED:20180903T212008Z
UID:737-1536692400-1536696000@elementary.sd42.ca
SUMMARY:P.A.C. Meeting
DESCRIPTION:Welcome Back! We hope that everyone had an amazing summer\, making amazing memories! We would like to take this opportunity to invite you all to our first PAC meeting on September 11 at 7pm in the Library of the school. As a reminder to our returning parents and a message to our new parents\, MRE PAC is a fundamental part of the MRE community. Our PAC is not only able to bring in super fun things for the students\, but also learning incentives like the book cart\, technology\, art supplies etc….with our ultimate goal of rebuilding our primary playground. Please also encourage other parents to come with you to our first meeting. It is a great way to meet new people and maintain MRE’s reputation for being a great school!
URL:https://elementary.sd42.ca/mapleridge/event/p-a-c-meeting-2/
CATEGORIES:school-based
END:VEVENT
BEGIN:VEVENT
DTSTART;VALUE=DATE:20180920
DTEND;VALUE=DATE:20180921
DTSTAMP:20260420T035635
CREATED:20180913T161823Z
LAST-MODIFIED:20180913T161823Z
UID:756-1537401600-1537487999@elementary.sd42.ca
SUMMARY:Hot Lunch Orders and Money Due
DESCRIPTION:
URL:https://elementary.sd42.ca/mapleridge/event/hot-lunch-orders-and-money-due/
CATEGORIES:school-based
END:VEVENT
BEGIN:VEVENT
DTSTART;TZID=America/Toronto:20180921T124500
DTEND;TZID=America/Toronto:20180921T142000
DTSTAMP:20260420T035635
CREATED:20180706T182802Z
LAST-MODIFIED:20180903T211352Z
UID:642-1537533900-1537539600@elementary.sd42.ca
SUMMARY:Terry Fox Run
DESCRIPTION:
URL:https://elementary.sd42.ca/mapleridge/event/terry-fox-run/
CATEGORIES:school-based
END:VEVENT
BEGIN:VEVENT
DTSTART;VALUE=DATE:20180924
DTEND;VALUE=DATE:20180925
DTSTAMP:20260420T035635
CREATED:20180526T010559Z
LAST-MODIFIED:20180526T010559Z
UID:563-1537747200-1537833599@elementary.sd42.ca
SUMMARY:Non-instructional day (curriculum implementation)
DESCRIPTION:School not in session.
URL:https://elementary.sd42.ca/mapleridge/event/non-instructional-day-curriculum-implementation/
CATEGORIES:district calendar
END:VEVENT
BEGIN:VEVENT
DTSTART;VALUE=DATE:20180926
DTEND;VALUE=DATE:20180927
DTSTAMP:20260420T035635
CREATED:20180706T182844Z
LAST-MODIFIED:20180706T182844Z
UID:644-1537920000-1538006399@elementary.sd42.ca
SUMMARY:School Photo Day (Individual)
DESCRIPTION:
URL:https://elementary.sd42.ca/mapleridge/event/school-photo-day-individual/
END:VEVENT
BEGIN:VEVENT
DTSTART;VALUE=DATE:20180928
DTEND;VALUE=DATE:20180929
DTSTAMP:20260420T035635
CREATED:20180706T182912Z
LAST-MODIFIED:20180706T182912Z
UID:646-1538092800-1538179199@elementary.sd42.ca
SUMMARY:Orange Shirt Day
DESCRIPTION:
URL:https://elementary.sd42.ca/mapleridge/event/orange-shirt-day/
END:VEVENT
BEGIN:VEVENT
DTSTART;VALUE=DATE:20180928
DTEND;VALUE=DATE:20180929
DTSTAMP:20260420T035635
CREATED:20180913T161800Z
LAST-MODIFIED:20180913T161800Z
UID:754-1538092800-1538179199@elementary.sd42.ca
SUMMARY:Hot Lunch Day (Little Caesars)
DESCRIPTION:
URL:https://elementary.sd42.ca/mapleridge/event/hot-lunch-day-little-caesars/
CATEGORIES:school-based
END:VEVENT
END:VCALENDAR