BEGIN:VCALENDAR
VERSION:2.0
PRODID:-//Maple Ridge Elementary - ECPv6.15.14//NONSGML v1.0//EN
CALSCALE:GREGORIAN
METHOD:PUBLISH
X-ORIGINAL-URL:https://elementary.sd42.ca/mapleridge
X-WR-CALDESC:Events for Maple Ridge Elementary
REFRESH-INTERVAL;VALUE=DURATION:PT1H
X-Robots-Tag:noindex
X-PUBLISHED-TTL:PT1H
BEGIN:VTIMEZONE
TZID:America/Vancouver
BEGIN:DAYLIGHT
TZOFFSETFROM:-0800
TZOFFSETTO:-0700
TZNAME:PDT
DTSTART:20170312T100000
END:DAYLIGHT
BEGIN:STANDARD
TZOFFSETFROM:-0700
TZOFFSETTO:-0800
TZNAME:PST
DTSTART:20171105T090000
END:STANDARD
BEGIN:DAYLIGHT
TZOFFSETFROM:-0800
TZOFFSETTO:-0700
TZNAME:PDT
DTSTART:20180311T100000
END:DAYLIGHT
BEGIN:STANDARD
TZOFFSETFROM:-0700
TZOFFSETTO:-0800
TZNAME:PST
DTSTART:20181104T090000
END:STANDARD
BEGIN:DAYLIGHT
TZOFFSETFROM:-0800
TZOFFSETTO:-0700
TZNAME:PDT
DTSTART:20190310T100000
END:DAYLIGHT
BEGIN:STANDARD
TZOFFSETFROM:-0700
TZOFFSETTO:-0800
TZNAME:PST
DTSTART:20191103T090000
END:STANDARD
END:VTIMEZONE
BEGIN:VTIMEZONE
TZID:America/Toronto
BEGIN:DAYLIGHT
TZOFFSETFROM:-0500
TZOFFSETTO:-0400
TZNAME:EDT
DTSTART:20170312T070000
END:DAYLIGHT
BEGIN:STANDARD
TZOFFSETFROM:-0400
TZOFFSETTO:-0500
TZNAME:EST
DTSTART:20171105T060000
END:STANDARD
BEGIN:DAYLIGHT
TZOFFSETFROM:-0500
TZOFFSETTO:-0400
TZNAME:EDT
DTSTART:20180311T070000
END:DAYLIGHT
BEGIN:STANDARD
TZOFFSETFROM:-0400
TZOFFSETTO:-0500
TZNAME:EST
DTSTART:20181104T060000
END:STANDARD
BEGIN:DAYLIGHT
TZOFFSETFROM:-0500
TZOFFSETTO:-0400
TZNAME:EDT
DTSTART:20190310T070000
END:DAYLIGHT
BEGIN:STANDARD
TZOFFSETFROM:-0400
TZOFFSETTO:-0500
TZNAME:EST
DTSTART:20191103T060000
END:STANDARD
END:VTIMEZONE
BEGIN:VEVENT
DTSTART;TZID=America/Vancouver:20180502T090000
DTEND;TZID=America/Vancouver:20180502T100000
DTSTAMP:20260420T214629
CREATED:20180111T021601Z
LAST-MODIFIED:20180426T185038Z
UID:438-1525251600-1525255200@elementary.sd42.ca
SUMMARY:Monthly Assembly
DESCRIPTION:
URL:https://elementary.sd42.ca/mapleridge/event/monthly-assembly-3/
CATEGORIES:school-based
END:VEVENT
BEGIN:VEVENT
DTSTART;TZID=America/Toronto:20180508T190000
DTEND;TZID=America/Toronto:20180508T200000
DTSTAMP:20260420T214629
CREATED:20180426T185411Z
LAST-MODIFIED:20180426T185411Z
UID:521-1525806000-1525809600@elementary.sd42.ca
SUMMARY:P.A.C. Meeting
DESCRIPTION:
URL:https://elementary.sd42.ca/mapleridge/event/p-a-c-meeting/
END:VEVENT
BEGIN:VEVENT
DTSTART;TZID=America/Vancouver:20180509T123000
DTEND;TZID=America/Vancouver:20180509T143000
DTSTAMP:20260420T214629
CREATED:20180111T021644Z
LAST-MODIFIED:20180111T021644Z
UID:440-1525869000-1525876200@elementary.sd42.ca
SUMMARY:Welcome to Kindergarten!
DESCRIPTION:
URL:https://elementary.sd42.ca/mapleridge/event/welcome-to-kindergarten/
CATEGORIES:school-based
END:VEVENT
BEGIN:VEVENT
DTSTART;TZID=America/Toronto:20180510T143000
DTEND;TZID=America/Toronto:20180510T150000
DTSTAMP:20260420T214629
CREATED:20180426T185517Z
LAST-MODIFIED:20180426T185517Z
UID:523-1525962600-1525964400@elementary.sd42.ca
SUMMARY:Grade 7 Freezie Sale
DESCRIPTION:
URL:https://elementary.sd42.ca/mapleridge/event/grade-7-freezie-sale/
END:VEVENT
BEGIN:VEVENT
DTSTART;TZID=America/Toronto:20180511T080000
DTEND;TZID=America/Toronto:20180511T083000
DTSTAMP:20260420T214629
CREATED:20180426T185601Z
LAST-MODIFIED:20180426T185601Z
UID:525-1526025600-1526027400@elementary.sd42.ca
SUMMARY:Muffins for Moms
DESCRIPTION:
URL:https://elementary.sd42.ca/mapleridge/event/muffins-for-moms/
END:VEVENT
BEGIN:VEVENT
DTSTART;TZID=America/Toronto:20180516T124500
DTEND;TZID=America/Toronto:20180516T143000
DTSTAMP:20260420T214629
CREATED:20180516T194241Z
LAST-MODIFIED:20180516T194241Z
UID:553-1526474700-1526481000@elementary.sd42.ca
SUMMARY:Spring Musical (Daytime Performance)
DESCRIPTION:Doors open at 12:15pm.
URL:https://elementary.sd42.ca/mapleridge/event/spring-musical-daytime-performance/
END:VEVENT
BEGIN:VEVENT
DTSTART;TZID=America/Toronto:20180517T180000
DTEND;TZID=America/Toronto:20180517T193000
DTSTAMP:20260420T214629
CREATED:20180426T185700Z
LAST-MODIFIED:20180516T194134Z
UID:527-1526580000-1526585400@elementary.sd42.ca
SUMMARY:Spring Musical (Evening Performance)
DESCRIPTION:Doors open at 5:30pm.
URL:https://elementary.sd42.ca/mapleridge/event/spring-musical-evening-performance/
END:VEVENT
BEGIN:VEVENT
DTSTART;TZID=America/Toronto:20180518T090000
DTEND;TZID=America/Toronto:20180518T103000
DTSTAMP:20260420T214629
CREATED:20180426T185743Z
LAST-MODIFIED:20180426T185743Z
UID:529-1526634000-1526639400@elementary.sd42.ca
SUMMARY:Art Starts Performance (all classes)
DESCRIPTION:
URL:https://elementary.sd42.ca/mapleridge/event/art-starts-performance-all-classes/
END:VEVENT
BEGIN:VEVENT
DTSTART;VALUE=DATE:20180521
DTEND;VALUE=DATE:20180522
DTSTAMP:20260420T214629
CREATED:20170816T200900Z
LAST-MODIFIED:20170816T200900Z
UID:144-1526860800-1526947199@elementary.sd42.ca
SUMMARY:Victoria Day
DESCRIPTION:Statutory holiday. School not in session.
URL:https://elementary.sd42.ca/mapleridge/event/victoria-day/
CATEGORIES:district calendar
END:VEVENT
BEGIN:VEVENT
DTSTART;VALUE=DATE:20180522
DTEND;VALUE=DATE:20180523
DTSTAMP:20260420T214629
CREATED:20170816T200951Z
LAST-MODIFIED:20170816T200951Z
UID:146-1526947200-1527033599@elementary.sd42.ca
SUMMARY:Non-instructional day (district)
DESCRIPTION:School not in session.
URL:https://elementary.sd42.ca/mapleridge/event/non-instructional-day-district/
CATEGORIES:district calendar
ATTACH;FMTTYPE=image/jpeg:https://wordpress1.blob.core.windows.net/maple-ridge-elementary/2017/08/chalk.jpg
END:VEVENT
BEGIN:VEVENT
DTSTART;VALUE=DATE:20180524
DTEND;VALUE=DATE:20180525
DTSTAMP:20260420T214629
CREATED:20180516T194618Z
LAST-MODIFIED:20180516T194633Z
UID:555-1527120000-1527206399@elementary.sd42.ca
SUMMARY:Class and Group Photos
DESCRIPTION:
URL:https://elementary.sd42.ca/mapleridge/event/class-and-group-photos/
END:VEVENT
BEGIN:VEVENT
DTSTART;TZID=America/Toronto:20180525T083000
DTEND;TZID=America/Toronto:20180525T120000
DTSTAMP:20260420T214629
CREATED:20180516T194811Z
LAST-MODIFIED:20180516T194811Z
UID:557-1527237000-1527249600@elementary.sd42.ca
SUMMARY:Sexual Health Presentations by Kathleen Hatley
DESCRIPTION:
URL:https://elementary.sd42.ca/mapleridge/event/sexual-health-presentations-by-kathleen-hatley/
CATEGORIES:school-based
END:VEVENT
BEGIN:VEVENT
DTSTART;VALUE=DATE:20180530
DTEND;VALUE=DATE:20180531
DTSTAMP:20260420T214629
CREATED:20180426T185827Z
LAST-MODIFIED:20180426T185827Z
UID:531-1527638400-1527724799@elementary.sd42.ca
SUMMARY:Grade 7's Visit to Highschools
DESCRIPTION:
URL:https://elementary.sd42.ca/mapleridge/event/grade-7s-visit-to-highschools/
END:VEVENT
END:VCALENDAR