BEGIN:VCALENDAR
VERSION:2.0
PRODID:-//Maple Ridge Elementary - ECPv6.15.14//NONSGML v1.0//EN
CALSCALE:GREGORIAN
METHOD:PUBLISH
X-WR-CALNAME:Maple Ridge Elementary
X-ORIGINAL-URL:https://elementary.sd42.ca/mapleridge
X-WR-CALDESC:Events for Maple Ridge Elementary
REFRESH-INTERVAL;VALUE=DURATION:PT1H
X-Robots-Tag:noindex
X-PUBLISHED-TTL:PT1H
BEGIN:VTIMEZONE
TZID:America/Vancouver
BEGIN:DAYLIGHT
TZOFFSETFROM:-0800
TZOFFSETTO:-0700
TZNAME:PDT
DTSTART:20210314T100000
END:DAYLIGHT
BEGIN:STANDARD
TZOFFSETFROM:-0700
TZOFFSETTO:-0800
TZNAME:PST
DTSTART:20211107T090000
END:STANDARD
BEGIN:DAYLIGHT
TZOFFSETFROM:-0800
TZOFFSETTO:-0700
TZNAME:PDT
DTSTART:20220313T100000
END:DAYLIGHT
BEGIN:STANDARD
TZOFFSETFROM:-0700
TZOFFSETTO:-0800
TZNAME:PST
DTSTART:20221106T090000
END:STANDARD
BEGIN:DAYLIGHT
TZOFFSETFROM:-0800
TZOFFSETTO:-0700
TZNAME:PDT
DTSTART:20230312T100000
END:DAYLIGHT
BEGIN:STANDARD
TZOFFSETFROM:-0700
TZOFFSETTO:-0800
TZNAME:PST
DTSTART:20231105T090000
END:STANDARD
END:VTIMEZONE
BEGIN:VEVENT
DTSTART;VALUE=DATE:20221214
DTEND;VALUE=DATE:20221215
DTSTAMP:20260425T094134
CREATED:20221207T222253Z
LAST-MODIFIED:20221207T222253Z
UID:3536-1670976000-1671062399@elementary.sd42.ca
SUMMARY:Holiday Havoc Spirit Day
DESCRIPTION:
URL:https://elementary.sd42.ca/mapleridge/event/holiday-havoc-spirit-day/
CATEGORIES:district calendar
END:VEVENT
BEGIN:VEVENT
DTSTART;TZID=America/Vancouver:20221214T090000
DTEND;TZID=America/Vancouver:20221214T103000
DTSTAMP:20260425T094134
CREATED:20221207T222055Z
LAST-MODIFIED:20221207T222055Z
UID:3532-1671008400-1671013800@elementary.sd42.ca
SUMMARY:Christmas Concert
DESCRIPTION:
URL:https://elementary.sd42.ca/mapleridge/event/christmas-concert-3/
END:VEVENT
END:VCALENDAR