BEGIN:VCALENDAR
VERSION:2.0
PRODID:-//Laity View Elementary - ECPv6.15.14//NONSGML v1.0//EN
CALSCALE:GREGORIAN
METHOD:PUBLISH
X-ORIGINAL-URL:https://elementary.sd42.ca/laityview
X-WR-CALDESC:Events for Laity View Elementary
REFRESH-INTERVAL;VALUE=DURATION:PT1H
X-Robots-Tag:noindex
X-PUBLISHED-TTL:PT1H
BEGIN:VTIMEZONE
TZID:America/Vancouver
BEGIN:DAYLIGHT
TZOFFSETFROM:-0800
TZOFFSETTO:-0700
TZNAME:PDT
DTSTART:20190310T100000
END:DAYLIGHT
BEGIN:STANDARD
TZOFFSETFROM:-0700
TZOFFSETTO:-0800
TZNAME:PST
DTSTART:20191103T090000
END:STANDARD
BEGIN:DAYLIGHT
TZOFFSETFROM:-0800
TZOFFSETTO:-0700
TZNAME:PDT
DTSTART:20200308T100000
END:DAYLIGHT
BEGIN:STANDARD
TZOFFSETFROM:-0700
TZOFFSETTO:-0800
TZNAME:PST
DTSTART:20201101T090000
END:STANDARD
BEGIN:DAYLIGHT
TZOFFSETFROM:-0800
TZOFFSETTO:-0700
TZNAME:PDT
DTSTART:20210314T100000
END:DAYLIGHT
BEGIN:STANDARD
TZOFFSETFROM:-0700
TZOFFSETTO:-0800
TZNAME:PST
DTSTART:20211107T090000
END:STANDARD
BEGIN:DAYLIGHT
TZOFFSETFROM:-0800
TZOFFSETTO:-0700
TZNAME:PDT
DTSTART:20220313T100000
END:DAYLIGHT
BEGIN:STANDARD
TZOFFSETFROM:-0700
TZOFFSETTO:-0800
TZNAME:PST
DTSTART:20221106T090000
END:STANDARD
END:VTIMEZONE
BEGIN:VEVENT
DTSTART;VALUE=DATE:20201221
DTEND;VALUE=DATE:20210102
DTSTAMP:20260421T092106
CREATED:20200629T224627Z
LAST-MODIFIED:20200629T224627Z
UID:911-1608508800-1609545599@elementary.sd42.ca
SUMMARY:Winter break
DESCRIPTION:School closed for winter break.
URL:https://elementary.sd42.ca/laityview/event/winter-break-3/
CATEGORIES:District Calendar
END:VEVENT
BEGIN:VEVENT
DTSTART;VALUE=DATE:20210104
DTEND;VALUE=DATE:20210105
DTSTAMP:20260421T092106
CREATED:20200629T224627Z
LAST-MODIFIED:20200629T224627Z
UID:912-1609718400-1609804799@elementary.sd42.ca
SUMMARY:School reopens after winter break
DESCRIPTION:School reopens after winter break.
URL:https://elementary.sd42.ca/laityview/event/school-reopens-after-winter-break-4/
CATEGORIES:District Calendar
END:VEVENT
BEGIN:VEVENT
DTSTART;TZID=America/Vancouver:20210106T120000
DTEND;TZID=America/Vancouver:20210106T120000
DTSTAMP:20260421T092106
CREATED:20201109T231744Z
LAST-MODIFIED:20201109T232223Z
UID:1044-1609934400-1609934400@elementary.sd42.ca
SUMMARY:Kindergarten Registration - Sibling Phase Starts @ Noon
DESCRIPTION:
URL:https://elementary.sd42.ca/laityview/event/kindergarten-registration-starts-12noon/
END:VEVENT
BEGIN:VEVENT
DTSTART;VALUE=DATE:20210107
DTEND;VALUE=DATE:20210113
DTSTAMP:20260421T092106
CREATED:20201109T232150Z
LAST-MODIFIED:20201109T232150Z
UID:1047-1609977600-1610495999@elementary.sd42.ca
SUMMARY:Kindergarten Registration -Sibling Phase
DESCRIPTION:
URL:https://elementary.sd42.ca/laityview/event/kindergarten-registration-sibling-phase/
END:VEVENT
BEGIN:VEVENT
DTSTART;TZID=America/Vancouver:20210120T120000
DTEND;TZID=America/Vancouver:20210120T233000
DTSTAMP:20260421T092106
CREATED:20201109T232325Z
LAST-MODIFIED:20201109T232325Z
UID:1050-1611144000-1611185400@elementary.sd42.ca
SUMMARY:Kindergarten Registration - Choice - Starts @ Noon
DESCRIPTION:
URL:https://elementary.sd42.ca/laityview/event/kindergarten-registration-choice-starts-noon/
END:VEVENT
BEGIN:VEVENT
DTSTART;VALUE=DATE:20210121
DTEND;VALUE=DATE:20210126
DTSTAMP:20260421T092106
CREATED:20201109T232614Z
LAST-MODIFIED:20201109T232747Z
UID:1055-1611187200-1611619199@elementary.sd42.ca
SUMMARY:Kindergarten Registration - Choice
DESCRIPTION:
URL:https://elementary.sd42.ca/laityview/event/kindergarten-registration-choice-3/
END:VEVENT
BEGIN:VEVENT
DTSTART;VALUE=DATE:20210125
DTEND;VALUE=DATE:20210126
DTSTAMP:20260421T092106
CREATED:20200629T224627Z
LAST-MODIFIED:20200629T224627Z
UID:913-1611532800-1611619199@elementary.sd42.ca
SUMMARY:Non-instructional day (district-based)
DESCRIPTION:School not in session.
URL:https://elementary.sd42.ca/laityview/event/non-instructional-day-district-based/
CATEGORIES:District Calendar
END:VEVENT
END:VCALENDAR