BEGIN:VCALENDAR
VERSION:2.0
PRODID:-//Kanaka Creek Elementary - ECPv6.15.17//NONSGML v1.0//EN
CALSCALE:GREGORIAN
METHOD:PUBLISH
X-WR-CALNAME:Kanaka Creek Elementary
X-ORIGINAL-URL:https://elementary.sd42.ca/kanakacreek
X-WR-CALDESC:Events for Kanaka Creek Elementary
REFRESH-INTERVAL;VALUE=DURATION:PT1H
X-Robots-Tag:noindex
X-PUBLISHED-TTL:PT1H
BEGIN:VTIMEZONE
TZID:America/Vancouver
BEGIN:DAYLIGHT
TZOFFSETFROM:-0800
TZOFFSETTO:-0700
TZNAME:PDT
DTSTART:20230312T100000
END:DAYLIGHT
BEGIN:STANDARD
TZOFFSETFROM:-0700
TZOFFSETTO:-0800
TZNAME:PST
DTSTART:20231105T090000
END:STANDARD
BEGIN:DAYLIGHT
TZOFFSETFROM:-0800
TZOFFSETTO:-0700
TZNAME:PDT
DTSTART:20240310T100000
END:DAYLIGHT
BEGIN:STANDARD
TZOFFSETFROM:-0700
TZOFFSETTO:-0800
TZNAME:PST
DTSTART:20241103T090000
END:STANDARD
BEGIN:DAYLIGHT
TZOFFSETFROM:-0800
TZOFFSETTO:-0700
TZNAME:PDT
DTSTART:20250309T100000
END:DAYLIGHT
BEGIN:STANDARD
TZOFFSETFROM:-0700
TZOFFSETTO:-0800
TZNAME:PST
DTSTART:20251102T090000
END:STANDARD
BEGIN:DAYLIGHT
TZOFFSETFROM:-0800
TZOFFSETTO:-0700
TZNAME:PDT
DTSTART:20260308T100000
END:DAYLIGHT
BEGIN:STANDARD
TZOFFSETFROM:-0700
TZOFFSETTO:-0800
TZNAME:PST
DTSTART:20261101T090000
END:STANDARD
END:VTIMEZONE
BEGIN:VEVENT
DTSTART;VALUE=DATE:20241209
DTEND;VALUE=DATE:20250104
DTSTAMP:20260419T143632
CREATED:20241105T221100Z
LAST-MODIFIED:20241105T221153Z
UID:3787-1733702400-1735948799@elementary.sd42.ca
SUMMARY:Winter Break
DESCRIPTION:School closed for winter break. School reopens January 6\, 2025.
URL:https://elementary.sd42.ca/kanakacreek/event/winter-break-6/
END:VEVENT
BEGIN:VEVENT
DTSTART;VALUE=DATE:20250106
DTEND;VALUE=DATE:20250107
DTSTAMP:20260419T143632
CREATED:20241105T221257Z
LAST-MODIFIED:20241105T221257Z
UID:3790-1736121600-1736207999@elementary.sd42.ca
SUMMARY:School reopens after break
DESCRIPTION:School reopens after winter break
URL:https://elementary.sd42.ca/kanakacreek/event/school-reopens-after-break-6/
CATEGORIES:District Events
END:VEVENT
BEGIN:VEVENT
DTSTART;VALUE=DATE:20250128
DTEND;VALUE=DATE:20250129
DTSTAMP:20260419T143632
CREATED:20241105T221351Z
LAST-MODIFIED:20241105T221351Z
UID:3792-1738022400-1738108799@elementary.sd42.ca
SUMMARY:Non-Instructional Day (district-based)
DESCRIPTION:School closed for students.
URL:https://elementary.sd42.ca/kanakacreek/event/non-instructional-day-district-based-7/
CATEGORIES:district calendar
END:VEVENT
END:VCALENDAR