BEGIN:VCALENDAR
VERSION:2.0
PRODID:-//Kanaka Creek Elementary - ECPv6.15.17//NONSGML v1.0//EN
CALSCALE:GREGORIAN
METHOD:PUBLISH
X-ORIGINAL-URL:https://elementary.sd42.ca/kanakacreek
X-WR-CALDESC:Events for Kanaka Creek Elementary
REFRESH-INTERVAL;VALUE=DURATION:PT1H
X-Robots-Tag:noindex
X-PUBLISHED-TTL:PT1H
BEGIN:VTIMEZONE
TZID:America/Vancouver
BEGIN:DAYLIGHT
TZOFFSETFROM:-0800
TZOFFSETTO:-0700
TZNAME:PDT
DTSTART:20170312T100000
END:DAYLIGHT
BEGIN:STANDARD
TZOFFSETFROM:-0700
TZOFFSETTO:-0800
TZNAME:PST
DTSTART:20171105T090000
END:STANDARD
BEGIN:DAYLIGHT
TZOFFSETFROM:-0800
TZOFFSETTO:-0700
TZNAME:PDT
DTSTART:20180311T100000
END:DAYLIGHT
BEGIN:STANDARD
TZOFFSETFROM:-0700
TZOFFSETTO:-0800
TZNAME:PST
DTSTART:20181104T090000
END:STANDARD
BEGIN:DAYLIGHT
TZOFFSETFROM:-0800
TZOFFSETTO:-0700
TZNAME:PDT
DTSTART:20190310T100000
END:DAYLIGHT
BEGIN:STANDARD
TZOFFSETFROM:-0700
TZOFFSETTO:-0800
TZNAME:PST
DTSTART:20191103T090000
END:STANDARD
END:VTIMEZONE
BEGIN:VEVENT
DTSTART;TZID=America/Vancouver:20181203T080000
DTEND;TZID=America/Vancouver:20181203T170000
DTSTAMP:20260422T181817
CREATED:20181203T215212Z
LAST-MODIFIED:20181203T215212Z
UID:1343-1543824000-1543856400@elementary.sd42.ca
SUMMARY:Christmas Concert 7pm
DESCRIPTION:Dress rehearsal is at 1:00 pm
URL:https://elementary.sd42.ca/kanakacreek/event/christmas-concert-7pm/
CATEGORIES:District Events
END:VEVENT
BEGIN:VEVENT
DTSTART;TZID=America/Vancouver:20181203T080000
DTEND;TZID=America/Vancouver:20181203T170000
DTSTAMP:20260422T181817
CREATED:20181203T215756Z
LAST-MODIFIED:20181203T215756Z
UID:1350-1543824000-1543856400@elementary.sd42.ca
SUMMARY:Field Trips - January 30
DESCRIPTION:Div. 20 – The ACT Art Gallery Tour 9:30-12
URL:https://elementary.sd42.ca/kanakacreek/event/field-trips-january-30/
CATEGORIES:District Events
END:VEVENT
BEGIN:VEVENT
DTSTART;TZID=America/Vancouver:20181203T100000
DTEND;TZID=America/Vancouver:20181203T120000
DTSTAMP:20260422T181817
CREATED:20181114T181716Z
LAST-MODIFIED:20181114T181716Z
UID:1269-1543831200-1543838400@elementary.sd42.ca
SUMMARY:Gr.4/5 -7 (French) Poutine Truck
DESCRIPTION:
URL:https://elementary.sd42.ca/kanakacreek/event/gr-4-5-7-french-poutine-truck/
CATEGORIES:District Events
END:VEVENT
BEGIN:VEVENT
DTSTART;TZID=America/Vancouver:20181203T183000
DTEND;TZID=America/Vancouver:20181203T200000
DTSTAMP:20260422T181817
CREATED:20181114T181817Z
LAST-MODIFIED:20181114T181817Z
UID:1271-1543861800-1543867200@elementary.sd42.ca
SUMMARY:Grade 7 Leaving Celebration Meeting 6:30 in the Library
DESCRIPTION:
URL:https://elementary.sd42.ca/kanakacreek/event/grade-7-leaving-celebration-meeting-630-in-the-library/
CATEGORIES:District Events
END:VEVENT
BEGIN:VEVENT
DTSTART;VALUE=DATE:20181204
DTEND;VALUE=DATE:20181205
DTSTAMP:20260422T181817
CREATED:20181017T215430Z
LAST-MODIFIED:20181203T214937Z
UID:1210-1543881600-1543967999@elementary.sd42.ca
SUMMARY:Field Trips December 4
DESCRIPTION:Div.  8 & 9 – Amsterdam Nursery
URL:https://elementary.sd42.ca/kanakacreek/event/field-trips-december-4/
CATEGORIES:District Events
END:VEVENT
BEGIN:VEVENT
DTSTART;VALUE=DATE:20181204
DTEND;VALUE=DATE:20181205
DTSTAMP:20260422T181817
CREATED:20181203T215037Z
LAST-MODIFIED:20181203T215037Z
UID:1340-1543881600-1543967999@elementary.sd42.ca
SUMMARY:Grade 6 Immunizations (for those who missed last week)
DESCRIPTION:
URL:https://elementary.sd42.ca/kanakacreek/event/grade-6-immunizations-for-those-who-missed-last-week/
CATEGORIES:District Events
END:VEVENT
BEGIN:VEVENT
DTSTART;VALUE=DATE:20181205
DTEND;VALUE=DATE:20181206
DTSTAMP:20260422T181817
CREATED:20181003T215354Z
LAST-MODIFIED:20181003T215354Z
UID:1117-1543968000-1544054399@elementary.sd42.ca
SUMMARY:Entrepreneur Fair
DESCRIPTION:Divisions 1-4 will be selling their creations at the Fair from 8:30 until after lunch.   Everyone welcome to come and shop.
URL:https://elementary.sd42.ca/kanakacreek/event/entrepreneur-fair/
CATEGORIES:District Events
END:VEVENT
BEGIN:VEVENT
DTSTART;TZID=America/Vancouver:20181205T100000
DTEND;TZID=America/Vancouver:20181205T103000
DTSTAMP:20260422T181817
CREATED:20181017T215526Z
LAST-MODIFIED:20181017T215526Z
UID:1212-1544004000-1544005800@elementary.sd42.ca
SUMMARY:Popcorn Day
DESCRIPTION:Order on line
URL:https://elementary.sd42.ca/kanakacreek/event/popcorn-day-4/
CATEGORIES:District Events
END:VEVENT
BEGIN:VEVENT
DTSTART;TZID=America/Vancouver:20181206T080000
DTEND;TZID=America/Vancouver:20181206T170000
DTSTAMP:20260422T181817
CREATED:20181017T215623Z
LAST-MODIFIED:20181203T215138Z
UID:1214-1544083200-1544115600@elementary.sd42.ca
SUMMARY:Field Trips December 6
DESCRIPTION:Div. 5\, 6\, 14 & 15 – Science World\nDiv. 3 & 4 – Skating
URL:https://elementary.sd42.ca/kanakacreek/event/field-trips-december-6/
CATEGORIES:District Events
END:VEVENT
BEGIN:VEVENT
DTSTART;VALUE=DATE:20181207
DTEND;VALUE=DATE:20181208
DTSTAMP:20260422T181817
CREATED:20181017T221048Z
LAST-MODIFIED:20181017T221106Z
UID:1216-1544140800-1544227199@elementary.sd42.ca
SUMMARY:Field Trips December 7
DESCRIPTION:Div. 4\, 5\, 14 & 15 Swimming\nDiv. 19-22 The ACT – Sultans of Strings
URL:https://elementary.sd42.ca/kanakacreek/event/field-trips-december-7/
CATEGORIES:District Events
END:VEVENT
BEGIN:VEVENT
DTSTART;TZID=America/Vancouver:20181207T093000
DTEND;TZID=America/Vancouver:20181207T103000
DTSTAMP:20260422T181817
CREATED:20181203T215429Z
LAST-MODIFIED:20181203T215429Z
UID:1345-1544175000-1544178600@elementary.sd42.ca
SUMMARY:Kindergarten Concert 9:30
DESCRIPTION:
URL:https://elementary.sd42.ca/kanakacreek/event/kindergarten-concert-930/
CATEGORIES:District Events
END:VEVENT
END:VCALENDAR