BEGIN:VCALENDAR
VERSION:2.0
PRODID:-//Kanaka Creek Elementary - ECPv6.15.17//NONSGML v1.0//EN
CALSCALE:GREGORIAN
METHOD:PUBLISH
X-WR-CALNAME:Kanaka Creek Elementary
X-ORIGINAL-URL:https://elementary.sd42.ca/kanakacreek
X-WR-CALDESC:Events for Kanaka Creek Elementary
REFRESH-INTERVAL;VALUE=DURATION:PT1H
X-Robots-Tag:noindex
X-PUBLISHED-TTL:PT1H
BEGIN:VTIMEZONE
TZID:America/Toronto
BEGIN:DAYLIGHT
TZOFFSETFROM:-0500
TZOFFSETTO:-0400
TZNAME:EDT
DTSTART:20160313T070000
END:DAYLIGHT
BEGIN:STANDARD
TZOFFSETFROM:-0400
TZOFFSETTO:-0500
TZNAME:EST
DTSTART:20161106T060000
END:STANDARD
BEGIN:DAYLIGHT
TZOFFSETFROM:-0500
TZOFFSETTO:-0400
TZNAME:EDT
DTSTART:20170312T070000
END:DAYLIGHT
BEGIN:STANDARD
TZOFFSETFROM:-0400
TZOFFSETTO:-0500
TZNAME:EST
DTSTART:20171105T060000
END:STANDARD
BEGIN:DAYLIGHT
TZOFFSETFROM:-0500
TZOFFSETTO:-0400
TZNAME:EDT
DTSTART:20180311T070000
END:DAYLIGHT
BEGIN:STANDARD
TZOFFSETFROM:-0400
TZOFFSETTO:-0500
TZNAME:EST
DTSTART:20181104T060000
END:STANDARD
END:VTIMEZONE
BEGIN:VEVENT
DTSTART;VALUE=DATE:20170905
DTEND;VALUE=DATE:20170906
DTSTAMP:20260419T091553
CREATED:20170729T015102Z
LAST-MODIFIED:20170818T010950Z
UID:29-1504569600-1504655999@elementary.sd42.ca
SUMMARY:School opens
DESCRIPTION:School opens following summer holidays.
URL:https://elementary.sd42.ca/kanakacreek/event/school-opens-for-students/
CATEGORIES:District Events
END:VEVENT
BEGIN:VEVENT
DTSTART;VALUE=DATE:20170925
DTEND;VALUE=DATE:20170926
DTSTAMP:20260419T091553
CREATED:20170729T015229Z
LAST-MODIFIED:20170818T011102Z
UID:31-1506297600-1506383999@elementary.sd42.ca
SUMMARY:Non-instructional day (curriculum implementation day)
DESCRIPTION:School not in session.
URL:https://elementary.sd42.ca/kanakacreek/event/non-instructional-day-curriculum-implementation-day/
CATEGORIES:District Events
END:VEVENT
END:VCALENDAR