BEGIN:VCALENDAR
VERSION:2.0
PRODID:-//Kanaka Creek Elementary - ECPv6.15.17//NONSGML v1.0//EN
CALSCALE:GREGORIAN
METHOD:PUBLISH
X-WR-CALNAME:Kanaka Creek Elementary
X-ORIGINAL-URL:https://elementary.sd42.ca/kanakacreek
X-WR-CALDESC:Events for Kanaka Creek Elementary
REFRESH-INTERVAL;VALUE=DURATION:PT1H
X-Robots-Tag:noindex
X-PUBLISHED-TTL:PT1H
BEGIN:VTIMEZONE
TZID:America/Vancouver
BEGIN:DAYLIGHT
TZOFFSETFROM:-0800
TZOFFSETTO:-0700
TZNAME:PDT
DTSTART:20170312T100000
END:DAYLIGHT
BEGIN:STANDARD
TZOFFSETFROM:-0700
TZOFFSETTO:-0800
TZNAME:PST
DTSTART:20171105T090000
END:STANDARD
BEGIN:DAYLIGHT
TZOFFSETFROM:-0800
TZOFFSETTO:-0700
TZNAME:PDT
DTSTART:20180311T100000
END:DAYLIGHT
BEGIN:STANDARD
TZOFFSETFROM:-0700
TZOFFSETTO:-0800
TZNAME:PST
DTSTART:20181104T090000
END:STANDARD
BEGIN:DAYLIGHT
TZOFFSETFROM:-0800
TZOFFSETTO:-0700
TZNAME:PDT
DTSTART:20190310T100000
END:DAYLIGHT
BEGIN:STANDARD
TZOFFSETFROM:-0700
TZOFFSETTO:-0800
TZNAME:PST
DTSTART:20191103T090000
END:STANDARD
END:VTIMEZONE
BEGIN:VEVENT
DTSTART;VALUE=DATE:20181016
DTEND;VALUE=DATE:20181017
DTSTAMP:20260420T074751
CREATED:20181005T182356Z
LAST-MODIFIED:20181005T182356Z
UID:1144-1539648000-1539734399@elementary.sd42.ca
SUMMARY:Field Trips October 16
DESCRIPTION:Division 14 – ACT 12:30
URL:https://elementary.sd42.ca/kanakacreek/event/field-trips-october-16/
CATEGORIES:District Events
END:VEVENT
BEGIN:VEVENT
DTSTART;TZID=America/Vancouver:20181016T150000
DTEND;TZID=America/Vancouver:20181016T170000
DTSTAMP:20260420T074751
CREATED:20181005T182143Z
LAST-MODIFIED:20181005T182143Z
UID:1142-1539702000-1539709200@elementary.sd42.ca
SUMMARY:Girls Volley Ball Games
DESCRIPTION:Team #1 – Home vs Blue Mountain \nTeam#2 – Away @ Golden Ears
URL:https://elementary.sd42.ca/kanakacreek/event/girls-volley-ball-games-2/
CATEGORIES:District Events
END:VEVENT
END:VCALENDAR