BEGIN:VCALENDAR
VERSION:2.0
PRODID:-//Kanaka Creek Elementary - ECPv6.15.17//NONSGML v1.0//EN
CALSCALE:GREGORIAN
METHOD:PUBLISH
X-ORIGINAL-URL:https://elementary.sd42.ca/kanakacreek
X-WR-CALDESC:Events for Kanaka Creek Elementary
REFRESH-INTERVAL;VALUE=DURATION:PT1H
X-Robots-Tag:noindex
X-PUBLISHED-TTL:PT1H
BEGIN:VTIMEZONE
TZID:America/Vancouver
BEGIN:DAYLIGHT
TZOFFSETFROM:-0800
TZOFFSETTO:-0700
TZNAME:PDT
DTSTART:20170312T100000
END:DAYLIGHT
BEGIN:STANDARD
TZOFFSETFROM:-0700
TZOFFSETTO:-0800
TZNAME:PST
DTSTART:20171105T090000
END:STANDARD
BEGIN:DAYLIGHT
TZOFFSETFROM:-0800
TZOFFSETTO:-0700
TZNAME:PDT
DTSTART:20180311T100000
END:DAYLIGHT
BEGIN:STANDARD
TZOFFSETFROM:-0700
TZOFFSETTO:-0800
TZNAME:PST
DTSTART:20181104T090000
END:STANDARD
BEGIN:DAYLIGHT
TZOFFSETFROM:-0800
TZOFFSETTO:-0700
TZNAME:PDT
DTSTART:20190310T100000
END:DAYLIGHT
BEGIN:STANDARD
TZOFFSETFROM:-0700
TZOFFSETTO:-0800
TZNAME:PST
DTSTART:20191103T090000
END:STANDARD
END:VTIMEZONE
BEGIN:VEVENT
DTSTART;VALUE=DATE:20181009
DTEND;VALUE=DATE:20181010
DTSTAMP:20260420T140535
CREATED:20180920T172711Z
LAST-MODIFIED:20180920T173346Z
UID:1066-1539043200-1539129599@elementary.sd42.ca
SUMMARY:Fire Prevention Week October 9-12
DESCRIPTION:Maple Ridge Fire Department representatives will be visiting elementary schools September 24 – October 5 to deliver Fire Prevention Week materials for  primary classes. Again\, this year’s Fire Prevention Week contest has six iPads as prizes throughout the province instead of just one!    The same entry forms will generate Fire Chief for a Day winners in Maple Ridge – one boy and one girl.
URL:https://elementary.sd42.ca/kanakacreek/event/fire-prevention-week-october-8-12/
CATEGORIES:District Events
END:VEVENT
BEGIN:VEVENT
DTSTART;VALUE=DATE:20181009
DTEND;VALUE=DATE:20181010
DTSTAMP:20260420T140535
CREATED:20181005T181218Z
LAST-MODIFIED:20181005T181218Z
UID:1126-1539043200-1539129599@elementary.sd42.ca
SUMMARY:Field Trips October 9
DESCRIPTION:Division 13 – ACT
URL:https://elementary.sd42.ca/kanakacreek/event/field-trips-october-9/
CATEGORIES:District Events
END:VEVENT
BEGIN:VEVENT
DTSTART;TZID=America/Vancouver:20181009T150000
DTEND;TZID=America/Vancouver:20181009T170000
DTSTAMP:20260420T140535
CREATED:20181005T181121Z
LAST-MODIFIED:20181005T181121Z
UID:1124-1539097200-1539104400@elementary.sd42.ca
SUMMARY:Girls Volley Ball Games
DESCRIPTION:Team #1 – Away @ Webster’s Corners \nTeam #2- Home vs. Harry Hooge
URL:https://elementary.sd42.ca/kanakacreek/event/girls-volley-ball-games/
CATEGORIES:District Events
END:VEVENT
END:VCALENDAR