BEGIN:VCALENDAR
VERSION:2.0
PRODID:-//Highland Park Elementary - ECPv6.15.14//NONSGML v1.0//EN
CALSCALE:GREGORIAN
METHOD:PUBLISH
X-ORIGINAL-URL:https://elementary.sd42.ca/highlandpark
X-WR-CALDESC:Events for Highland Park Elementary
REFRESH-INTERVAL;VALUE=DURATION:PT1H
X-Robots-Tag:noindex
X-PUBLISHED-TTL:PT1H
BEGIN:VTIMEZONE
TZID:America/Vancouver
BEGIN:DAYLIGHT
TZOFFSETFROM:-0800
TZOFFSETTO:-0700
TZNAME:PDT
DTSTART:20240310T100000
END:DAYLIGHT
BEGIN:STANDARD
TZOFFSETFROM:-0700
TZOFFSETTO:-0800
TZNAME:PST
DTSTART:20241103T090000
END:STANDARD
BEGIN:DAYLIGHT
TZOFFSETFROM:-0800
TZOFFSETTO:-0700
TZNAME:PDT
DTSTART:20250309T100000
END:DAYLIGHT
BEGIN:STANDARD
TZOFFSETFROM:-0700
TZOFFSETTO:-0800
TZNAME:PST
DTSTART:20251102T090000
END:STANDARD
BEGIN:DAYLIGHT
TZOFFSETFROM:-0800
TZOFFSETTO:-0700
TZNAME:PDT
DTSTART:20260308T100000
END:DAYLIGHT
BEGIN:STANDARD
TZOFFSETFROM:-0700
TZOFFSETTO:-0800
TZNAME:PST
DTSTART:20261101T090000
END:STANDARD
END:VTIMEZONE
BEGIN:VEVENT
DTSTART;VALUE=DATE:20251208
DTEND;VALUE=DATE:20251213
DTSTAMP:20260425T044049
CREATED:20251028T215538Z
LAST-MODIFIED:20251028T215538Z
UID:2124-1765152000-1765583999@elementary.sd42.ca
SUMMARY:Dec. 8-12 Book Fair
DESCRIPTION:
URL:https://elementary.sd42.ca/highlandpark/event/dec-8-12-book-fair/
END:VEVENT
BEGIN:VEVENT
DTSTART;VALUE=DATE:20251212
DTEND;VALUE=DATE:20251213
DTSTAMP:20260425T044049
CREATED:20251028T215651Z
LAST-MODIFIED:20251028T215651Z
UID:2128-1765497600-1765583999@elementary.sd42.ca
SUMMARY:Conferences - No school for students
DESCRIPTION:
URL:https://elementary.sd42.ca/highlandpark/event/conferences-no-school-for-students/
END:VEVENT
END:VCALENDAR