BEGIN:VCALENDAR
VERSION:2.0
PRODID:-//Hammond Elementary - ECPv6.15.14//NONSGML v1.0//EN
CALSCALE:GREGORIAN
METHOD:PUBLISH
X-WR-CALNAME:Hammond Elementary
X-ORIGINAL-URL:https://elementary.sd42.ca/hammond
X-WR-CALDESC:Events for Hammond Elementary
REFRESH-INTERVAL;VALUE=DURATION:PT1H
X-Robots-Tag:noindex
X-PUBLISHED-TTL:PT1H
BEGIN:VTIMEZONE
TZID:America/Vancouver
BEGIN:DAYLIGHT
TZOFFSETFROM:-0800
TZOFFSETTO:-0700
TZNAME:PDT
DTSTART:20240310T100000
END:DAYLIGHT
BEGIN:STANDARD
TZOFFSETFROM:-0700
TZOFFSETTO:-0800
TZNAME:PST
DTSTART:20241103T090000
END:STANDARD
BEGIN:DAYLIGHT
TZOFFSETFROM:-0800
TZOFFSETTO:-0700
TZNAME:PDT
DTSTART:20250309T100000
END:DAYLIGHT
BEGIN:STANDARD
TZOFFSETFROM:-0700
TZOFFSETTO:-0800
TZNAME:PST
DTSTART:20251102T090000
END:STANDARD
BEGIN:DAYLIGHT
TZOFFSETFROM:-0800
TZOFFSETTO:-0700
TZNAME:PDT
DTSTART:20260308T100000
END:DAYLIGHT
BEGIN:STANDARD
TZOFFSETFROM:-0700
TZOFFSETTO:-0800
TZNAME:PST
DTSTART:20261101T090000
END:STANDARD
END:VTIMEZONE
BEGIN:VEVENT
DTSTART;VALUE=DATE:20250502
DTEND;VALUE=DATE:20250503
DTSTAMP:20260422T050105
CREATED:20250122T184951Z
LAST-MODIFIED:20250122T184951Z
UID:3214-1746144000-1746230399@elementary.sd42.ca
SUMMARY:Grade 6/7's to Camp Jubilee
DESCRIPTION:
URL:https://elementary.sd42.ca/hammond/event/grade-6-7s-to-camp-jubilee/
END:VEVENT
BEGIN:VEVENT
DTSTART;TZID=America/Vancouver:20250513T150000
DTEND;TZID=America/Vancouver:20250513T170000
DTSTAMP:20260422T050105
CREATED:20250416T182714Z
LAST-MODIFIED:20250416T182714Z
UID:3250-1747148400-1747155600@elementary.sd42.ca
SUMMARY:Intermediate Cross Country Race
DESCRIPTION:
URL:https://elementary.sd42.ca/hammond/event/intermediate-cross-country-race-3/
END:VEVENT
BEGIN:VEVENT
DTSTART;VALUE=DATE:20250514
DTEND;VALUE=DATE:20250515
DTSTAMP:20260422T050105
CREATED:20240702T215820Z
LAST-MODIFIED:20240702T215820Z
UID:3029-1747180800-1747267199@elementary.sd42.ca
SUMMARY:Non-instructional day (district-based)
DESCRIPTION:School not in session.
URL:https://elementary.sd42.ca/hammond/event/non-instructional-day-district-based-12/
CATEGORIES:district calendar
END:VEVENT
BEGIN:VEVENT
DTSTART;TZID=America/Vancouver:20250515T120000
DTEND;TZID=America/Vancouver:20250515T140000
DTSTAMP:20260422T050105
CREATED:20250409T202803Z
LAST-MODIFIED:20250428T164225Z
UID:3247-1747310400-1747317600@elementary.sd42.ca
SUMMARY:Ready\, Set\, Kindergarten
DESCRIPTION:
URL:https://elementary.sd42.ca/hammond/event/ready-set-kindergarten-4/
END:VEVENT
BEGIN:VEVENT
DTSTART;VALUE=DATE:20250519
DTEND;VALUE=DATE:20250520
DTSTAMP:20260422T050105
CREATED:20240702T215833Z
LAST-MODIFIED:20240702T215833Z
UID:3030-1747612800-1747699199@elementary.sd42.ca
SUMMARY:Victoria Day
DESCRIPTION:Statutory holiday. School not in session.
URL:https://elementary.sd42.ca/hammond/event/victoria-day-9/
CATEGORIES:district calendar
END:VEVENT
BEGIN:VEVENT
DTSTART;VALUE=DATE:20250521
DTEND;VALUE=DATE:20250522
DTSTAMP:20260422T050105
CREATED:20250416T182921Z
LAST-MODIFIED:20250416T182921Z
UID:3256-1747785600-1747871999@elementary.sd42.ca
SUMMARY:Grade 8 Day
DESCRIPTION:All Grade 7’s visit their high schools
URL:https://elementary.sd42.ca/hammond/event/grade-8-day-3/
END:VEVENT
BEGIN:VEVENT
DTSTART;TZID=America/Vancouver:20250521T150000
DTEND;TZID=America/Vancouver:20250521T170000
DTSTAMP:20260422T050105
CREATED:20250416T182832Z
LAST-MODIFIED:20250416T182832Z
UID:3254-1747839600-1747846800@elementary.sd42.ca
SUMMARY:Primary Cross Country
DESCRIPTION:Located at Albion Sports Complex
URL:https://elementary.sd42.ca/hammond/event/primary-cross-country/
END:VEVENT
END:VCALENDAR