BEGIN:VCALENDAR
VERSION:2.0
PRODID:-//Hammond Elementary - ECPv6.15.14//NONSGML v1.0//EN
CALSCALE:GREGORIAN
METHOD:PUBLISH
X-WR-CALNAME:Hammond Elementary
X-ORIGINAL-URL:https://elementary.sd42.ca/hammond
X-WR-CALDESC:Events for Hammond Elementary
REFRESH-INTERVAL;VALUE=DURATION:PT1H
X-Robots-Tag:noindex
X-PUBLISHED-TTL:PT1H
BEGIN:VTIMEZONE
TZID:America/Vancouver
BEGIN:DAYLIGHT
TZOFFSETFROM:-0800
TZOFFSETTO:-0700
TZNAME:PDT
DTSTART:20240310T100000
END:DAYLIGHT
BEGIN:STANDARD
TZOFFSETFROM:-0700
TZOFFSETTO:-0800
TZNAME:PST
DTSTART:20241103T090000
END:STANDARD
BEGIN:DAYLIGHT
TZOFFSETFROM:-0800
TZOFFSETTO:-0700
TZNAME:PDT
DTSTART:20250309T100000
END:DAYLIGHT
BEGIN:STANDARD
TZOFFSETFROM:-0700
TZOFFSETTO:-0800
TZNAME:PST
DTSTART:20251102T090000
END:STANDARD
BEGIN:DAYLIGHT
TZOFFSETFROM:-0800
TZOFFSETTO:-0700
TZNAME:PDT
DTSTART:20260308T100000
END:DAYLIGHT
BEGIN:STANDARD
TZOFFSETFROM:-0700
TZOFFSETTO:-0800
TZNAME:PST
DTSTART:20261101T090000
END:STANDARD
END:VTIMEZONE
BEGIN:VEVENT
DTSTART;VALUE=DATE:20250902
DTEND;VALUE=DATE:20250903
DTSTAMP:20260421T151418
CREATED:20241108T232924Z
LAST-MODIFIED:20241108T232924Z
UID:3110-1756771200-1756857599@elementary.sd42.ca
SUMMARY:School opens following summer holidays
DESCRIPTION:School opens following summer holidays.
URL:https://elementary.sd42.ca/hammond/event/school-opens-following-summer-holidays-9/
CATEGORIES:district calendar
END:VEVENT
BEGIN:VEVENT
DTSTART;TZID=America/Vancouver:20250902T123000
DTEND;TZID=America/Vancouver:20250902T142000
DTSTAMP:20260421T151418
CREATED:20250627T161448Z
LAST-MODIFIED:20250627T163003Z
UID:3280-1756816200-1756822800@elementary.sd42.ca
SUMMARY:First Day Back!
DESCRIPTION:Students welcome at 12:30 pm \nNew Students go to Library
URL:https://elementary.sd42.ca/hammond/event/first-day-back-2/
END:VEVENT
END:VCALENDAR