BEGIN:VCALENDAR
VERSION:2.0
PRODID:-//Hammond Elementary - ECPv6.15.14//NONSGML v1.0//EN
CALSCALE:GREGORIAN
METHOD:PUBLISH
X-ORIGINAL-URL:https://elementary.sd42.ca/hammond
X-WR-CALDESC:Events for Hammond Elementary
REFRESH-INTERVAL;VALUE=DURATION:PT1H
X-Robots-Tag:noindex
X-PUBLISHED-TTL:PT1H
BEGIN:VTIMEZONE
TZID:America/Vancouver
BEGIN:DAYLIGHT
TZOFFSETFROM:-0800
TZOFFSETTO:-0700
TZNAME:PDT
DTSTART:20240310T100000
END:DAYLIGHT
BEGIN:STANDARD
TZOFFSETFROM:-0700
TZOFFSETTO:-0800
TZNAME:PST
DTSTART:20241103T090000
END:STANDARD
BEGIN:DAYLIGHT
TZOFFSETFROM:-0800
TZOFFSETTO:-0700
TZNAME:PDT
DTSTART:20250309T100000
END:DAYLIGHT
BEGIN:STANDARD
TZOFFSETFROM:-0700
TZOFFSETTO:-0800
TZNAME:PST
DTSTART:20251102T090000
END:STANDARD
BEGIN:DAYLIGHT
TZOFFSETFROM:-0800
TZOFFSETTO:-0700
TZNAME:PDT
DTSTART:20260308T100000
END:DAYLIGHT
BEGIN:STANDARD
TZOFFSETFROM:-0700
TZOFFSETTO:-0800
TZNAME:PST
DTSTART:20261101T090000
END:STANDARD
END:VTIMEZONE
BEGIN:VEVENT
DTSTART;VALUE=DATE:20250423
DTEND;VALUE=DATE:20250426
DTSTAMP:20260425T213823
CREATED:20250122T184840Z
LAST-MODIFIED:20250122T184840Z
UID:3212-1745366400-1745625599@elementary.sd42.ca
SUMMARY:Book Fair
DESCRIPTION:
URL:https://elementary.sd42.ca/hammond/event/book-fair-23/
END:VEVENT
BEGIN:VEVENT
DTSTART;TZID=America/Vancouver:20250424T120000
DTEND;TZID=America/Vancouver:20250424T123000
DTSTAMP:20260425T213823
CREATED:20250313T164530Z
LAST-MODIFIED:20250313T164530Z
UID:3239-1745496000-1745497800@elementary.sd42.ca
SUMMARY:PAC Hot Lunch - Fuel Catering
DESCRIPTION:
URL:https://elementary.sd42.ca/hammond/event/pac-hot-lunch-fuel-catering/
END:VEVENT
END:VCALENDAR