BEGIN:VCALENDAR
VERSION:2.0
PRODID:-//Golden Ears Elementary - ECPv6.15.14//NONSGML v1.0//EN
CALSCALE:GREGORIAN
METHOD:PUBLISH
X-WR-CALNAME:Golden Ears Elementary
X-ORIGINAL-URL:https://elementary.sd42.ca/goldenears
X-WR-CALDESC:Events for Golden Ears Elementary
REFRESH-INTERVAL;VALUE=DURATION:PT1H
X-Robots-Tag:noindex
X-PUBLISHED-TTL:PT1H
BEGIN:VTIMEZONE
TZID:America/Vancouver
BEGIN:DAYLIGHT
TZOFFSETFROM:-0800
TZOFFSETTO:-0700
TZNAME:PDT
DTSTART:20240310T100000
END:DAYLIGHT
BEGIN:STANDARD
TZOFFSETFROM:-0700
TZOFFSETTO:-0800
TZNAME:PST
DTSTART:20241103T090000
END:STANDARD
BEGIN:DAYLIGHT
TZOFFSETFROM:-0800
TZOFFSETTO:-0700
TZNAME:PDT
DTSTART:20250309T100000
END:DAYLIGHT
BEGIN:STANDARD
TZOFFSETFROM:-0700
TZOFFSETTO:-0800
TZNAME:PST
DTSTART:20251102T090000
END:STANDARD
BEGIN:DAYLIGHT
TZOFFSETFROM:-0800
TZOFFSETTO:-0700
TZNAME:PDT
DTSTART:20260308T100000
END:DAYLIGHT
BEGIN:STANDARD
TZOFFSETFROM:-0700
TZOFFSETTO:-0800
TZNAME:PST
DTSTART:20261101T090000
END:STANDARD
END:VTIMEZONE
BEGIN:VEVENT
DTSTART;TZID=America/Vancouver:20250129T120000
DTEND;TZID=America/Vancouver:20250204T235900
DTSTAMP:20260423T024018
CREATED:20250114T180655Z
LAST-MODIFIED:20250114T180655Z
UID:2620-1738152000-1738713540@elementary.sd42.ca
SUMMARY:Kindergarten General Registration
DESCRIPTION:Any child who turns five years old in 2025 (born in 2020) will be eligible to register for the 2025/26 school year.
URL:https://elementary.sd42.ca/goldenears/event/kindergarten-general-registration/
CATEGORIES:District Events
END:VEVENT
BEGIN:VEVENT
DTSTART;TZID=America/Vancouver:20250211T120000
DTEND;TZID=America/Vancouver:20250225T235900
DTSTAMP:20260423T024018
CREATED:20250114T181310Z
LAST-MODIFIED:20250114T181310Z
UID:2624-1739275200-1740527940@elementary.sd42.ca
SUMMARY:Grade 8 Transfer Period
DESCRIPTION:To provide an optimal learning environment for all students\, the Maple Ridge – Pitt Meadows School District No. 42 (SD42) must manage enrolment across all schools\, ensuring that enrolment numbers match building capacity. \n“Where space and facility is determined to be available\,” the school district has an open boundary policy that allows flexibility in choice regarding which secondary school students may attend (School Act section 74.1 Section 6). Due to increasing enrolment in recent years\, however\, the majority of students are assigned to their catchment school. All our high schools meet the needs of all learners. \nIn-District Students: Families with children currently enrolled in a Maple Ridge – Pitt Meadows School District (SD42) elementary school should submit an Existing Student Transfer Request in the Grade 8 Transfer Period. \nOut-of-District Students: Families with children currently enrolled in an elementary school outside of the Maple Ridge – Pitt Meadows School District (SD42) should submit a New Student Registration in the Grade 8 Transfer Period.
URL:https://elementary.sd42.ca/goldenears/event/grade-8-transfer-period/
CATEGORIES:District Events
END:VEVENT
END:VCALENDAR