BEGIN:VCALENDAR
VERSION:2.0
PRODID:-//Glenwood Elementary - ECPv6.15.14//NONSGML v1.0//EN
CALSCALE:GREGORIAN
METHOD:PUBLISH
X-ORIGINAL-URL:https://elementary.sd42.ca/glenwood
X-WR-CALDESC:Events for Glenwood Elementary
REFRESH-INTERVAL;VALUE=DURATION:PT1H
X-Robots-Tag:noindex
X-PUBLISHED-TTL:PT1H
BEGIN:VTIMEZONE
TZID:America/Vancouver
BEGIN:DAYLIGHT
TZOFFSETFROM:-0800
TZOFFSETTO:-0700
TZNAME:PDT
DTSTART:20230312T100000
END:DAYLIGHT
BEGIN:STANDARD
TZOFFSETFROM:-0700
TZOFFSETTO:-0800
TZNAME:PST
DTSTART:20231105T090000
END:STANDARD
BEGIN:DAYLIGHT
TZOFFSETFROM:-0800
TZOFFSETTO:-0700
TZNAME:PDT
DTSTART:20240310T100000
END:DAYLIGHT
BEGIN:STANDARD
TZOFFSETFROM:-0700
TZOFFSETTO:-0800
TZNAME:PST
DTSTART:20241103T090000
END:STANDARD
BEGIN:DAYLIGHT
TZOFFSETFROM:-0800
TZOFFSETTO:-0700
TZNAME:PDT
DTSTART:20250309T100000
END:DAYLIGHT
BEGIN:STANDARD
TZOFFSETFROM:-0700
TZOFFSETTO:-0800
TZNAME:PST
DTSTART:20251102T090000
END:STANDARD
END:VTIMEZONE
BEGIN:VEVENT
DTSTART;VALUE=DATE:20240401
DTEND;VALUE=DATE:20240402
DTSTAMP:20260424T200631
CREATED:20230418T201537Z
LAST-MODIFIED:20230418T201537Z
UID:5598-1711929600-1712015999@elementary.sd42.ca
SUMMARY:Easter Monday
DESCRIPTION:School not in session.
URL:https://elementary.sd42.ca/glenwood/event/easter-monday-7/
CATEGORIES:district calendar
END:VEVENT
BEGIN:VEVENT
DTSTART;VALUE=DATE:20240402
DTEND;VALUE=DATE:20240403
DTSTAMP:20260424T200631
CREATED:20230418T201538Z
LAST-MODIFIED:20230418T201538Z
UID:5599-1712016000-1712102399@elementary.sd42.ca
SUMMARY:School reopens after break
DESCRIPTION:School reopens after break.
URL:https://elementary.sd42.ca/glenwood/event/school-reopens-after-break-6/
CATEGORIES:district calendar
END:VEVENT
BEGIN:VEVENT
DTSTART;TZID=America/Vancouver:20240416T180000
DTEND;TZID=America/Vancouver:20240416T190000
DTSTAMP:20260424T200631
CREATED:20240311T183314Z
LAST-MODIFIED:20240311T183314Z
UID:6128-1713290400-1713294000@elementary.sd42.ca
SUMMARY:PAC Meeting
DESCRIPTION:
URL:https://elementary.sd42.ca/glenwood/event/pac-meeting-22/
ATTACH;FMTTYPE=image/jpeg:https://wordpress1.blob.core.windows.net/glenwood/2024/03/PAC-Mtg.jpeg
END:VEVENT
BEGIN:VEVENT
DTSTART;TZID=America/Vancouver:20240417T084500
DTEND;TZID=America/Vancouver:20240417T140000
DTSTAMP:20260424T200631
CREATED:20240313T155221Z
LAST-MODIFIED:20240313T155221Z
UID:6142-1713343500-1713362400@elementary.sd42.ca
SUMMARY:Div. 8 Hiking F.T.
DESCRIPTION:
URL:https://elementary.sd42.ca/glenwood/event/div-8-hiking-f-t/
END:VEVENT
BEGIN:VEVENT
DTSTART;VALUE=DATE:20240426
DTEND;VALUE=DATE:20240427
DTSTAMP:20260424T200631
CREATED:20240215T190147Z
LAST-MODIFIED:20240215T190147Z
UID:6084-1714089600-1714175999@elementary.sd42.ca
SUMMARY:V.I.P. Day
DESCRIPTION:Very Important Person Day \nMore info to come!
URL:https://elementary.sd42.ca/glenwood/event/v-i-p-day-2/
END:VEVENT
BEGIN:VEVENT
DTSTART;VALUE=DATE:20240430
DTEND;VALUE=DATE:20240501
DTSTAMP:20260424T200631
CREATED:20240215T225153Z
LAST-MODIFIED:20240215T230518Z
UID:6088-1714435200-1714521599@elementary.sd42.ca
SUMMARY:Glenwood Public Speaking Event
DESCRIPTION:
URL:https://elementary.sd42.ca/glenwood/event/glenwood-public-speaking-event/
END:VEVENT
END:VCALENDAR