BEGIN:VCALENDAR
VERSION:2.0
PRODID:-//Glenwood Elementary - ECPv6.15.14//NONSGML v1.0//EN
CALSCALE:GREGORIAN
METHOD:PUBLISH
X-ORIGINAL-URL:https://elementary.sd42.ca/glenwood
X-WR-CALDESC:Events for Glenwood Elementary
REFRESH-INTERVAL;VALUE=DURATION:PT1H
X-Robots-Tag:noindex
X-PUBLISHED-TTL:PT1H
BEGIN:VTIMEZONE
TZID:America/Vancouver
BEGIN:DAYLIGHT
TZOFFSETFROM:-0800
TZOFFSETTO:-0700
TZNAME:PDT
DTSTART:20220313T100000
END:DAYLIGHT
BEGIN:STANDARD
TZOFFSETFROM:-0700
TZOFFSETTO:-0800
TZNAME:PST
DTSTART:20221106T090000
END:STANDARD
BEGIN:DAYLIGHT
TZOFFSETFROM:-0800
TZOFFSETTO:-0700
TZNAME:PDT
DTSTART:20230312T100000
END:DAYLIGHT
BEGIN:STANDARD
TZOFFSETFROM:-0700
TZOFFSETTO:-0800
TZNAME:PST
DTSTART:20231105T090000
END:STANDARD
BEGIN:DAYLIGHT
TZOFFSETFROM:-0800
TZOFFSETTO:-0700
TZNAME:PDT
DTSTART:20240310T100000
END:DAYLIGHT
BEGIN:STANDARD
TZOFFSETFROM:-0700
TZOFFSETTO:-0800
TZNAME:PST
DTSTART:20241103T090000
END:STANDARD
END:VTIMEZONE
BEGIN:VEVENT
DTSTART;VALUE=DATE:20231101
DTEND;VALUE=DATE:20231102
DTSTAMP:20260423T132803
CREATED:20231017T212456Z
LAST-MODIFIED:20231017T212651Z
UID:5862-1698796800-1698883199@elementary.sd42.ca
SUMMARY:Pajama Day
DESCRIPTION:
URL:https://elementary.sd42.ca/glenwood/event/pajama-day/
END:VEVENT
BEGIN:VEVENT
DTSTART;VALUE=DATE:20231109
DTEND;VALUE=DATE:20231110
DTSTAMP:20260423T132803
CREATED:20231017T213245Z
LAST-MODIFIED:20231017T213245Z
UID:5866-1699488000-1699574399@elementary.sd42.ca
SUMMARY:Remembrance Day Assemblies
DESCRIPTION:Primary @ 9:30 am \nIntermediate @ 10:45 am
URL:https://elementary.sd42.ca/glenwood/event/remembrance-day-assemblies/
END:VEVENT
BEGIN:VEVENT
DTSTART;VALUE=DATE:20231110
DTEND;VALUE=DATE:20231111
DTSTAMP:20260423T132803
CREATED:20230418T201526Z
LAST-MODIFIED:20230418T201526Z
UID:5586-1699574400-1699660799@elementary.sd42.ca
SUMMARY:Non-instructional day (school-based)
DESCRIPTION:School not in session.
URL:https://elementary.sd42.ca/glenwood/event/non-instructional-day-school-based-12/
CATEGORIES:district calendar
END:VEVENT
BEGIN:VEVENT
DTSTART;VALUE=DATE:20231110
DTEND;VALUE=DATE:20231125
DTSTAMP:20260423T132803
CREATED:20231110T160007Z
LAST-MODIFIED:20231114T203218Z
UID:5854-1699574400-1700870399@elementary.sd42.ca
SUMMARY:Purdy's Chocolate PAC Fundraiser
DESCRIPTION:Purdy’s Chocolate Christmas Treat Fundraiser will run online from November 10-24\, with orders being delivered to the school the first week of December.  Our goal this year is $1000.00 in sales!! \nLink to the fundraiser: \nhttps://fundraising.purdys.com/4022-107790
URL:https://elementary.sd42.ca/glenwood/event/purdys-chocolate-pac-fundraiser/
ATTACH;FMTTYPE=image/jpeg:https://wordpress1.blob.core.windows.net/glenwood/2021/11/Purdys-Logo.jpg
END:VEVENT
BEGIN:VEVENT
DTSTART;VALUE=DATE:20231113
DTEND;VALUE=DATE:20231114
DTSTAMP:20260423T132803
CREATED:20230418T201527Z
LAST-MODIFIED:20230418T201527Z
UID:5587-1699833600-1699919999@elementary.sd42.ca
SUMMARY:Remembrance Day
DESCRIPTION:Statutory holiday. School not in session.
URL:https://elementary.sd42.ca/glenwood/event/remembrance-day-6/
CATEGORIES:district calendar
END:VEVENT
BEGIN:VEVENT
DTSTART;TZID=America/Vancouver:20231114T190000
DTEND;TZID=America/Vancouver:20231114T203000
DTSTAMP:20260423T132803
CREATED:20231114T223936Z
LAST-MODIFIED:20231114T223948Z
UID:5915-1699988400-1699993800@elementary.sd42.ca
SUMMARY:Body Science Education - Parent Presentation
DESCRIPTION:Each year\, throughout BC\, students in elementary grades receive instruction in sexual health education. Instruction is mandated for all BC students by the Ministry of Education\, and it is included in the Physical and Health Education program. On occasion\, some schools bring in experts in the field to address the topic with the school community. We are please to inform you that this year\, our PAC has sponsored for Corinne Underwood of Choices for Sexual Health to visit the school to work with parents and students in kindergarten to Grade 7. \nThere will be a presentation for parents on Tuesday\, November 14 from 7:00-8:30 pm in our school library. \nStudent presentations will take place during classes on November 20 & 21. \nIf you do not wish for your child to attend\, we ask that you notify our school office by returning the completed form no later than Wednesday\, November 15. IMPORTANT -> Please to ensure you check off “√” the corresponding section/s. \nPlease see the (green) paper copy of the form below sent home with students.
URL:https://elementary.sd42.ca/glenwood/event/body-science-education-parent-presentation/
END:VEVENT
BEGIN:VEVENT
DTSTART;TZID=America/Vancouver:20231116T180000
DTEND;TZID=America/Vancouver:20231116T190000
DTSTAMP:20260423T132803
CREATED:20231011T213551Z
LAST-MODIFIED:20231011T213551Z
UID:5841-1700157600-1700161200@elementary.sd42.ca
SUMMARY:PAC Meeting
DESCRIPTION:Parent Advisory Council meeting in the school library.
URL:https://elementary.sd42.ca/glenwood/event/pac-meeting-17/
ATTACH;FMTTYPE=image/png:https://wordpress1.blob.core.windows.net/glenwood/2021/11/PAC.png
END:VEVENT
BEGIN:VEVENT
DTSTART;TZID=America/Vancouver:20231117T120000
DTEND;TZID=America/Vancouver:20231117T120000
DTSTAMP:20260423T132803
CREATED:20231019T204930Z
LAST-MODIFIED:20231019T204954Z
UID:5872-1700222400-1700222400@elementary.sd42.ca
SUMMARY:PAC Subway Lunch
DESCRIPTION:Order online:  https://munchalunch.com/schools/glenwood/ \n \n\n 
URL:https://elementary.sd42.ca/glenwood/event/pac-subway-lunch-7/
ATTACH;FMTTYPE=image/jpeg:https://wordpress1.blob.core.windows.net/glenwood/2017/07/Subway-Reminder.jpg
END:VEVENT
BEGIN:VEVENT
DTSTART;VALUE=DATE:20231120
DTEND;VALUE=DATE:20231122
DTSTAMP:20260423T132803
CREATED:20231114T224255Z
LAST-MODIFIED:20231114T224255Z
UID:5917-1700438400-1700611199@elementary.sd42.ca
SUMMARY:Body Science Education - Student Presentations
DESCRIPTION:Each year\, throughout BC\, students in elementary grades receive instruction in sexual health education. Instruction is mandated for all BC students by the Ministry of Education\, and it is included in the Physical and Health Education program. On occasion\, some schools bring in experts in the field to address the topic with the school community. We are please to inform you that this year\, our PAC has sponsored for Corinne Underwood of Choices for Sexual Health to visit the school to work with parents and students in kindergarten to Grade 7. \nThere will be a presentation for parents on Tuesday\, November 14 from 7:00-8:30 pm in our school library. \nStudent presentations will take place during classes on November 20 & 21. \nIf you do not wish for your child to attend\, we ask that you notify our school office by returning the completed form no later than Wednesday\, November 15. IMPORTANT -> Please to ensure you check off “√” the corresponding section/s. \nPlease see the (green) paper copy of the form below sent home with students last week. \n  \n 
URL:https://elementary.sd42.ca/glenwood/event/body-science-education-student-presentations/
END:VEVENT
BEGIN:VEVENT
DTSTART;VALUE=DATE:20231122
DTEND;VALUE=DATE:20231123
DTSTAMP:20260423T132803
CREATED:20231114T193503Z
LAST-MODIFIED:20231114T193504Z
UID:5910-1700611200-1700697599@elementary.sd42.ca
SUMMARY:Crazy Hair Day
DESCRIPTION:
URL:https://elementary.sd42.ca/glenwood/event/crazy-hair-day/
ATTACH;FMTTYPE=image/jpeg:https://wordpress1.blob.core.windows.net/glenwood/2017/07/Crazy-hair-day.jpg
END:VEVENT
BEGIN:VEVENT
DTSTART;TZID=America/Vancouver:20231122T143000
DTEND;TZID=America/Vancouver:20231122T153000
DTSTAMP:20260423T132803
CREATED:20231114T224432Z
LAST-MODIFIED:20231114T224432Z
UID:5919-1700663400-1700667000@elementary.sd42.ca
SUMMARY:Gr. 7 Parent Meeting
DESCRIPTION:We will be having a Grade 7 Parent meeting on Wednesday\, November 22 after school at 2:30 pm to discuss: hoodies\, grade 7 field trip\, fundraising\, and the year-end ceremony.  Please meet in Ms. Ferguson’s classroom – Room 1006.
URL:https://elementary.sd42.ca/glenwood/event/gr-7-parent-meeting-2/
END:VEVENT
BEGIN:VEVENT
DTSTART;TZID=America/Vancouver:20231127T100000
DTEND;TZID=America/Vancouver:20231127T120000
DTSTAMP:20260423T132803
CREATED:20231114T224723Z
LAST-MODIFIED:20231114T224723Z
UID:5921-1701079200-1701086400@elementary.sd42.ca
SUMMARY:Gr. 6 Immunizations
DESCRIPTION:Gr. 6 Immunizations \n\n\n\nFraser Health will be offering immunizations to Grade 6 students at Glenwood on Monday\, November 27.  Signed parent/guardian consent will be required.  Please watch for consent forms coming home with each Grade 6 student this week.
URL:https://elementary.sd42.ca/glenwood/event/gr-6-immunizations-4/
END:VEVENT
END:VCALENDAR