BEGIN:VCALENDAR
VERSION:2.0
PRODID:-//Glenwood Elementary - ECPv6.15.14//NONSGML v1.0//EN
CALSCALE:GREGORIAN
METHOD:PUBLISH
X-ORIGINAL-URL:https://elementary.sd42.ca/glenwood
X-WR-CALDESC:Events for Glenwood Elementary
REFRESH-INTERVAL;VALUE=DURATION:PT1H
X-Robots-Tag:noindex
X-PUBLISHED-TTL:PT1H
BEGIN:VTIMEZONE
TZID:America/Vancouver
BEGIN:DAYLIGHT
TZOFFSETFROM:-0800
TZOFFSETTO:-0700
TZNAME:PDT
DTSTART:20220313T100000
END:DAYLIGHT
BEGIN:STANDARD
TZOFFSETFROM:-0700
TZOFFSETTO:-0800
TZNAME:PST
DTSTART:20221106T090000
END:STANDARD
BEGIN:DAYLIGHT
TZOFFSETFROM:-0800
TZOFFSETTO:-0700
TZNAME:PDT
DTSTART:20230312T100000
END:DAYLIGHT
BEGIN:STANDARD
TZOFFSETFROM:-0700
TZOFFSETTO:-0800
TZNAME:PST
DTSTART:20231105T090000
END:STANDARD
BEGIN:DAYLIGHT
TZOFFSETFROM:-0800
TZOFFSETTO:-0700
TZNAME:PDT
DTSTART:20240310T100000
END:DAYLIGHT
BEGIN:STANDARD
TZOFFSETFROM:-0700
TZOFFSETTO:-0800
TZNAME:PST
DTSTART:20241103T090000
END:STANDARD
END:VTIMEZONE
BEGIN:VEVENT
DTSTART;TZID=America/Vancouver:20230222T120000
DTEND;TZID=America/Vancouver:20230630T235900
DTSTAMP:20260420T072917
CREATED:20230109T202126Z
LAST-MODIFIED:20230704T215612Z
UID:5418-1677067200-1688169540@elementary.sd42.ca
SUMMARY:Kindergarten Registration 2023-24 - Late Phase
DESCRIPTION:Welcome to the Maple Ridge – Pitt Meadows School District (SD42). We are proud to be one of BC’s most innovative school districts and make it our mission to ensure that all our learners feel valued and reach their potential. Download our Programs of Choice booklet to learn about some of the dynamic programs offered in our district. \nFor information about our online registration process\, including registration phases\, required supporting documentation and acceptance criteria\, explore the sections below or download our brochure.
URL:https://elementary.sd42.ca/glenwood/event/kindergarten-registration-2023-24-late-phase/
ATTACH;FMTTYPE=image/jpeg:https://wordpress1.blob.core.windows.net/glenwood/2017/07/K-Registration-2022-2023.jpg
END:VEVENT
BEGIN:VEVENT
DTSTART;VALUE=DATE:20230529
DTEND;VALUE=DATE:20230603
DTSTAMP:20260420T072917
CREATED:20230525T150051Z
LAST-MODIFIED:20230525T183353Z
UID:5569-1685318400-1685750399@elementary.sd42.ca
SUMMARY:Bike to School Week May 29 - June 2
DESCRIPTION:Bike to School Week is an annual celebration where we encourage students of all ages to bike\, roll\, or walk to school. Active travel to and from school is associated with positive environmental\, social\, and safety benefits for students of all ages. \nWhy should students bike to school? \n\nBiking to school helps students meet the daily physical activity targets suggested by the World Health Organization\, which have been shown to improve control over symptoms of anxiety and depression.\nBiking to school creates healthy and energized students who are ready to learn.\nMore bikes means less congestion and cleaner air around schools.\n\nRemember to wear your helmets and bring a bike lock!
URL:https://elementary.sd42.ca/glenwood/event/bike-to-school-week-may-29-june-2/
ATTACH;FMTTYPE=image/jpeg:https://wordpress1.blob.core.windows.net/glenwood/2023/03/Bike-to-School-Week.jpg
END:VEVENT
BEGIN:VEVENT
DTSTART;TZID=America/Vancouver:20230606T183000
DTEND;TZID=America/Vancouver:20230606T203000
DTSTAMP:20260420T072917
CREATED:20230525T210009Z
LAST-MODIFIED:20230525T211028Z
UID:5478-1686076200-1686083400@elementary.sd42.ca
SUMMARY:PAC Annual General Meeting + Elections for 2023/2024
DESCRIPTION:Glenwood PAC would like to invite you to our next PAC meeting followed by our Annual General Meeting on Tuesday June 6 at 6:30 pm in the school library.  Incoming Kindergarten parents welcomed and encouraged! \nOur agenda will cover current funds available\, funding requests from teachers\, as well as our PAC Executive nominations and elections. Please see attached for more details regarding nominations and how you can get involved!  Hope to see you there! \nIf you have any questions about the nomination process\, PAC roles or general inquires please email Samantha Hathaway at glenwood.pac@gmail.com. \nPAC Nomination Notice
URL:https://elementary.sd42.ca/glenwood/event/pac-meeting-agm-last-meeting/
ATTACH;FMTTYPE=image/jpeg:https://wordpress1.blob.core.windows.net/glenwood/2022/12/PAC-meeting.jpg
END:VEVENT
BEGIN:VEVENT
DTSTART;TZID=America/Vancouver:20230609T120000
DTEND;TZID=America/Vancouver:20230609T120000
DTSTAMP:20260420T072917
CREATED:20230223T214211Z
LAST-MODIFIED:20230302T190919Z
UID:5538-1686312000-1686312000@elementary.sd42.ca
SUMMARY:Subway P.A.C. Lunch
DESCRIPTION:Order online @ https://munchalunch.com/schools/glenwood/ by May 31
URL:https://elementary.sd42.ca/glenwood/event/subway-p-a-c-lunch-2/
ATTACH;FMTTYPE=image/jpeg:https://wordpress1.blob.core.windows.net/glenwood/2023/02/Subway-May-31st.jpg
END:VEVENT
BEGIN:VEVENT
DTSTART;TZID=America/Vancouver:20230609T135000
DTEND;TZID=America/Vancouver:20230609T141000
DTSTAMP:20260420T072917
CREATED:20230525T190330Z
LAST-MODIFIED:20230525T190330Z
UID:5704-1686318600-1686319800@elementary.sd42.ca
SUMMARY:Fire Drill
DESCRIPTION:
URL:https://elementary.sd42.ca/glenwood/event/fire-drill/
ATTACH;FMTTYPE=image/jpeg:https://wordpress1.blob.core.windows.net/glenwood/2023/05/fire_drill.jpg
END:VEVENT
BEGIN:VEVENT
DTSTART;VALUE=DATE:20230614
DTEND;VALUE=DATE:20230615
DTSTAMP:20260420T072917
CREATED:20230525T181101Z
LAST-MODIFIED:20230525T191057Z
UID:5186-1686700800-1686787199@elementary.sd42.ca
SUMMARY:Track & Field
DESCRIPTION:For Gr. 4/5 students that qualified for District Event @ Maple Ridge Secondary
URL:https://elementary.sd42.ca/glenwood/event/track-field/
END:VEVENT
BEGIN:VEVENT
DTSTART;VALUE=DATE:20230615
DTEND;VALUE=DATE:20230616
DTSTAMP:20260420T072917
CREATED:20230525T181127Z
LAST-MODIFIED:20230525T191230Z
UID:5188-1686787200-1686873599@elementary.sd42.ca
SUMMARY:Track & Field
DESCRIPTION:For Gr. 6/7 students that qualified for District Event @ Maple Ridge Secondary
URL:https://elementary.sd42.ca/glenwood/event/track-field-2/
END:VEVENT
BEGIN:VEVENT
DTSTART;VALUE=DATE:20230616
DTEND;VALUE=DATE:20230617
DTSTAMP:20260420T072917
CREATED:20230525T181006Z
LAST-MODIFIED:20230525T192325Z
UID:5184-1686873600-1686959999@elementary.sd42.ca
SUMMARY:Glenwood Pride Parade
DESCRIPTION:
URL:https://elementary.sd42.ca/glenwood/event/glenwood-pride-parade/
ATTACH;FMTTYPE=image/jpeg:https://wordpress1.blob.core.windows.net/glenwood/2022/06/pride-parade.jpg
END:VEVENT
BEGIN:VEVENT
DTSTART;VALUE=DATE:20230621
DTEND;VALUE=DATE:20230622
DTSTAMP:20260420T072917
CREATED:20230525T192549Z
LAST-MODIFIED:20230525T192557Z
UID:5710-1687305600-1687391999@elementary.sd42.ca
SUMMARY:National Indigenous People's Day
DESCRIPTION:
URL:https://elementary.sd42.ca/glenwood/event/national-indigenous-peoples-day-4/
ATTACH;FMTTYPE=image/png:https://wordpress1.blob.core.windows.net/glenwood/2023/05/National-Indigenous-Peoples-Day.png
END:VEVENT
BEGIN:VEVENT
DTSTART;TZID=America/Vancouver:20230623T120000
DTEND;TZID=America/Vancouver:20230623T120000
DTSTAMP:20260420T072917
CREATED:20230223T214327Z
LAST-MODIFIED:20230302T190623Z
UID:5540-1687521600-1687521600@elementary.sd42.ca
SUMMARY:Little Caesar's P.A.C. Lunch
DESCRIPTION:Order online @ https://munchalunch.com/schools/glenwood/ by June 14
URL:https://elementary.sd42.ca/glenwood/event/little-caesars-p-a-c-lunch/
ATTACH;FMTTYPE=image/jpeg:https://wordpress1.blob.core.windows.net/glenwood/2023/02/Little-Caesars-June-14th.jpg
END:VEVENT
BEGIN:VEVENT
DTSTART;TZID=America/Vancouver:20230627T120000
DTEND;TZID=America/Vancouver:20230627T140000
DTSTAMP:20260420T072917
CREATED:20230525T193015Z
LAST-MODIFIED:20230525T193015Z
UID:5713-1687867200-1687874400@elementary.sd42.ca
SUMMARY:Gr. 7 Leaving Ceremony
DESCRIPTION:More information to come
URL:https://elementary.sd42.ca/glenwood/event/gr-7-leaving-ceremony-3/
END:VEVENT
BEGIN:VEVENT
DTSTART;TZID=America/Vancouver:20230629T093000
DTEND;TZID=America/Vancouver:20230629T100000
DTSTAMP:20260420T072917
CREATED:20230621T171206Z
LAST-MODIFIED:20230621T171206Z
UID:5743-1688031000-1688032800@elementary.sd42.ca
SUMMARY:K-Gr.2 Final Assembly
DESCRIPTION:
URL:https://elementary.sd42.ca/glenwood/event/k-gr-2-final-assembly/
END:VEVENT
BEGIN:VEVENT
DTSTART;TZID=America/Vancouver:20230629T110000
DTEND;TZID=America/Vancouver:20230629T113000
DTSTAMP:20260420T072917
CREATED:20230621T171259Z
LAST-MODIFIED:20230621T171259Z
UID:5745-1688036400-1688038200@elementary.sd42.ca
SUMMARY:Gr.3-7 Final Assembly
DESCRIPTION:
URL:https://elementary.sd42.ca/glenwood/event/gr-3-7-final-assembly/
END:VEVENT
BEGIN:VEVENT
DTSTART;TZID=America/Vancouver:20230629T120000
DTEND;TZID=America/Vancouver:20230629T120000
DTSTAMP:20260420T072917
CREATED:20230510T200011Z
LAST-MODIFIED:20230510T204336Z
UID:5075-1688040000-1688040000@elementary.sd42.ca
SUMMARY:Last day for students
DESCRIPTION:Students DISMISSED EARLY @ 12:00 Noon. \nLast day for students before summer break. \n 
URL:https://elementary.sd42.ca/glenwood/event/last-day-for-students-5/
CATEGORIES:district calendar
ATTACH;FMTTYPE=image/jpeg:https://wordpress1.blob.core.windows.net/glenwood/2023/04/Early-Dismissal.jpeg
END:VEVENT
BEGIN:VEVENT
DTSTART;VALUE=DATE:20230630
DTEND;VALUE=DATE:20230701
DTSTAMP:20260420T072917
CREATED:20220526T232812Z
LAST-MODIFIED:20220526T232812Z
UID:5076-1688083200-1688169599@elementary.sd42.ca
SUMMARY:Year-end administrative day
DESCRIPTION:Year-end administrative day.
URL:https://elementary.sd42.ca/glenwood/event/year-end-administrative-day-6/
CATEGORIES:district calendar
END:VEVENT
BEGIN:VEVENT
DTSTART;VALUE=DATE:20230630
DTEND;VALUE=DATE:20230701
DTSTAMP:20260420T072917
CREATED:20220526T232812Z
LAST-MODIFIED:20220526T232812Z
UID:5077-1688083200-1688169599@elementary.sd42.ca
SUMMARY:School closes for summer holidays
DESCRIPTION:School closes for summer holidays
URL:https://elementary.sd42.ca/glenwood/event/school-closes-for-summer-holidays-5/
CATEGORIES:district calendar
END:VEVENT
END:VCALENDAR